BEGIN:VCALENDAR
VERSION:2.0
PRODID:-//Celebrate This! - ECPv6.15.20//NONSGML v1.0//EN
CALSCALE:GREGORIAN
METHOD:PUBLISH
X-ORIGINAL-URL:https://celebratethis.holiday
X-WR-CALDESC:Events for Celebrate This!
REFRESH-INTERVAL;VALUE=DURATION:PT1H
X-Robots-Tag:noindex
X-PUBLISHED-TTL:PT1H
BEGIN:VTIMEZONE
TZID:America/New_York
BEGIN:DAYLIGHT
TZOFFSETFROM:-0500
TZOFFSETTO:-0400
TZNAME:EDT
DTSTART:20260308T070000
END:DAYLIGHT
BEGIN:STANDARD
TZOFFSETFROM:-0400
TZOFFSETTO:-0500
TZNAME:EST
DTSTART:20261101T060000
END:STANDARD
BEGIN:DAYLIGHT
TZOFFSETFROM:-0500
TZOFFSETTO:-0400
TZNAME:EDT
DTSTART:20270314T070000
END:DAYLIGHT
BEGIN:STANDARD
TZOFFSETFROM:-0400
TZOFFSETTO:-0500
TZNAME:EST
DTSTART:20271107T060000
END:STANDARD
BEGIN:DAYLIGHT
TZOFFSETFROM:-0500
TZOFFSETTO:-0400
TZNAME:EDT
DTSTART:20280312T070000
END:DAYLIGHT
BEGIN:STANDARD
TZOFFSETFROM:-0400
TZOFFSETTO:-0500
TZNAME:EST
DTSTART:20281105T060000
END:STANDARD
END:VTIMEZONE
BEGIN:VEVENT
DTSTART;VALUE=DATE:20270314
DTEND;VALUE=DATE:20270316
DTSTAMP:20260419T172257
CREATED:20250314T070752Z
LAST-MODIFIED:20250321T195229Z
UID:10000125-1804982400-1805072399@celebratethis.holiday
SUMMARY:National Pi Day
DESCRIPTION:The History\, Meaning\, and Ways to Celebrate Pi Day\nPi Day is more than just a quirky celebration for math enthusiasts. It’s a day that brings together people of all ages\, backgrounds\, and interests to honor a mathematical constant that has fascinated humanity for centuries. From its origins to its modern-day celebrations\, Pi Day is a unique blend of education\, fun\, and creativity. Let’s dive into the history\, meaning\, and ways to celebrate this special day. \n \nWhat is Pi?\nPi (π) is a mathematical constant representing the ratio of a circle’s circumference to its diameter. No matter the size of the circle\, this ratio always equals approximately 3.14159. Pi is an irrational number\, meaning its decimal representation never ends and never settles into a repeating pattern. This infinite quality has made pi a source of fascination for mathematicians\, scientists\, and even artists. \nThe symbol π was first used by Welsh mathematician William Jones in 1706. However\, the concept of pi dates back thousands of years. Ancient civilizations like the Babylonians and Egyptians approximated pi\, and the Greek mathematician Archimedes made significant strides in calculating it more accurately. Today\, pi is a cornerstone of geometry\, physics\, engineering\, and even space exploration. \n \nThe Origins of Pi Day\nPi Day was officially established in 1988 by physicist Larry Shaw at the San Francisco Exploratorium. Shaw\, known as the “Prince of Pi\,” organized the first celebration with staff and visitors marching around a circular space and eating fruit pies. The date\, March 14 (3/14)\, was chosen because it mirrors the first three digits of pi: 3.14. \nIn 2009\, the U.S. House of Representatives passed a resolution recognizing March 14 as National Pi Day. This formal acknowledgment helped Pi Day gain widespread popularity. Over time\, the celebration has grown beyond math circles\, becoming a global phenomenon that combines education\, creativity\, and community. \n \nWhy Pi Day Matters\nPi Day is more than just a fun excuse to eat pie. It’s a celebration of curiosity\, discovery\, and the universal language of mathematics. Pi’s infinite nature reminds us that there’s always more to learn and explore. It bridges the gap between abstract math and real-world applications\, showing how numbers shape our understanding of the universe. \nMoreover\, Pi Day encourages inclusivity. You don’t need to be a math whiz to join in. Whether you’re a student\, teacher\, artist\, or foodie\, there’s a place for you in the Pi Day festivities. It’s a day to celebrate learning\, creativity\, and the joy of discovery. \n \nFun Ways to Celebrate Pi Day\nReady to join the celebration? Here are some fun and inclusive ways to honor Pi Day\, whether you’re flying solo or gathering with friends and family. \n1. Bake a Pi-Themed Pie\nWhat’s Pi Day without pie? Baking a pie is a delicious way to celebrate. Get creative with your designs—use the pi symbol as a crust cutout or arrange fruit in the shape of π. If baking isn’t your thing\, grab a store-bought pie and enjoy it with loved ones. \n \n2. Host a Pi Recitation Contest\nChallenge your friends or classmates to a pi recitation contest. See who can memorize and recite the most digits of pi. The current world record is over 70\,000 digits\, but even remembering 10 digits is an impressive feat! \n3. Explore Pi Through Art\nPi’s infinite nature makes it a great inspiration for art. Create pi-themed drawings\, paintings\, or digital designs. You can also try making a pi bracelet by assigning each digit a color and stringing beads in the correct order. \n \n4. Watch Pi-Themed Movies or Shows\nPop some popcorn and enjoy a pi-themed movie night. Films like “Life of Pi” or “Pi” (a psychological thriller) offer unique perspectives on the number. For a lighter option\, check out educational videos or documentaries about pi’s history and significance. \n5. Participate in Math Challenges\nMany schools and organizations host Pi Day math competitions. Solve pi-related puzzles\, participate in a math scavenger hunt\, or try your hand at coding a program that calculates pi. These activities are a great way to sharpen your skills while having fun. \n\n6. Share Pi Facts on Social Media\nSpread the joy of Pi Day by sharing fun facts or memes about pi on social media. Use hashtags like #PiDay\, #MathIsFun\, or #InfinitePossibilities to connect with others celebrating around the world. \n7. Visit a Science Museum or Planetarium\nMany science museums and planetariums host special Pi Day events. These often include interactive exhibits\, pi-themed workshops\, and even pie-eating contests. Check your local listings to see what’s happening near you. \n \n8. Read About Pi’s History\nDive into the fascinating history of pi by reading books or articles about its discovery and significance. Some great options include “A History of Pi” by Petr Beckmann or “Sir Cumference and the Dragon of Pi” for younger readers. \n9. Donate to STEM Education\nCelebrate Pi Day by giving back. Consider donating to organizations that support STEM (science\, technology\, engineering\, and math) education. Your contribution can help inspire the next generation of mathematicians and scientists. \n \n10. Reflect on Pi’s Role in the Universe\nTake a moment to appreciate pi’s role in the world around us. From the orbits of planets to the structure of DNA\, pi is everywhere. Reflect on how this simple number connects us to the vastness of the universe. \nPi Day Around the World\nPi Day isn’t just an American tradition—it’s celebrated globally. In countries that use the day-month date format\, some people celebrate Pi Approximation Day on July 22 (22/7)\, as 22 divided by 7 is a common approximation of pi. Others stick to March 14 but add their own cultural twists. \nFor example\, in Japan\, people celebrate with pi-themed food and games. In India\, schools often host math competitions and pi recitation contests. No matter where you are\, Pi Day is a chance to connect with others through a shared love of learning and discovery. \n \nPi Day and Inclusivity\nOne of the best things about Pi Day is its inclusivity. It’s a celebration that welcomes everyone\, regardless of age\, background\, or math proficiency. Whether you’re solving complex equations or simply enjoying a slice of pie\, you’re part of the Pi Day community. \nTeachers can use Pi Day to make math more engaging for students. Parents can introduce young children to basic math concepts through fun activities. Even workplaces can join in by hosting pi-themed potlucks or trivia contests. Pi Day is a reminder that math isn’t just for mathematicians—it’s for everyone. \n \nThe Future of Pi Day\nAs technology advances\, so do the ways we celebrate Pi Day. Virtual reality experiences\, online math challenges\, and global collaborations are just a few possibilities for the future. Pi Day will continue to evolve\, but its core message will remain the same: celebrating the beauty and wonder of mathematics. \n \nFinal Thoughts\nPi Day is a unique celebration that combines history\, education\, and fun. It’s a day to honor a number that has shaped our understanding of the world and to inspire curiosity in others. Whether you’re baking a pie\, solving math problems\, or simply reflecting on pi’s significance\, you’re part of a global community that values learning and discovery. \nSo\, this March 14\, grab a slice of pie\, gather your friends\, and celebrate the infinite possibilities of Pi Day. After all\, as pi reminds us\, the joy of discovery never ends. \n“Please note that some of the links in this blog post are affiliate links. This means that if you click on a link and make a purchase\, I may receive a commission. This helps support my blog and allows me to continue creating content for you. Thank you for your support!”  \nMarch\nDaily Holidays ~ March\nWeekly Holidays~ March\nMonthly Holidays ~ March
URL:https://celebratethis.holiday/event/national-pi-day-march-14/2027-03-14/
CATEGORIES:Daily,Fun,International,National,Technology
ATTACH;FMTTYPE=image/jpeg:https://celebratethis.holiday/wp-content/uploads/2025/03/PZ6vToiUrnGCxpK5vYR6-0-t2x56.jpg
END:VEVENT
END:VCALENDAR