BEGIN:VCALENDAR
VERSION:2.0
PRODID:-//Celebrate This! - ECPv6.15.20//NONSGML v1.0//EN
CALSCALE:GREGORIAN
METHOD:PUBLISH
X-WR-CALNAME:Celebrate This!
X-ORIGINAL-URL:https://celebratethis.holiday
X-WR-CALDESC:Events for Celebrate This!
REFRESH-INTERVAL;VALUE=DURATION:PT1H
X-Robots-Tag:noindex
X-PUBLISHED-TTL:PT1H
BEGIN:VTIMEZONE
TZID:America/New_York
BEGIN:DAYLIGHT
TZOFFSETFROM:-0500
TZOFFSETTO:-0400
TZNAME:EDT
DTSTART:20240310T070000
END:DAYLIGHT
BEGIN:STANDARD
TZOFFSETFROM:-0400
TZOFFSETTO:-0500
TZNAME:EST
DTSTART:20241103T060000
END:STANDARD
BEGIN:DAYLIGHT
TZOFFSETFROM:-0500
TZOFFSETTO:-0400
TZNAME:EDT
DTSTART:20250309T070000
END:DAYLIGHT
BEGIN:STANDARD
TZOFFSETFROM:-0400
TZOFFSETTO:-0500
TZNAME:EST
DTSTART:20251102T060000
END:STANDARD
BEGIN:DAYLIGHT
TZOFFSETFROM:-0500
TZOFFSETTO:-0400
TZNAME:EDT
DTSTART:20260308T070000
END:DAYLIGHT
BEGIN:STANDARD
TZOFFSETFROM:-0400
TZOFFSETTO:-0500
TZNAME:EST
DTSTART:20261101T060000
END:STANDARD
END:VTIMEZONE
BEGIN:VEVENT
DTSTART;VALUE=DATE:20250318
DTEND;VALUE=DATE:20250319
DTSTAMP:20260419T104018
CREATED:20250318T061958Z
LAST-MODIFIED:20250321T200612Z
UID:10000144-1742256000-1742342399@celebratethis.holiday
SUMMARY:National Awkward Moments Day
DESCRIPTION:March\nDaily Holidays ~ March\nWeekly Holidays~ March\nMonthly Holidays ~ March \n  \nThe History\, Meaning\, and Ways to Celebrate Awkward Moments Day\nAwkward moments happen to everyone. Whether it’s tripping in public or saying the wrong thing at the wrong time\, these cringe-worthy experiences are universal. But what if we could embrace them instead of hiding from them? That’s where Awkward Moments Day comes in. Celebrated on March 18\, this quirky holiday encourages us to laugh at life’s uncomfortable situations and find joy in the imperfect. Let’s dive into the history\, meaning\, and fun ways to celebrate this unique day. \n— \nWhat Is Awkward Moments Day?\nAwkward Moments Day is all about embracing the uncomfortable. It’s a day to acknowledge those cringe-worthy\, face-palm-inducing moments that make us human. Instead of feeling embarrassed\, we’re encouraged to laugh\, share\, and connect over our shared awkwardness. \nThe day reminds us that no one is perfect. Everyone has moments they’d rather forget. By celebrating these experiences\, we can build empathy\, reduce stress\, and even boost our confidence. After all\, life is too short to take ourselves too seriously. \n— \nThe History of Awkward Moments Day\nThe origins of Awkward Moments Day are a bit\, well\, awkward. Unlike many holidays\, it doesn’t have a clear creator or backstory. Instead\, it seems to have emerged organically as a way to celebrate the humor in everyday mishaps. \nSome believe it started as an internet trend. Social media platforms like Twitter and Reddit have long been spaces where people share their awkward stories. Over time\, these shared experiences may have inspired a dedicated day to celebrate them. \nOthers think it was created by comedians or writers who wanted to highlight the humor in human imperfection. Regardless of its origins\, Awkward Moments Day has grown in popularity. Today\, it’s a lighthearted way to connect with others and find joy in the unexpected. \n— \nWhy Celebrate Awkward Moments?\nAwkward moments are more than just funny stories. They’re opportunities for growth and connection. Here’s why celebrating them matters: \n1. They Humanize Us\nAwkward moments remind us that no one is perfect. Sharing these experiences helps us feel less alone. It shows that everyone has moments they’d rather forget. \n2. They Build Empathy\nWhen we laugh at our own mistakes\, we become more understanding of others. Celebrating awkwardness fosters a sense of community and compassion. \n3. They Reduce Stress\nLaughter is a powerful stress reliever. By finding humor in awkward situations\, we can lighten our mood and improve our mental health. \n4. They Encourage Authenticity\nAwkward moments often happen when we’re being ourselves. Celebrating them encourages us to embrace our true selves\, flaws and all. \n— \nFun Ways to Celebrate Awkward Moments Day\nReady to embrace the awkward? Here are some creative and inclusive ways to celebrate Awkward Moments Day: \n1. Share Your Stories\nGather friends\, family\, or coworkers and share your most awkward moments. Whether it’s a Zoom meeting mishap or a wardrobe malfunction\, these stories are sure to bring laughter. \n2. Host an Awkward Talent Show\nEncourage everyone to showcase their quirkiest talents. From bad karaoke to questionable dance moves\, this is a chance to celebrate what makes us unique. \n3. Create an Awkward Photo Booth\nSet up a photo booth with props like fake mustaches\, oversized glasses\, and silly hats. Pose for awkward family photos or solo shots that capture the spirit of the day. \n4. Watch Awkward Movies or Shows\nHost a movie night featuring films or TV shows known for their cringe-worthy moments. Think *The Office*\, *Napoleon Dynamite*\, or *Bridesmaids*. \n5. Play Awkward Games\nTry games that encourage laughter and silliness. Charades\, Pictionary\, or even a round of “Never Have I Ever” can lead to plenty of awkward moments. \n6. Write an Awkward Journal\nReflect on your most embarrassing moments by writing them down. Not only is this therapeutic\, but it also creates a keepsake you can look back on and laugh about. \n7. Spread Kindness\nUse the day to uplift others. If you witness someone having an awkward moment\, offer a smile or a kind word. Small gestures can make a big difference. \n— \nHow to Embrace Awkwardness in Everyday Life\nAwkward Moments Day isn’t just a one-day event. It’s a mindset you can carry with you all year. Here’s how to embrace awkwardness in your daily life: \n1. Laugh at Yourself\nWhen something awkward happens\, don’t take it too seriously. Laugh it off and move on. Humor is a great way to diffuse tension. \n2. Practice Self-Compassion\nRemind yourself that everyone makes mistakes. Treat yourself with the same kindness you’d offer a friend. \n3. Step Out of Your Comfort Zone\nAwkward moments often happen when we try something new. Embrace these opportunities for growth\, even if they feel uncomfortable at first. \n4. Celebrate Imperfection\nLife is messy\, and that’s okay. Instead of striving for perfection\, focus on being authentic and true to yourself. \n— \nWhy Awkward Moments Matter\nAwkward moments are more than just funny stories. They’re reminders of our shared humanity. They show us that it’s okay to be imperfect\, to make mistakes\, and to laugh at ourselves. \nBy celebrating Awkward Moments Day\, we can build stronger connections\, reduce stress\, and embrace life’s imperfections. So\, the next time you find yourself in an awkward situation\, remember: it’s not a failure—it’s a story waiting to be told. \n— \nFinal Thoughts\nAwkward Moments Day is a celebration of life’s imperfections. It’s a chance to laugh\, connect\, and embrace the messy\, beautiful reality of being human. Whether you’re sharing stories\, hosting a silly event\, or simply reflecting on your own experiences\, this day is all about finding joy in the unexpected. \nSo\, what’s your most awkward moment? Share it in the comments below—we’d love to hear your story and laugh along with you! \n  \n“Please note that some of the links in this blog post are affiliate links. This means that if you click on a link and make a purchase\, I may receive a commission. This helps support my blog and allows me to continue creating content for you. Thank you for your support!”  \nMarch\nDaily Holidays ~ March\nWeekly Holidays~ March\nMonthly Holidays ~ March
URL:https://celebratethis.holiday/event/national-awkward-moments-day-march-18/2025-03-18/
CATEGORIES:Daily,Fun,National,People
ATTACH;FMTTYPE=image/jpeg:https://celebratethis.holiday/wp-content/uploads/2025/03/man-379800_1280.jpg
END:VEVENT
BEGIN:VEVENT
DTSTART;VALUE=DATE:20250318
DTEND;VALUE=DATE:20250319
DTSTAMP:20260419T104018
CREATED:20250319T063854Z
LAST-MODIFIED:20250321T201254Z
UID:10000154-1742256000-1742342399@celebratethis.holiday
SUMMARY:Tea for Two Tuesday
DESCRIPTION:March\nDaily Holidays ~ March\nWeekly Holidays~ March\nMonthly Holidays ~ March \nTea for Two Tuesday: History\, Meaning\, and Ways to Celebrate\nTea for Two Tuesday takes place every year on the third Tuesday in March.  It is a delightful tradition that brings people together over a warm cup of tea. This charming celebration is all about connection\, relaxation\, and sharing moments with someone special. Whether you’re a tea enthusiast or simply enjoy cozy gatherings\, Tea for Two Tuesday offers a perfect opportunity to slow down and savor the simple joys of life. Let’s explore the history\, meaning\, and creative ways to celebrate this heartwarming occasion. \n \nThe History of Tea for Two Tuesday\nTea has been a beloved beverage for centuries\, with its origins tracing back to ancient China. Over time\, tea drinking evolved into a social ritual\, symbolizing hospitality and friendship. The phrase “Tea for Two” gained popularity in the 1920s with the release of the iconic song “Tea for Two” by Vincent Youmans and Irving Caesar. The song’s lyrics painted a picture of an intimate tea-sharing moment\, inspiring a cultural fascination with the idea of sharing tea with a loved one. \nTea for Two Tuesday emerged as a modern twist on this concept. It encourages people to set aside time midweek to connect with someone special over tea. This tradition has grown in popularity as a way to break up the busy workweek and prioritize meaningful connections. \n \nThe Meaning Behind Tea for Two Tuesday\nAt its core\, Tea for Two Tuesday is about connection and mindfulness. In today’s fast-paced world\, it’s easy to get caught up in routines and forget to nurture relationships. This celebration reminds us to pause\, breathe\, and enjoy the company of others. \nSharing tea is a universal act of kindness and hospitality. It transcends cultures and generations\, making it an inclusive way to bond with friends\, family\, or even strangers. Tea for Two Tuesday also promotes self-care\, as taking a moment to relax with a warm beverage can be incredibly soothing for the mind and body. \n \nHow to Celebrate Tea for Two Tuesday\nCelebrating Tea for Two Tuesday is simple\, flexible\, and open to interpretation. Whether you prefer a quiet moment with a close friend or a lively gathering with friends\, there are countless ways to make this tradition your own. Here are some ideas to inspire your celebration: \n1. Invite a Loved One\nReach out to a friend\, family member\, or colleague and invite them to join you for tea. It could be an in-person meetup at a cozy café or a virtual tea date if distance is a factor. The act of sharing tea together strengthens bonds and creates lasting memories. \n2. Explore Different Teas\nMake your Tea for Two Tuesday extra special by trying new tea varieties. From classic black tea to herbal blends like chamomile or peppermint\, there’s a flavor for everyone. You could even create a tea-tasting experience by sampling several types and discussing your favorites. \n3. Set the Mood\nCreate a warm and inviting atmosphere for your tea time. Light some candles\, play soft music\, or arrange fresh flowers on the table. A cozy setting enhances the experience and makes your guest feel appreciated. \n \n4. Pair Tea with Treats\nElevate your tea time by serving delicious snacks. Scones\, finger sandwiches\, pastries\, or cookies are classic accompaniments. If you’re feeling adventurous\, try baking something new as part of the celebration. \n5. Make It a Self-Care Ritual\nIf you’d prefer a solo celebration\, use Tea for Two Tuesday as an opportunity to practice self-care. Brew your favorite tea\, curl up with a good book\, or journal your thoughts. Treating yourself with kindness is just as important as connecting with others. \n \n6. Host a Tea Party\nFor a more festive approach\, organize a tea party with multiple guests. Encourage everyone to bring their favorite tea or teacup\, and enjoy a lively afternoon of conversation and laughter. \n7. Share the Tradition\nIntroduce Tea for Two Tuesday to someone who’s never heard of it. Explain the history and meaning behind the tradition\, and invite them to join you in celebrating. Sharing the experience can make it even more meaningful. \n \nWhy Tea for Two Tuesday Matters\nIn a world that often feels disconnected\, Tea for Two Tuesday offers a chance to reconnect with others and ourselves. It’s a reminder that small\, intentional moments can have a big impact on our well-being. By setting aside time to share tea\, we cultivate gratitude\, mindfulness\, and a sense of community. \nThis tradition also encourages inclusivity. Tea is a beverage enjoyed by people of all ages\, cultures\, and backgrounds. Whether you’re sipping matcha\, chai\, or a simple cup of green tea\, the act of sharing it with someone else fosters connection and understanding. \n \nCreative Twists on Tea for Two Tuesday\nLooking to put your own spin on Tea for Two Tuesday? Here are some fun and creative ideas to make your celebration unique: \n– Themed Tea Time: Choose a theme for your tea gathering\, such as a specific culture\, era\, or color scheme. Decorate accordingly and serve teas and snacks that match the theme.\n– Tea and Art: Combine tea time with a creative activity like painting\, drawing\, or crafting. It’s a great way to relax and express yourself.\n– Outdoor Tea Picnic: Take your tea time outdoors! Pack a thermos of tea\, some snacks\, and a blanket\, and enjoy the beauty of nature.\n– Tea Swap: Organize a tea swap with friends or coworkers. Everyone brings a different tea to share\, and you all get to take home new flavors to try.\n– Tea Meditation: Incorporate mindfulness into your tea time by practicing a tea meditation. Focus on the aroma\, taste\, and warmth of the tea as you sip slowly and intentionally. \n \nFinal Thoughts\n  \nSo\, why not put the kettle on and invite someone to join you for Tea for Two Tuesday? You might just create a new tradition that brings joy and connection to your life. \n— \nWhat’s your favorite way to enjoy tea\, and who would you invite to celebrate Tea for Two Tuesday with you? Share your thoughts and ideas in the comments below! \n“Please note that some of the links in this blog post are affiliate links. This means that if you click on a link and make a purchase\, I may receive a commission. This helps support my blog and allows me to continue creating content for you. Thank you for your support!” \nMarch\nDaily Holidays ~ March\nWeekly Holidays~ March\nMonthly Holidays ~ March \n 
URL:https://celebratethis.holiday/event/tea-for-two-tuesday-third-tuesday-in-march/2025-03-18/
CATEGORIES:Daily,Food and Drink,Fun
ATTACH;FMTTYPE=image/jpeg:https://celebratethis.holiday/wp-content/uploads/2025/03/tea-783352_1280.jpg
END:VEVENT
BEGIN:VEVENT
DTSTART;VALUE=DATE:20250320
DTEND;VALUE=DATE:20250321
DTSTAMP:20260419T104018
CREATED:20250320T060945Z
LAST-MODIFIED:20250322T152756Z
UID:10000190-1742428800-1742515199@celebratethis.holiday
SUMMARY:Alien Abduction Day
DESCRIPTION:Alien Abduction Day: History\, Meaning\, and Ways to Celebrate\nHave you ever looked up at the night sky and wondered if we’re truly alone in the universe? Alien Abduction Day\, celebrated on March 20th\, invites us to explore the mysteries of extraterrestrial life and the fascinating stories of those who claim to have encountered it. This unique holiday blends science fiction\, folklore\, and curiosity\, making it a day for everyone to enjoy. Let’s dive into the history\, meaning\, and creative ways to celebrate Alien Abduction Day. \n \n  \nThe History of Alien Abduction Day\nAlien Abduction Day has its roots in the rich history of UFO sightings and extraterrestrial encounters. The date\, March 20th\, coincides with the spring equinox\, a time of balance and renewal. This connection adds a layer of symbolism to the holiday\, as it represents the blending of the known and the unknown. \nThe holiday gained popularity in the late 20th century\, fueled by the rise of UFO culture and media. Iconic events like the Roswell Incident (1947) and the Betty and Barney Hill abduction (1961) captured public imagination. These stories sparked debates about extraterrestrial life and inspired countless books\, movies\, and TV shows. \nAlien Abduction Day was created to celebrate this cultural phenomenon. It encourages people to explore the mysteries of the universe and embrace their curiosity about the unknown. \nThe Meaning Behind Alien Abduction Day\nAt its core\, Alien Abduction Day is about exploration and imagination. It invites us to question what lies beyond our planet and consider the possibilities of extraterrestrial life. \nThis day also celebrates storytelling and shared experiences. Whether you believe in alien abductions or not\, the stories surrounding them are fascinating. They reflect our fears\, hopes\, and curiosity about the universe. \nFinally\, Alien Abduction Day is a reminder to keep an open mind. The universe is vast\, and there’s still so much we don’t know. This holiday encourages us to embrace the unknown and celebrate the mysteries that make life exciting. \n \nWhy Alien Abduction Stories Fascinate Us\nAlien abduction stories have captivated people for decades. But why are they so compelling? \n– Mystery and Intrigue: The idea of beings from another world visiting Earth is inherently fascinating. It taps into our curiosity about the unknown.\n– Shared Human Experience: Many abduction stories share similar elements\, like bright lights\, medical examinations\, and missing time. These common themes create a sense of connection among those who share their experiences.\n– Cultural Impact: Alien abduction stories have shaped popular culture. From movies like “Close Encounters of the Third Kind” to TV shows like “The X-Files“\, these tales have become part of our collective imagination. \nWhether you’re a skeptic or a believer\, there’s no denying the cultural significance of alien abduction stories. \n \nWays to Celebrate Alien Abduction Day\nReady to embrace the mystery? Here are some fun and creative ways to celebrate Alien Abduction Day. \n1. Host an Alien Movie Marathon\nGather friends or family for a night of extraterrestrial entertainment. \n– Classic Films: Watch iconic movies like “E.T. the Extra-Terrestrial“\, “Close Encounters of the Third Kind“\, and “Fire in the Sky“.\n– TV Shows: Bingewatch episodes of “The X-Files” or “Ancient Aliens“.\n– Documentaries: Explore real-life UFO stories with documentaries like “Unacknowledged” or “The Phenomenon“. \nA movie marathon is a great way to immerse yourself in the world of alien encounters. \n \n2. Share Alien Abduction Stories\nDive into the fascinating world of abduction tales. \n– Read Books: Explore books like “Communion” by Whitley Strieber or “The Interrupted Journey” by John G. Fuller.\n– Listen to Podcasts: Tune into podcasts like “Astonishing Legends” or “The Alienist”.\n– Discuss Experiences: Share your thoughts on famous abduction cases or personal stories. \nStorytelling is at the heart of Alien Abduction Day. It’s a chance to connect with others and explore the unknown. \n \n3. Stargaze and Look for UFOs\nSpend the night under the stars and keep an eye out for unusual lights. \n– Find a Dark Spot: Head to a location with minimal light pollution for the best view.\n– Use a Telescope: Bring a telescope or binoculars to get a closer look at the night sky.\n– Stay Curious: Even if you don’t spot a UFO\, stargazing is a peaceful and inspiring activity. \nLooking at the stars reminds us of the vastness of the universe and the possibilities it holds. \n \n4. Create Alien-Themed Art\nUnleash your creativity with extraterrestrial-inspired art. \n– Paint or Draw: Create your own vision of aliens\, UFOs\, or distant planets.\n– Crafts: Make alien masks\, UFO models\, or galaxy-themed decorations.\n– Writing: Write a short story or poem about an alien encounter. \nArt is a powerful way to express your imagination and celebrate the holiday. \n \n5. Dress Up as an Alien or Abductee\nGet into the spirit with a fun costume. \n– Alien Look: Use face paint\, wigs\, and props to create an otherworldly appearance.\n– Abductee Costume: Dress in a silver jumpsuit or add fake “probe marks” for a humorous touch.\n– Group Theme: Organize a costume party with friends or coworkers. \nDressing up adds a playful element to the celebration. \n \n6. Explore UFO Hotspots\nVisit locations known for UFO sightings or alien lore. \n– Roswell\, New Mexico: Explore the International UFO Museum and Research Center.\n– Area 51\, Nevada: Take a road trip to the infamous military base.\n– Local Legends: Research UFO hotspots in your area and plan a visit. \nVisiting these sites can make the holiday feel even more immersive. \n \n7. Host an Alien Abduction Day Party\nThrow a party to celebrate the holiday with others. \n– Decorations: Use glow-in-the-dark stars\, alien figurines\, and UFO props.\n– Food: Serve themed snacks like “alien cupcakes” or “UFO pizzas.”\n– Activities: Play games like “Pin the Probe on the Alien” or host a trivia contest about famous abduction cases. \nA party is a great way to share the fun with friends and family. \n \nAlien Abduction Day: A Day for Everyone\nAlien Abduction Day is for everyone. Whether you’re a UFO enthusiast\, a science fiction fan\, or just curious about the unknown\, there’s a way to join in the fun. \nIt’s also an inclusive celebration. You can participate in ways that feel right for you. Whether you watch a movie\, stargaze\, or share stories\, the choice is yours. \nMaking It a Tradition\nWhy not make Alien Abduction Day an annual tradition? \n– Mark Your Calendar: Set a reminder for March 20th every year.\n– Try New Activities: Explore different ways to celebrate each year.\n– Invite Others: Share the fun with friends\, family\, or coworkers. \nTurning this day into a tradition can make it even more special. \n \nFinal Thoughts\nAlien Abduction Day is a celebration of curiosity\, imagination\, and the mysteries of the universe. It invites us to explore the unknown and embrace the stories that captivate our minds. \nThis March 20th\, why not look up at the stars\, watch a classic UFO movie\, or share your favorite alien encounter story? Whether you’re a believer or a skeptic\, there’s something magical about pondering the possibilities of extraterrestrial life. \nWhat’s your favorite alien abduction story or UFO movie? Share your thoughts and recommendations in the comments below! \n“Please note that some of the links in this blog post are affiliate links. This means that if you click on a link and make a purchase\, I may receive a commission. This helps support my blog and allows me to continue creating content for you. Thank you for your support!”  \nMarch\nWhat holidays are in March? \n \n \n  \n 
URL:https://celebratethis.holiday/event/alien-abduction-day/2025-03-20/
CATEGORIES:Daily,Fun,International,National
ATTACH;FMTTYPE=image/jpeg:https://celebratethis.holiday/wp-content/uploads/2025/03/aurora-abduction-ufo.jpg
END:VEVENT
BEGIN:VEVENT
DTSTART;VALUE=DATE:20250323
DTEND;VALUE=DATE:20250324
DTSTAMP:20260419T104018
CREATED:20250323T105708Z
LAST-MODIFIED:20250324T122440Z
UID:10000205-1742688000-1742774399@celebratethis.holiday
SUMMARY:National Puppy Day
DESCRIPTION:March\nWhat Holidays are in March? \nThe History\, Meaning\, and Ways to Celebrate National Puppy Day\nNational Puppy Day is a heartwarming celebration dedicated to the joy and love that puppies bring into our lives. Observed annually on March 23rd\, this special day highlights the importance of puppies\, promotes adoption\, and raises awareness about puppy mills and animal welfare. Whether you’re a dog lover or simply appreciate the cuteness of puppies\, this day offers something for everyone. Let’s explore the history\, meaning\, and fun ways to celebrate National Puppy Day. \n \nThe History of National Puppy Day\nNational Puppy Day was founded in 2006 by Colleen Paige\, a pet lifestyle expert and animal advocate. Paige created the day to celebrate the unconditional love and companionship that puppies provide. She also aimed to shine a light on the plight of puppies in puppy mills and encourage adoption from shelters and rescues. \nSince its inception\, National Puppy Day has grown into a global movement. People from all walks of life come together to share their love for puppies and advocate for their well-being. The day has also inspired countless adoptions\, helping puppies find loving forever homes. \n \nThe Meaning Behind the Day\nNational Puppy Day is more than just a celebration of adorable faces and wagging tails. It’s a reminder of the responsibilities that come with pet ownership. Puppies require time\, care\, and commitment. This day encourages potential pet parents to consider adoption and to be mindful of the challenges of raising a puppy. \nAdditionally\, National Puppy Day raises awareness about the dark side of the pet industry. Puppy mills\, which prioritize profit over animal welfare\, often subject dogs to inhumane conditions. By promoting adoption and responsible breeding\, this day helps combat these unethical practices. \n \nWays to Celebrate National Puppy Day\nCelebrating National Puppy Day can be both fun and meaningful. Here are some ideas to make the most of this special day: \n1. Adopt a Puppy\nIf you’re ready for the commitment\, consider adopting a puppy from a shelter or rescue organization. Adoption saves lives and gives a deserving puppy a second chance at happiness. \n2. Volunteer at a Shelter\nNot ready to adopt? Volunteer at a local animal shelter. Spend time playing with puppies\, walking dogs\, or helping with daily tasks. Your efforts can make a big difference in their lives. \n \n3. Donate to Animal Welfare Organizations\nSupport organizations that work to protect puppies and dogs. Donations help fund rescue operations\, medical care\, and advocacy efforts. Every contribution counts. \n4. Share Puppy Photos on Social Media\nCelebrate by sharing photos of your puppy or your favorite puppy memes. Use hashtags like #NationalPuppyDay and #AdoptDontShop to spread the word and inspire others. \n5. Host a Puppy Party\nGather friends and their puppies for a fun-filled party. Include games\, treats\, and plenty of playtime. It’s a great way to socialize puppies and celebrate their cuteness. \n \n6. Educate Others About Puppy Mills\nRaise awareness about the realities of puppy mills. Share information on social media or host a discussion to educate others about the importance of ethical breeding and adoption. \n7. Spoil Your Puppy\nIf you already have a puppy\, take the day to spoil them. Buy them a new toy\, prepare a special treat\, or take them on an extra-long walk. Show them how much they mean to you. \n \n8. Support Local Pet Businesses\nVisit a local pet store or bakery and pick up something special for your furry friend. Supporting small businesses helps the community and ensures your puppy gets high-quality products. \n9. Organize a Fundraiser\nHost a fundraiser for a local animal shelter or rescue group. Ideas include bake sales\, charity runs\, or online crowdfunding campaigns. Every dollar raised helps puppies in need. \n10. Learn About Puppy Care\nIf you’re considering getting a puppy\, use this day to educate yourself. Research training tips\, nutrition\, and health care to ensure you’re prepared for the responsibilities of pet ownership. \n \nWhy Puppies Deserve Our Love and Attention\nPuppies bring joy\, laughter\, and unconditional love into our lives. They teach us about loyalty\, patience\, and the importance of living in the moment. Beyond their cuteness\, puppies also play a vital role in our mental and emotional well-being. Studies show that spending time with puppies can reduce stress\, lower blood pressure\, and boost happiness. \nNational Puppy Day reminds us to cherish these furry companions and advocate for their well-being. By celebrating this day\, we honor the bond between humans and dogs and commit to creating a better world for all animals. \nJoin the Celebration\nNational Puppy Day is a chance to celebrate the love and joy that puppies bring into our lives. Whether you adopt\, volunteer\, or simply share a photo\, your actions can make a difference. Let’s come together to celebrate puppies and ensure they receive the love and care they deserve. \nWhat’s your favorite way to celebrate National Puppy Day? Share your puppy stories\, photos\, or tips in the comments below! \n“Please note that some of the links in this blog post are affiliate links. This means that if you click on a link and make a purchase\, I may receive a commission. This helps support my blog and allows me to continue creating content for you. Thank you for your support!”  \nMarch\nWhat Holidays are in March?
URL:https://celebratethis.holiday/event/national-puppy-day/2025-03-23/
CATEGORIES:Animals,Daily,Fun,National
ATTACH;FMTTYPE=image/jpeg:https://celebratethis.holiday/wp-content/uploads/2025/03/young-broke-3162296_1280.jpg
END:VEVENT
END:VCALENDAR