BEGIN:VCALENDAR
VERSION:2.0
PRODID:-//Celebrate This! - ECPv6.15.20//NONSGML v1.0//EN
CALSCALE:GREGORIAN
METHOD:PUBLISH
X-ORIGINAL-URL:https://celebratethis.holiday
X-WR-CALDESC:Events for Celebrate This!
REFRESH-INTERVAL;VALUE=DURATION:PT1H
X-Robots-Tag:noindex
X-PUBLISHED-TTL:PT1H
BEGIN:VTIMEZONE
TZID:America/New_York
BEGIN:DAYLIGHT
TZOFFSETFROM:-0500
TZOFFSETTO:-0400
TZNAME:EDT
DTSTART:20260308T070000
END:DAYLIGHT
BEGIN:STANDARD
TZOFFSETFROM:-0400
TZOFFSETTO:-0500
TZNAME:EST
DTSTART:20261101T060000
END:STANDARD
BEGIN:DAYLIGHT
TZOFFSETFROM:-0500
TZOFFSETTO:-0400
TZNAME:EDT
DTSTART:20270314T070000
END:DAYLIGHT
BEGIN:STANDARD
TZOFFSETFROM:-0400
TZOFFSETTO:-0500
TZNAME:EST
DTSTART:20271107T060000
END:STANDARD
BEGIN:DAYLIGHT
TZOFFSETFROM:-0500
TZOFFSETTO:-0400
TZNAME:EDT
DTSTART:20280312T070000
END:DAYLIGHT
BEGIN:STANDARD
TZOFFSETFROM:-0400
TZOFFSETTO:-0500
TZNAME:EST
DTSTART:20281105T060000
END:STANDARD
END:VTIMEZONE
BEGIN:VEVENT
DTSTART;VALUE=DATE:20270705
DTEND;VALUE=DATE:20270706
DTSTAMP:20260420T162930
CREATED:20250710T172942Z
LAST-MODIFIED:20250710T174944Z
UID:10000398-1814745600-1814831999@celebratethis.holiday
SUMMARY:National Bikini Day: A Tribute to Confidence\, History\, and Summer Fun
DESCRIPTION:All about July\nJuly Celebrations and Holidays\nEvery year on July 5th\, beach lovers and fashion enthusiasts celebrate National Bikini Day—a holiday dedicated to the iconic two-piece swimsuit. More than just a fashion statement\, this day honors body positivity\, summer vibes\, and the bold history behind the bikini. \nWhether you’re lounging by the pool\, hitting the beach\, or simply embracing self-love\, National Bikini Day is for everyone. Ready to dive into the story behind this stylish holiday? Let’s explore its origins\, cultural impact\, and fun ways to celebrate! \nThe Birth of the Bikini: A Fashion Revolution\nThe bikini made its explosive debut in 1946\, designed by French engineer Louis Réard. Named after Bikini Atoll (where atomic tests occurred)\, the daring swimwear symbolized a bombshell moment in fashion. \nBefore the bikini\, women wore modest one-pieces or high-waisted two-pieces. Réard’s scandalously small design was so controversial that he struggled to find a model willing to wear it. Eventually\, Micheline Bernardini\, a Parisian showgirl\, took the plunge—and history was made! \nWhy We Celebrate National Bikini Day\nThis holiday isn’t just about swimwear—it’s a celebration of confidence\, freedom\, and body positivity. Here’s why the bikini deserves its own day: \n\n\nA Symbol of Liberation: The bikini broke societal norms\, empowering women to embrace their bodies. \n\n\nSummer’s Ultimate Staple: It’s synonymous with beach trips\, pool parties\, and sunny adventures. \n\n\nInclusivity Matters: Modern bikinis come in all sizes\, styles\, and designs for every body type. \n\n\nFashion Evolution: From retro high-waists to sporty cuts\, bikinis reflect changing trends. \n\n\nHow to Celebrate National Bikini Day\nWhether you’re a bikini enthusiast or prefer a one-piece\, there are endless ways to enjoy this holiday: \n1. Rock Your Favorite Bikini\nWear it to the beach\, pool\, or even in your backyard. Confidence is key! \n2. Try a New Style\nExplore trends like: \n\n\nHigh-waisted bottoms (vintage vibes) \n\n\nSporty bikinis (great for swimming) \n\n\nCrochet or tie-dye designs (boho chic) \n\n\nSustainable options (eco-friendly fabrics) \n\n\n3. Host a Bikini Fashion Show\nGather friends for a fun\, body-positive photoshoot. \n4. Learn Bikini History\nWatch documentaries or read about its cultural impact. \n5. Support Body-Positive Brands\nShop from inclusive swimwear companies that celebrate all shapes. \nThe Bikini’s Cultural Impact\nFrom Bond girls to sports icons\, bikinis have shaped pop culture: \n\n\nMovie Moments: Ursula Andress in Dr. No (1962) made the white bikini legendary. \n\n\nMusic Videos: From Beyoncé to Madonna\, bikinis star in iconic visuals. \n\n\nSports Arena: Beach volleyball popularized athletic bikini designs. \n\n\nFashion Runways: Designers constantly reinvent bikini styles. \n\n\nDespite early backlash\, the bikini became a global phenomenon—symbolizing freedom and fun. \nBody Positivity & Modern Bikini Culture\nToday\, the bikini represents self-love and inclusivity. Movements like #LoveYourBody encourage people to wear what makes them happy—no matter their size. \nBrands now offer: \n\n\nExtended sizing (from XXS to 6XL) \n\n\nMastectomy-friendly designs \n\n\nGender-neutral swimwear \n\n\nAdaptive styles for disabilities \n\n\nThe message is clear: All bodies are bikini bodies. \nFun Bikini Facts You Didn’t Know\n\n\nThe first bikini was advertised as “smaller than the world’s smallest swimsuit.” \n\n\nSpain and Italy initially banned bikinis in public. \n\n\nThe Miss America pageant prohibited bikinis until 1997. \n\n\nRihanna’s Savage X Fenty shows revolutionized inclusive bikini fashion. \n\n\nEco-Friendly Bikini Options\nLove the ocean? Consider sustainable swimwear: \n\n\nRecycled nylon (made from fishing nets) \n\n\nOrganic cotton (chemical-free) \n\n\nPlant-based fabrics (like bamboo) \n\n\nVegan dyes (eco-conscious colors) \n\n\nProtecting the planet never looked so stylish! \nFinal Thoughts: Wear What Makes You Shine\nNational Bikini Day is about confidence\, history\, and summer joy. Whether you prefer a cheeky cut\, full coverage\, or a one-piece\, the best bikini is the one that makes you feel unstoppable. \nSo grab your favorite swimsuit\, slather on sunscreen\, and celebrate your way! \nWhat’s your all-time favorite bikini style? Share your go-to look in the comments! \n“Please note that some of the links in this blog post are affiliate links. This means that if you click on a link and make a purchase\, I may receive a commission. This helps support my blog and allows me to continue creating content for you. Thank you for your support!”  \nAll about July\nJuly Celebrations and Holidays
URL:https://celebratethis.holiday/event/bikini-day/2027-07-05/
CATEGORIES:Daily,EUE,Fun,National
ATTACH;FMTTYPE=image/jpeg:https://celebratethis.holiday/wp-content/uploads/2025/07/woman-4874687_1280.jpg
END:VEVENT
BEGIN:VEVENT
DTSTART;VALUE=DATE:20270706
DTEND;VALUE=DATE:20270707
DTSTAMP:20260420T162930
CREATED:20250710T175707Z
LAST-MODIFIED:20250710T181106Z
UID:10000405-1814832000-1814918399@celebratethis.holiday
SUMMARY:Celebrate National Fried Chicken Day: A Crispy\, Juicy Tradition
DESCRIPTION:All about July\nJuly Celebrations and Holidays\nEvery year on July 6th\, food lovers across the U.S. celebrate National Fried Chicken Day—a delicious tribute to one of America’s most beloved comfort foods. Golden\, crispy\, and irresistibly flavorful\, fried chicken holds a special place in culinary history. \nWhether you prefer it spicy\, buttermilk-soaked\, or extra crunchy\, this holiday is the perfect excuse to indulge. From its Southern roots to global fame\, fried chicken has a rich story to tell. \nReady to dig in? Let’s explore the origins\, best ways to celebrate\, and mouthwatering variations of this iconic dish! \n\nThe History of Fried Chicken: A Global Comfort Food\nFried chicken didn’t start in the U.S.—it has ancient roots. Scottish immigrants brought their tradition of pan-frying chicken in fat to the American South. Enslaved African cooks\, however\, perfected the method by seasoning it and deep-frying it to crispy perfection. \nBy the 19th century\, fried chicken became a Southern staple. Later\, restaurants like Kentucky Fried Chicken (KFC) turned it into a worldwide phenomenon. Today\, it’s a universal comfort food with countless regional twists. \n\nWhy We Love National Fried Chicken Day\nThis holiday isn’t just about eating—it’s about tradition\, creativity\, and community. Here’s why fried chicken deserves its own day: \n\n\nComfort Food at Its Best: Crispy skin and juicy meat make it irresistible. \n\n\nVersatile Flavors: From Nashville hot to Korean glazed\, there’s a style for everyone. \n\n\nCultural Icon: It’s a symbol of Southern hospitality and global fusion cuisine. \n\n\nShareable Joy: Fried chicken brings people together at picnics\, parties\, and family dinners. \n\n\n\nHow to Celebrate National Fried Chicken Day\nWhether you’re dining out or cooking at home\, here are delicious ways to enjoy the day: \n1. Visit a Legendary Fried Chicken Spot\nTry iconic restaurants like: \n\n\nGus’s World Famous Fried Chicken (Memphis-style spicy) \n\n\nWillie Mae’s Scotch House (New Orleans’ gold standard) \n\n\nHowlin’ Ray’s (Nashville hot chicken) \n\n\nJollibee (Filipino crispy joy) \n\n\n2. Host a Fried Chicken Feast\nPair it with classic sides like: \n\n\nFluffy buttermilk biscuits \n\n\nCreamy mac and cheese \n\n\nTangy coleslaw \n\n\nSweet honey butter \n\n\n3. Try a New Recipe\nExperiment with styles like: \n\n\nKorean fried chicken (double-fried with sticky glaze) \n\n\nJapanese karaage (marinated in soy and ginger) \n\n\nNashville hot (fiery cayenne coating) \n\n\nVegan “fried chicken” (made with mushrooms or tofu) \n\n\n4. Support Local Businesses\nOrder from a neighborhood joint or food truck. \n5. Share the Love\nPost your best #NationalFriedChickenDay pics—or deliver a bucket to a friend! \n\nGlobal Fried Chicken Variations\nFried chicken isn’t just Southern—it’s a world traveler. Try these international twists: \n\n\nKorean Yangnyeom Chicken: Crispy with sweet-spicy gochujang sauce. \n\n\nJapanese Karaage: Light\, juicy\, and soy-marinated. \n\n\nJamaican Jerk Fried Chicken: Spiced with Scotch bonnet peppers. \n\n\nSouth African Peri-Peri Chicken: Zesty with African bird’s eye chili. \n\n\nEach culture adds its own flair\, proving fried chicken is a universal language. \n\nFun Fried Chicken Facts\n\n\nThe biggest fried chicken dish weighed 6\,900 lbs (Guinness World Record). \n\n\nKFC sells over 2 billion pieces annually in 150+ countries. \n\n\nNational Fried Chicken Day was likely started by a food PR team—but we’re not complaining! \n\n\nThomas Jefferson helped popularize fried chicken in early America. \n\n\n\nDIY Fried Chicken Tips\nWant to make it at home? Follow these pro tips: \n\n\nBrining is key: Soak chicken in buttermilk or pickle juice overnight. \n\n\nDouble-dip: Flour\, egg wash\, then flour again for extra crunch. \n\n\nFry at 350°F: Too hot = burnt; too cool = greasy. \n\n\nDrain on a rack: Keeps it crispy (not soggy). \n\n\n\nFinal Thoughts: Pass the Chicken!\nNational Fried Chicken Day celebrates a dish that’s simple\, satisfying\, and deeply cultural. Whether you like it classic or adventurous\, today’s the day to savor every bite. \nSo grab a drumstick\, try a new recipe\, or share a bucket with friends. After all\, fried chicken tastes better together! \nWhat’s your all-time favorite fried chicken style? Share your top pick in the comments! \n“Please note that some of the links in this blog post are affiliate links. This means that if you click on a link and make a purchase\, I may receive a commission. This helps support my blog and allows me to continue creating content for you. Thank you for your support!”  \nAll about July\nJuly Celebrations and Holidays\n 
URL:https://celebratethis.holiday/event/national-fired-chicken-day/2027-07-06/
CATEGORIES:Daily,EUE,Food and Drink,Fun,National
ATTACH;FMTTYPE=image/jpeg:https://celebratethis.holiday/wp-content/uploads/2025/07/Fried-chicken.jpg
END:VEVENT
BEGIN:VEVENT
DTSTART;VALUE=DATE:20270708
DTEND;VALUE=DATE:20270709
DTSTAMP:20260420T162930
CREATED:20250710T194621Z
LAST-MODIFIED:20250711T121916Z
UID:10000419-1815004800-1815091199@celebratethis.holiday
SUMMARY:Celebrate National Video Game Day: A Pixelated Playground for Everyone
DESCRIPTION:All about July\nJuly Celebrations and Holidays\nEvery year on July 8th\, gamers around the world unite for National Video Game Day (one of several days dedicated to video games and gamers)—a celebration of interactive storytelling\, fierce competition\, and digital creativity. Whether you’re a casual mobile gamer or a hardcore console enthusiast\, this day honors the art\, culture\, and joy of gaming. \nVideo games have evolved far beyond simple entertainment. They build communities\, spark careers\, and even change lives. From nostalgic classics to cutting-edge VR\, gaming offers something for everyone. \nReady to power up? Let’s explore the history\, impact\, and best ways to celebrate this high-score-worthy holiday! \nThe Evolution of Video Games: From Pong to PlayStation\nVideo games began humbly. In 1958\, physicist William Higinbotham created Tennis for Two\, a simple oscilloscope game. The industry exploded with Atari’s Pong in 1972\, captivating arcades worldwide. \nThe 1980s brought iconic titles like Super Mario Bros. and The Legend of Zelda. By the 2000s\, online multiplayer games like World of Warcraft connected millions globally. Today\, games span genres—from relaxing sims (Animal Crossing) to cinematic epics (The Last of Us). \nGaming isn’t just for kids\, either. The average gamer is 34 years old\, proving it’s a lifelong passion. \nWhy Video Games Matter\nGaming is more than fun—it’s a cultural force. Here’s why it deserves celebration: \n\nCreativity Unleashed: Games blend art\, music\, and storytelling into immersive worlds.\nSocial Connection: Multiplayer games foster friendships across continents.\nCareer Opportunities: Esports\, streaming\, and game design are booming industries.\nMental Benefits: Puzzle games boost memory\, while RPGs improve problem-solving.\n\nGames also break barriers. Adaptive controllers and inclusive storytelling make gaming accessible to all. \nHow to Celebrate National Video Game Day\nWhether you game daily or haven’t picked up a controller in years\, here’s how to join the fun: \n1. Play Your All-Time Favorite\nRevisit classics like: \n\nTetris (timeless puzzle mastery)\nMinecraft (endless creative freedom)\nStreet Fighter (arcade-era nostalgia)\nZelda (this girl’s all-time favorite series)\n\n2. Try Something New\nExplore genres you’ve never played: \n\nCozy Games (Stardew Valley\, Coffee Talk)\nHorror (Resident Evil\, Phasmophobia)\nIndie Gems (Hades\, Celeste)\n\n3. Host a Gaming Marathon\nInvite friends for: \n\nTournaments (Mario Kart races\, Rocket League showdowns)\nCo-op Adventures (Overcooked chaos\, It Takes Two teamwork)\nRetro Nights (Dust off that N64 or Sega Genesis!)\n\n4. Support Game Developers\nBuy indie games or donate to charities like Games for Change. \n5. Share the Love Online\nPost your favorite gaming moments with #NationalVideoGameDay. \nGaming’s Positive Impact\nBeyond entertainment\, games: \n\nTeach Skills: Kerbal Space Program explains physics; Civilization covers history.\nBoost Mental Health: Games like Journey reduce anxiety.\nDrive Innovation: VR therapy helps PTSD patients; AR games like Pokémon GO encourage exercise.\n\nEven the World Health Organization recognizes gaming’s benefits when balanced responsibly. \nInclusivity in Gaming\nThe industry is evolving to welcome everyone: \n\nRepresentation: More LGBTQ+ and BIPOC protagonists (The Last of Us Part II\, Life is Strange).\nAccessibility: Customizable controls (The Last of Us Part I)\, colorblind modes (Sea of Thieves).\nDiverse Creators: Women and marginalized devs shaping hits (Hollow Knight\, Undertale).\n\nGaming is no longer a “boys’ club”—it’s a global community. \nFun Gaming Facts\n\nThe best-selling game ever isn’t GTA or Minecraft—it’s Tetris (520+ million copies).\nEsports prize pools can exceed $40 million (Dota 2’s The International).\nThe longest gaming marathon lasted 138 hours (Guinness World Record).\n“Speedrunning” turns games into Olympic-style challenges (beating Super Mario 64 in under 7 minutes!).\n\nResponsible Gaming Tips\nLove gaming? Keep it healthy with: \n\nScheduled Breaks: Follow the 20-20-20 rule (every 20 minutes\, look 20 feet away for 20 seconds).\nHydration: Keep water nearby during marathon sessions.\nSocial Balance: Game with friends IRL too!\n\nFinal Thoughts: Press Start to Joy\nNational Video Game Day celebrates a medium that entertains\, connects\, and inspires. Whether you’re battling dragons\, solving puzzles\, or building virtual cities\, gaming unlocks endless possibilities. \nSo grab your controller\, keyboard\, or phone—and play something that makes you smile! \nWhat’s the first video game you ever loved? Share your nostalgic pick in the comments! \n“Please note that some of the links in this blog post are affiliate links. This means that if you click on a link and make a purchase\, I may receive a commission. This helps support my blog and allows me to continue creating content for you. Thank you for your support!”  \nAll about July\nJuly Celebrations and Holidays
URL:https://celebratethis.holiday/event/national-video-game-day/2027-07-08/
CATEGORIES:Daily,EUE,Fun,National,Technology
ATTACH;FMTTYPE=image/jpeg:https://celebratethis.holiday/wp-content/uploads/2025/07/pink-xbox-controller.jpg
END:VEVENT
BEGIN:VEVENT
DTSTART;VALUE=DATE:20270709
DTEND;VALUE=DATE:20270710
DTSTAMP:20260420T162930
CREATED:20250711T142054Z
LAST-MODIFIED:20250711T150050Z
UID:10000431-1815091200-1815177599@celebratethis.holiday
SUMMARY:Call of the Horizon Day: Embrace Adventure and New Beginnings
DESCRIPTION:All about July\nJuly Celebrations and Holidays\nEvery year on July 9\, Call of the Horizon Day inspires people to chase dreams\, explore the unknown\, and embrace fresh possibilities. This unique celebration encourages stepping out of comfort zones and answering the “call” of distant places\, goals\, and experiences. \nWhether you crave travel\, personal growth\, or simply a change of scenery\, this day is your invitation to take that first step. Let’s dive into the meaning of this day\, ways to celebrate\, and how to keep the spirit alive year-round. \nWhat Is Call of the Horizon Day?\nCall of the Horizon Day (celebrated on July 9) symbolizes the magnetic pull of adventure. The “horizon” represents limitless potential—whether it’s a physical journey\, a career leap\, or an emotional breakthrough. \nUnlike traditional holidays\, this day isn’t about gifts or parties. Instead\, it’s a mindset shift. It’s a reminder that life’s greatest rewards often lie just beyond familiarity. \nWhy the Horizon Calls to Us\nHumans are wired for exploration. From ancient seafarers to modern-day nomads\, the urge to discover runs deep. Here’s why the horizon captivates us: \n\nFreedom & Possibility – The horizon symbolizes uncharted territory\, where anything is possible.\nPersonal Growth – Stepping into the unknown builds resilience and creativity.\nConnection to Nature – Vast landscapes remind us of the world’s beauty and our place within it.\n\nPsychologists even link novel experiences to increased happiness and mental clarity. So\, when the horizon calls\, answering it can be life-changing. \nHow to Celebrate Call of the Horizon Day\nYou don’t need a plane ticket or a radical life change to honor this day. Small\, intentional actions count just as much. \n1. Take a Spontaneous Trip\nDrive to a nearby town you’ve never visited. Hike a new trail. Or simply wander without a plan. Let curiosity guide you. \n2. Set a Bold Goal\nIs there a dream you’ve postponed? Today’s the day to outline one actionable step toward it—whether it’s writing a book\, learning a skill\, or starting a business. \n3. Try Something Unfamiliar\nOrder a dish you’ve never tasted. Attend a workshop outside your usual interests. Say “yes” to an unexpected opportunity. \n4. Reflect on Your “Horizons”\nGrab a journal and ask yourself: \n\nWhat excites me but feels out of reach?\nWhere do I see myself in five years?\nWhat’s one fear holding me back?\n\n5. Share the Spirit\nEncourage others to embrace adventure. Post an inspiring quote\, host a vision-board party\, or gift someone a “dream starter” (like a travel journal or class voucher). \nFamous Horizons in History & Culture\nThroughout time\, the horizon has motivated iconic journeys: \n\n\nExplorers – Magellan\, Amelia Earhart\, and Neil Armstrong all chased literal and figurative horizons. \n\n\nArtists – Van Gogh’s starry skies and Jack Kerouac’s On the Road capture the allure of the unknown. \n\n\nEveryday Heroes – Immigrants\, career changers\, and activists also follow their horizons in quieter but equally bold ways. \n\n\nTheir stories prove: the horizon isn’t just a place—it’s a calling. \nOvercoming the Fear of the Unknown\nIt’s normal to hesitate when facing new frontiers. Here’s how to push through: \n\n\nStart Small – Big leaps begin with tiny steps. Read a book on a new topic before enrolling in a course. \n\n\nReframe “Failure” – Missteps are data\, not defeat. Every explorer hits dead ends before finding their path. \n\n\nFind a Cheerleader – Share your plans with someone who’ll encourage you. \n\n\nRemember: Growth happens outside comfort zones. \nKeeping the Spirit Alive Beyond July 9\nDon’t let inspiration fade after one day. Try these habits: \n\n\nMonthly Challenges – Each month\, tackle one thing that scares or excites you. \n\n\nAdventure Fund – Set aside money for future travels or experiences. \n\n\nHorizon Reminders – Keep a quote or photo on your desk to stay motivated. \n\n\nFinal Thought: What’s Your Horizon?\nCall of the Horizon Day isn’t about drastic change—it’s about listening to that quiet tug toward something more. Whether your “horizon” is a mountain peak\, a creative project\, or inner peace\, today’s the day to lean in. \nWhat’s calling to you from the horizon? Share your dreams or upcoming adventures below—we’d love to cheer you on! \n“Please note that some of the links in this blog post are affiliate links. This means that if you click on a link and make a purchase\, I may receive a commission. This helps support my blog and allows me to continue creating content for you. Thank you for your support!”  \nAll about July\nJuly Celebrations and Holidays
URL:https://celebratethis.holiday/event/call-of-the-horizon-day/2027-07-09/
CATEGORIES:Daily,EUE,Fun,People
ATTACH;FMTTYPE=image/jpeg:https://celebratethis.holiday/wp-content/uploads/2025/07/alone-21842_1280.jpg
END:VEVENT
END:VCALENDAR