BEGIN:VCALENDAR
VERSION:2.0
PRODID:-//Celebrate This! - ECPv6.15.20//NONSGML v1.0//EN
CALSCALE:GREGORIAN
METHOD:PUBLISH
X-ORIGINAL-URL:https://celebratethis.holiday
X-WR-CALDESC:Events for Celebrate This!
REFRESH-INTERVAL;VALUE=DURATION:PT1H
X-Robots-Tag:noindex
X-PUBLISHED-TTL:PT1H
BEGIN:VTIMEZONE
TZID:America/New_York
BEGIN:DAYLIGHT
TZOFFSETFROM:-0500
TZOFFSETTO:-0400
TZNAME:EDT
DTSTART:20260308T070000
END:DAYLIGHT
BEGIN:STANDARD
TZOFFSETFROM:-0400
TZOFFSETTO:-0500
TZNAME:EST
DTSTART:20261101T060000
END:STANDARD
BEGIN:DAYLIGHT
TZOFFSETFROM:-0500
TZOFFSETTO:-0400
TZNAME:EDT
DTSTART:20270314T070000
END:DAYLIGHT
BEGIN:STANDARD
TZOFFSETFROM:-0400
TZOFFSETTO:-0500
TZNAME:EST
DTSTART:20271107T060000
END:STANDARD
BEGIN:DAYLIGHT
TZOFFSETFROM:-0500
TZOFFSETTO:-0400
TZNAME:EDT
DTSTART:20280312T070000
END:DAYLIGHT
BEGIN:STANDARD
TZOFFSETFROM:-0400
TZOFFSETTO:-0500
TZNAME:EST
DTSTART:20281105T060000
END:STANDARD
END:VTIMEZONE
BEGIN:VEVENT
DTSTART;VALUE=DATE:20270715
DTEND;VALUE=DATE:20270716
DTSTAMP:20260420T162856
CREATED:20250715T053527Z
LAST-MODIFIED:20250711T194013Z
UID:10000470-1815609600-1815695999@celebratethis.holiday
SUMMARY:Be a Dork Day: Celebrating Your Quirky\, Unapologetic Self
DESCRIPTION:All about July\nJuly Celebrations and Holidays\nEveryone has a little dorkiness inside them. Be a Dork Day\, celebrated every year on July 15\, encourages people to embrace their inner geek\, nerd\, or goofball without fear of judgment. This fun\, lighthearted holiday reminds us that being unique is something to celebrate\, not hide. \nA dork is someone who enthusiastically loves what they love\, without worrying about being “cool.” They’re the person who gets excited about niche hobbies\, cracks goofy jokes\, wears mismatched socks proudly\, and geeks out over their favorite topics (whether it’s astronomy\, antique teapots\, or anime). \nDorks are kindhearted\, curious\, and unapologetically themselves\, often with a dash of awkward charm. The term used to be an insult\, but now it’s a celebration of quirky passions and authenticity. \nThink of your friend who:\n– Recites Star Wars trivia at parties\n– Wears dinosaur shirts to job interviews\n– Laughs way too hard at puns \nBeing a dork means owning your weirdness with joy\, and that’s something to embrace! \nWhether you love comic books\, obsess over obscure facts\, or enjoy silly humor\, this day is for you. Let’s explore the history of Be a Dork Day\, discover why it matters\, and dive into creative ways to celebrate. \nThe Origins of Be a Dork Day\nThe exact origins of Be a Dork Day are unclear\, but it likely emerged from internet culture in the early 2000s. Online communities\, especially forums and social media\, helped popularize the idea of celebrating “dorkiness” as a positive trait. \nUnlike traditional holidays\, Be a Dork Day wasn’t created by a corporation or organization. Instead\, it grew organically from people who wanted to reclaim the word “dork” as a badge of honor. Over time\, it became a day to: \n\nReject stereotypes – Being smart\, passionate\, or quirky isn’t something to be ashamed of.\nEncourage self-expression – Dorks often have niche interests\, and that’s awesome.\nPromote inclusivity – Everyone has their own kind of dorkiness\, and all are welcome.\n\nToday\, the holiday is celebrated worldwide by people who proudly own their unique passions. \nWhy Celebrating Dorkiness Matters\nSociety often pressures people to “fit in\,” but Be a Dork Day flips that idea. Here’s why embracing your inner dork is important: \n1. It Builds Confidence\nLoving what you love—without apology—helps you feel more comfortable in your own skin. \n2. It Fosters Creativity\nDorks dive deep into their interests\, leading to innovation\, art\, and new ideas. \n3. It Creates Community\nFrom comic book fans to science enthusiasts\, dorky passions bring people together. \n4. It Challenges Stereotypes\nThe word “dork” used to be an insult. Now\, it’s a celebration of individuality. \nHow to Celebrate Be a Dork Day\nReady to unleash your inner dork? Here are fun and meaningful ways to celebrate: \n1. Geek Out Over Your Favorite Things\n\nBinge-watch cult classics (Star Trek\, Lord of the Rings\, anime).\nRead comics or sci-fi novels in public without embarrassment.\nTalk endlessly about your niche hobby (whether it’s dinosaurs\, coding\, or vintage toys).\n\n2. Dress the Part\n\nWear mismatched socks\, suspenders\, or a cape—just because.\nRock fandom merch (Harry Potter scarves\, superhero shirts\, or math pun tees).\nTry a fun hairstyle (space buns\, colorful streaks\, or a retro ’80s look).\n\n3. Share Your Dorky Talents\n\nDo a magic trick (even if it’s cheesy).\nSpeak in a fictional language (Klingon\, Elvish\, or Huttese).\nShow off your collection (action figures\, rare coins\, or pressed flowers).\n\n4. Connect with Fellow Dorks\n\nHost a game night (board games\, D&D\, or trivia).\nJoin an online fandom group and chat about your obsessions.\nAttend a convention (Comic-Con\, anime expos\, or book fairs).\n\n5. Spread Dorky Joy\n\nSend a silly meme to friends.\nTeach someone a fun fact they’ll never forget.\nWrite fanfiction or create fan art and share it.\n\nFamous Dorks Who Changed the World\nSome of history’s most influential people were proud dorks: \n\nAlbert Einstein – His wild hair and love of physics made him a legendary nerd.\nBill Gates – A computer geek who revolutionized technology.\nLin-Manuel Miranda – A Broadway-loving dork who created Hamilton.\nSimone Biles – A gymnastics superstar who loves unicorns and glitter.\n\n \nTheir success proves that dorkiness and greatness go hand in hand. \nWhy Be a Dork Day is for Everyone\nYou don’t need to love Star Wars or know pi to 100 digits to participate. Being a dork simply means: \n✔ Owning what makes you different.\n✔ Refusing to dull your sparkle for others.\n✔ Finding joy in the little things. \nWhether you’re a bookworm\, a tech guru\, or just someone who laughs at dad jokes\, this day is yours. \nWhat’s Your Dorkiest Trait?\nBe a Dork Day is all about celebrating what makes you uniquely you. So\, tell us: \nWhat’s your favorite “dorky” interest? Are you a history buff\, a fantasy fanatic\, or a master of puns? Share your quirks in the comments—we’d love to celebrate them with you! \n“Please note that some of the links in this blog post are affiliate links. This means that if you click on a link and make a purchase\, I may receive a commission. This helps support my blog and allows me to continue creating content for you. Thank you for your support!”  \nAll about July\nJuly Celebrations and Holidays
URL:https://celebratethis.holiday/event/be-a-dork-day/2027-07-15/
CATEGORIES:Daily,EUE,Fun,National,People
ATTACH;FMTTYPE=image/jpeg:https://celebratethis.holiday/wp-content/uploads/2025/07/pencil-4804078_1280.jpg
END:VEVENT
BEGIN:VEVENT
DTSTART;VALUE=DATE:20270717
DTEND;VALUE=DATE:20270718
DTSTAMP:20260420T162856
CREATED:20250717T054033Z
LAST-MODIFIED:20250715T141750Z
UID:10000482-1815782400-1815868799@celebratethis.holiday
SUMMARY:World Emoji Day: Celebrating the Digital Language of the World
DESCRIPTION:All about July\nJuly Celebrations and Holidays\nIntroduction\nEmojis are everywhere. They fill our texts\, social media posts\, and even work emails. These tiny icons help us express emotions\, share ideas\, and connect across languages. Every year on July 17\, people around the globe celebrate World Emoji Day. \nBut why July 17? How did this fun holiday begin? And what are the best ways to celebrate? Let’s dive into the history\, significance\, and creative ways to enjoy this colorful day. \nThe Origins of World Emoji Day\nWorld Emoji Day was created in 2014 by Jeremy Burge\, founder of Emojipedia. He chose July 17 because it’s the date displayed on the calendar emoji across most platforms. The holiday quickly gained traction as emojis became a global phenomenon. Social media users\, brands\, and even celebrities embraced the celebration\, turning it into an annual digital event. \nThe Rise of Emoji Culture\nEmojis first appeared in the late 1990s thanks to Japanese artist Shigetaka Kurita. His original set of 176 pixelated icons was designed for a mobile communications company. By the 2010s\, tech giants like Apple and Google had adopted emojis\, making them a universal standard. As smartphones spread\, so did emoji use—transforming how people communicate online. World Emoji Day became a way to honor this cultural shift. \nModern Celebrations and Impact\nToday\, World Emoji Day is more popular than ever. Major companies like Twitter\, McDonald’s\, and Disney join the fun with emoji-themed campaigns. Even politicians and educators use the day to engage audiences. The holiday highlights how emojis bridge language gaps and add emotion to digital conversations. What started as a quirky idea is now a worldwide celebration of creativity and connection. \nIn 2015\, World Emoji Day gained major attention. Companies like Twitter and Disney joined the celebration. Now\, brands\, celebrities\, and even politicians use the day to share fun emoji-themed content. \nWhy Emojis Matter\nEmojis do more than make texts cute. They break language barriers. A smiley face means the same thing in Tokyo\, Paris\, or New York. \nThey also enhance digital communication. Without tone or body language\, messages can be misunderstood. A simple or adds clarity. \nBusinesses use emojis in marketing and branding. A well-placed or grabs attention fast. Even courts have ruled on emoji meanings in legal cases! \nHow to Celebrate World Emoji Day\nWant to join the fun? Here are creative and easy ways to celebrate: \n1. Host an Emoji-Themed Party\n\n\nDecorate with \, \, and balloons. \n\n\nServe food shaped like emojis ( pizza\, cookies). \n\n\nPlay emoji charades—act out phrases using only emojis! \n\n\n2. Share Your Favorite Emoji Online\n\n\nPost a tweet or story with your most-used emoji. \n\n\nUse hashtags like #WorldEmojiDay or #EmojiBirthday. \n\n\nChallenge friends to describe their day in only emojis. \n\n\n3. Create Emoji Art\n\n\nDraw or paint your own emoji designs. \n\n\nMake emoji jewelry (like a ❤️ pendant or earrings). \n\n\nCraft an emoji collage for your workspace. \n\n\n4. Learn About New Emojis\n\n\nCheck Emojipedia for latest releases. \n\n\nVote in polls for future emoji designs. \n\n\nSuggest an emoji you’d love to see! \n\n\n5. Use Emojis in Unexpected Ways\n\n\nWrite a poem or song using only emojis. \n\n\nReplace words in emails with emojis (where appropriate!). \n\n\nSend an emoji-only love note to a friend. \n\n\nThe Future of Emojis\nEmojis keep evolving. New additions include more diversity ()\, gender-neutral options\, and cultural symbols. \nTech advances may bring animated emojis and AI-generated icons. Some apps already let users customize emojis to look like themselves. \nOne thing is certain—emojis aren’t going away. They’ve become a universal digital language. \nFinal Thoughts\nWorld Emoji Day is a lighthearted\, global celebration. It reminds us how small symbols can create big connections. \nWhether you throw a party\, post online\, or just text a friend with extra s\, July 17 is the perfect day to express yourself with emojis. \nWhat’s your all-time favorite emoji? Drop it in the comments—we’d love to see! \n“Please note that some of the links in this blog post are affiliate links. This means that if you click on a link and make a purchase\, I may receive a commission. This helps support my blog and allows me to continue creating content for you. Thank you for your support!”  \nAll about July\nJuly Celebrations and Holidays
URL:https://celebratethis.holiday/event/world-emoji-day-celebrating-the-digital-language-of-the-world/2027-07-17/
CATEGORIES:EUE,Fun,Global,International,Technology,World
ATTACH;FMTTYPE=image/jpeg:https://celebratethis.holiday/wp-content/uploads/2025/07/emoji-653309_12801.jpg
END:VEVENT
END:VCALENDAR