BEGIN:VCALENDAR
VERSION:2.0
PRODID:-//Celebrate This! - ECPv6.15.20//NONSGML v1.0//EN
CALSCALE:GREGORIAN
METHOD:PUBLISH
X-WR-CALNAME:Celebrate This!
X-ORIGINAL-URL:https://celebratethis.holiday
X-WR-CALDESC:Events for Celebrate This!
REFRESH-INTERVAL;VALUE=DURATION:PT1H
X-Robots-Tag:noindex
X-PUBLISHED-TTL:PT1H
BEGIN:VTIMEZONE
TZID:America/New_York
BEGIN:DAYLIGHT
TZOFFSETFROM:-0500
TZOFFSETTO:-0400
TZNAME:EDT
DTSTART:20250309T070000
END:DAYLIGHT
BEGIN:STANDARD
TZOFFSETFROM:-0400
TZOFFSETTO:-0500
TZNAME:EST
DTSTART:20251102T060000
END:STANDARD
BEGIN:DAYLIGHT
TZOFFSETFROM:-0500
TZOFFSETTO:-0400
TZNAME:EDT
DTSTART:20260308T070000
END:DAYLIGHT
BEGIN:STANDARD
TZOFFSETFROM:-0400
TZOFFSETTO:-0500
TZNAME:EST
DTSTART:20261101T060000
END:STANDARD
BEGIN:DAYLIGHT
TZOFFSETFROM:-0500
TZOFFSETTO:-0400
TZNAME:EDT
DTSTART:20270314T070000
END:DAYLIGHT
BEGIN:STANDARD
TZOFFSETFROM:-0400
TZOFFSETTO:-0500
TZNAME:EST
DTSTART:20271107T060000
END:STANDARD
END:VTIMEZONE
BEGIN:VEVENT
DTSTART;VALUE=DATE:20260325
DTEND;VALUE=DATE:20260326
DTSTAMP:20260419T182226
CREATED:20250325T065833Z
LAST-MODIFIED:20250325T104516Z
UID:10000226-1774396800-1774483199@celebratethis.holiday
SUMMARY:International Waffle Day
DESCRIPTION:All about March\nMarch Celebrations and Holidays \nInternational Waffle Day: A Global Celebration of Crispy Goodness\nFew foods unite people across cultures like waffles. Whether you enjoy them thin and crispy or thick and fluffy\, International Waffle Day is the perfect excuse to indulge. But why does this delicious holiday exist? How do different countries celebrate it? And what are the best ways to join the fun? Let’s explore! \n  \n \nThe Origins of International Waffle Day\nThis tasty holiday began in Sweden as Våffeldagen\, a celebration marking the start of spring. Over time\, it spread worldwide\, becoming a day to honor waffles in all their forms. The date coincides with the Annunciation Feast\, when Swedes traditionally switched from fasting to feasting—with waffles as the star. \nInterestingly\, Belgium and the U.S. have their own waffle days\, but March 25 is the global version. It’s a nod to Sweden’s influence and the universal love of golden\, grid-patterned treats. \n \nWhy Waffles Are Worth Celebrating\nWaffles are more than just breakfast—they’re a cultural phenomenon. Belgians swear by their Liege waffles\, studded with pearl sugar. Americans stack them high with syrup and butter. In Hong Kong\, egg waffles (gai daan jai) are street food staples. \nThey’re also incredibly versatile. Sweet or savory\, simple or gourmet\, waffles adapt to any flavor profile. Plus\, they’re a crowd-pleaser. Few foods bring families and friends together like a waffle feast. \n \nHow to Celebrate International Waffle Day\nReady to join the global waffle party? Here are five delicious ways to celebrate: \n1. Try a New Waffle Recipe\nStep outside your comfort zone! Make Swedish heart-shaped waffles\, Belgian Liege waffles\, or Norwegian krumkake. Experiment with gluten-free or vegan batters for inclusivity. \n2. Go Global with Toppings\nTake inspiration from around the world. Top waffles with lingonberry jam (Sweden)\, Nutella (Italy)\, red bean paste (Japan)\, or fried chicken (U.S.). \n \n3. Host a Waffle Potluck\nInvite friends to bring their favorite waffle creations. Set up a topping bar with fruits\, syrups\, whipped cream\, and savory options like cheese and herbs. \n4. Visit a Waffle Café or Food Truck\nNo time to cook? Support local businesses serving international waffle styles. Many offer specials for the holiday. \n5. Share the Joy Online\nPost your waffle creations with #InternationalWaffleDay. Challenge followers to show their favorite versions! \n \nA Holiday That Brings the World Together\nInternational Waffle Day is more than just an excuse to eat carbs—it’s a celebration of cultural diversity and shared joy. Whether you keep it traditional or get creative\, it’s a chance to connect over a beloved food. \nWhat’s your favorite international waffle style? Have you ever tried a waffle flavor that surprised you? Share your stories below! \n \n“Please note that some of the links in this blog post are affiliate links. This means that if you click on a link and make a purchase\, I may receive a commission. This helps support my blog and allows me to continue creating content for you. Thank you for your support!”  \nAll about March\nMarch Celebrations and Holidays
URL:https://celebratethis.holiday/event/international-waffle-day/2026-03-25/
CATEGORIES:Food and Drink,Fun,International
ATTACH;FMTTYPE=image/jpeg:https://celebratethis.holiday/wp-content/uploads/2025/03/zVv0XL2ufPsIZq0xRqjE-4-933vw.jpg
END:VEVENT
BEGIN:VEVENT
DTSTART;VALUE=DATE:20260327
DTEND;VALUE=DATE:20260328
DTSTAMP:20260419T182226
CREATED:20250327T063651Z
LAST-MODIFIED:20250325T135817Z
UID:10000239-1774569600-1774655999@celebratethis.holiday
SUMMARY:Celebrating World Theatre Day: History\, Meaning & Festive Ideas
DESCRIPTION:All about March\nMarch Celebrations and Holidays \nThe Origins of World Theatre Day\nWorld Theatre Day has brought people together since 1961. The International Theatre Institute (ITI) created this special day to honor performing arts globally. Every year on March 27\, theatres\, artists\, and audiences celebrate the magic of live performance. \nThe first World Theatre Day message came from Jean Cocteau\, a French playwright. Since then\, legendary figures like Maya Angelou\, Laurence Olivier\, and Helen Mirren have shared inspiring speeches. This tradition keeps theatre’s spirit alive worldwide. \n \nWhy Theatre Matters\nTheatre is more than entertainment—it’s a powerful cultural force. It reflects society\, challenges perspectives\, and fosters empathy. Unlike films or TV\, theatre thrives on live connection between performers and audiences. \nAdditionally\, theatre preserves history. Ancient Greek dramas\, Shakespearean classics\, and modern experimental works all shape our collective story. Whether through comedy\, tragedy\, or musicals\, theatre helps us understand humanity. \n5 Fun Ways to Celebrate World Theatre Day\n \n1. Attend a Live Performance\nSupport local theatres by watching a play or musical. Many venues offer discounted ticket* or free events on March 27. \n2. Read a Famous Play\nCan’t make it to a show? Enjoy Shakespeare\, August Wilson\, or Lin-Manuel Miranda’s works at home. Host a script reading party with friends! \n3. Try Acting or Improv\nStep out of your comfort zone with an acting workshop. Improv games build creativity and confidence—perfect for beginners! \n4. Support Theatre Education\nDonate to school drama programs or youth theatres. Many young artists rely on these opportunities to grow. \n5. Share Your Love Online\nPost about your favorite play or actor using #WorldTheatreDay. Tag local theatres to spread the word! \n \nTheatre’s Global Impact\nFrom Japanese Kabuki to Broadway musicals\, theatre transcends language barriers. Festivals like Edinburgh Fringe and Avignon attract international crowds. Even street performances and community plays keep traditions alive in small towns. \nDuring crises\, theatre adapts. Virtual performances gained popularity during the pandemic\, proving its resilience. No matter the format\, storytelling remains essential. \nFinal Thoughts\nWorld Theatre Day reminds us of art’s unifying power. Whether you’re an actor\, director\, or simply an admirer\, everyone can participate. Support local artists\, explore new genres\, and keep the spotlight on live performance. \nWhat’s your favorite theatre memory? Share your story in the comments—we’d love to hear it! \n“Please note that some of the links in this blog post are affiliate links. This means that if you click on a link and make a purchase\, I may receive a commission. This helps support my blog and allows me to continue creating content for you. Thank you for your support!”  \nAll about March\nMarch Celebrations and Holidays
URL:https://celebratethis.holiday/event/celebrating-world-theatre-day-history-meaning-festive-ideas/2026-03-27/
CATEGORIES:Arts and Music,Daily,EUE,International
ATTACH;FMTTYPE=image/jpeg:https://celebratethis.holiday/wp-content/uploads/2025/03/VwbstGqAGdtMMLxVbSOW-0-ib78p.jpg
END:VEVENT
BEGIN:VEVENT
DTSTART;VALUE=DATE:20260329
DTEND;VALUE=DATE:20260330
DTSTAMP:20260419T182226
CREATED:20250329T130237Z
LAST-MODIFIED:20250329T140015Z
UID:10000257-1774742400-1774828799@celebratethis.holiday
SUMMARY:World Piano Day
DESCRIPTION:All about March\nMarch Celebrations and Holidays \nWorld Piano Day: History\, Meaning\, and Ways to Celebrate\nEvery year\, music lovers around the globe celebrate World Piano Day\, a tribute to one of the most beloved instruments in history. Whether you’re a pianist\, a casual listener\, or simply appreciate beautiful melodies\, this day invites everyone to enjoy the magic of the piano. Let’s explore its origins\, significance\, and fun ways to join the celebration. \nThe History of World Piano Day\nWorld Piano Day falls on March 29\, the 88th day of the year—a clever nod to the 88 keys on a standard piano. German musician\, Nils Frahm\, founded the event in 2015 to honor the instrument’s cultural impact. Since then\, pianists\, composers\, and music enthusiasts worldwide have embraced the occasion. \nThe piano itself has a rich history. Invented in 1700 by Bartolomeo Cristofori\, it revolutionized music by allowing dynamic volume control. Before then\, keyboards like the harpsichord couldn’t play soft or loud notes. Today\, the piano remains essential in classical\, jazz\, pop\, and even electronic music. \nAntique Harpsichord\nWhy the Piano Matters\nFew instruments match the piano’s versatility. It can convey deep emotion\, tell stories\, and bring people together. Unlike many instruments\, it works beautifully both as a solo act and an accompaniment. From Beethoven’s sonatas to modern film scores\, its influence is everywhere. \nAdditionally\, learning piano boosts creativity and brain function. Studies show it improves memory\, coordination\, and even math skills. Whether you’re a beginner or a seasoned player\, the piano offers endless opportunities for growth. \n \nHow to Celebrate World Piano Day\nYou don’t need to be a virtuoso to enjoy this day. Here are some inclusive and engaging ways to participate: \n1. Play or Listen to Piano Music\nIf you own a piano\, take time to play your favorite piece. Not a pianist? No problem! Stream performances by legends like Ludovico Einaudi\, Yiruma\, or Lang Lang. Many artists release special World Piano Day content—keep an ear out. \n2. Attend a Live Concert or Virtual Event\nCities worldwide host piano recitals\, masterclasses\, and flash mobs. Can’t find a local event? Tune into YouTube or Facebook livestreams featuring global artists. Some venues even offer free entry for the occasion. \n \n3. Learn a Fun Fact or Share One\nDid you know the world’s largest piano weighs 1.4 tons? Or that the most expensive piano sold for $3.22 million? Share quirky facts on social media using #WorldPianoDay to spark conversations. \n4. Try a Mini Piano Lesson\nAlways wanted to play? Apps like Simply Piano or Flowkey offer free trials. Even learning a simple melody like “Twinkle Twinkle Little Star” can be rewarding. \n5. Support Piano Education\nMany schools lack funding for music programs. Consider donating to organizations like Pianos for People or volunteering at local music workshops. \n \n6. Get Creative with Piano-Inspired Art\nPaint\, draw\, or write poetry inspired by piano music. Film yourself reacting to a powerful performance\, or compose a short digital track using piano samples. \n7. Visit a Piano Museum or Exhibit\nCities like Leipzig\, Germany\, and Ashburnham\, Massachusetts\, house fascinating piano museums. Explore the instrument’s evolution through rare and antique models. \n \nFinal Thoughts\nWorld Piano Day is more than just an appreciation of an instrument—it’s a celebration of human creativity. Whether you play\, listen\, or simply admire from afar\, take a moment to enjoy the piano’s timeless beauty. \nWhat’s your favorite piano piece or memory? Share below—we’d love to hear your stories! \n“Please note that some of the links in this blog post are affiliate links. This means that if you click on a link and make a purchase\, I may receive a commission. This helps support my blog and allows me to continue creating content for you. Thank you for your support!”  \nAll about March\nMarch Celebrations and Holidays
URL:https://celebratethis.holiday/event/world-piano-day/2026-03-29/
CATEGORIES:Arts and Music,Daily,EUE,International
ATTACH;FMTTYPE=image/jpeg:https://celebratethis.holiday/wp-content/uploads/2025/03/piano-5947813_1280.jpg
END:VEVENT
END:VCALENDAR