BEGIN:VCALENDAR
VERSION:2.0
PRODID:-//Celebrate This! - ECPv6.15.20//NONSGML v1.0//EN
CALSCALE:GREGORIAN
METHOD:PUBLISH
X-WR-CALNAME:Celebrate This!
X-ORIGINAL-URL:https://celebratethis.holiday
X-WR-CALDESC:Events for Celebrate This!
REFRESH-INTERVAL;VALUE=DURATION:PT1H
X-Robots-Tag:noindex
X-PUBLISHED-TTL:PT1H
BEGIN:VTIMEZONE
TZID:America/New_York
BEGIN:DAYLIGHT
TZOFFSETFROM:-0500
TZOFFSETTO:-0400
TZNAME:EDT
DTSTART:20260308T070000
END:DAYLIGHT
BEGIN:STANDARD
TZOFFSETFROM:-0400
TZOFFSETTO:-0500
TZNAME:EST
DTSTART:20261101T060000
END:STANDARD
BEGIN:DAYLIGHT
TZOFFSETFROM:-0500
TZOFFSETTO:-0400
TZNAME:EDT
DTSTART:20270314T070000
END:DAYLIGHT
BEGIN:STANDARD
TZOFFSETFROM:-0400
TZOFFSETTO:-0500
TZNAME:EST
DTSTART:20271107T060000
END:STANDARD
BEGIN:DAYLIGHT
TZOFFSETFROM:-0500
TZOFFSETTO:-0400
TZNAME:EDT
DTSTART:20280312T070000
END:DAYLIGHT
BEGIN:STANDARD
TZOFFSETFROM:-0400
TZOFFSETTO:-0500
TZNAME:EST
DTSTART:20281105T060000
END:STANDARD
BEGIN:DAYLIGHT
TZOFFSETFROM:-0500
TZOFFSETTO:-0400
TZNAME:EDT
DTSTART:20290311T070000
END:DAYLIGHT
BEGIN:STANDARD
TZOFFSETFROM:-0400
TZOFFSETTO:-0500
TZNAME:EST
DTSTART:20291104T060000
END:STANDARD
BEGIN:DAYLIGHT
TZOFFSETFROM:-0500
TZOFFSETTO:-0400
TZNAME:EDT
DTSTART:20300310T070000
END:DAYLIGHT
BEGIN:STANDARD
TZOFFSETFROM:-0400
TZOFFSETTO:-0500
TZNAME:EST
DTSTART:20301103T060000
END:STANDARD
BEGIN:DAYLIGHT
TZOFFSETFROM:-0500
TZOFFSETTO:-0400
TZNAME:EDT
DTSTART:20310309T070000
END:DAYLIGHT
BEGIN:STANDARD
TZOFFSETFROM:-0400
TZOFFSETTO:-0500
TZNAME:EST
DTSTART:20311102T060000
END:STANDARD
END:VTIMEZONE
BEGIN:VEVENT
DTSTART;VALUE=DATE:20270329
DTEND;VALUE=DATE:20270330
DTSTAMP:20260419T095638
CREATED:20250329T130237Z
LAST-MODIFIED:20250329T140015Z
UID:10000258-1806278400-1806364799@celebratethis.holiday
SUMMARY:World Piano Day
DESCRIPTION:All about March\nMarch Celebrations and Holidays \nWorld Piano Day: History\, Meaning\, and Ways to Celebrate\nEvery year\, music lovers around the globe celebrate World Piano Day\, a tribute to one of the most beloved instruments in history. Whether you’re a pianist\, a casual listener\, or simply appreciate beautiful melodies\, this day invites everyone to enjoy the magic of the piano. Let’s explore its origins\, significance\, and fun ways to join the celebration. \nThe History of World Piano Day\nWorld Piano Day falls on March 29\, the 88th day of the year—a clever nod to the 88 keys on a standard piano. German musician\, Nils Frahm\, founded the event in 2015 to honor the instrument’s cultural impact. Since then\, pianists\, composers\, and music enthusiasts worldwide have embraced the occasion. \nThe piano itself has a rich history. Invented in 1700 by Bartolomeo Cristofori\, it revolutionized music by allowing dynamic volume control. Before then\, keyboards like the harpsichord couldn’t play soft or loud notes. Today\, the piano remains essential in classical\, jazz\, pop\, and even electronic music. \nAntique Harpsichord\nWhy the Piano Matters\nFew instruments match the piano’s versatility. It can convey deep emotion\, tell stories\, and bring people together. Unlike many instruments\, it works beautifully both as a solo act and an accompaniment. From Beethoven’s sonatas to modern film scores\, its influence is everywhere. \nAdditionally\, learning piano boosts creativity and brain function. Studies show it improves memory\, coordination\, and even math skills. Whether you’re a beginner or a seasoned player\, the piano offers endless opportunities for growth. \n \nHow to Celebrate World Piano Day\nYou don’t need to be a virtuoso to enjoy this day. Here are some inclusive and engaging ways to participate: \n1. Play or Listen to Piano Music\nIf you own a piano\, take time to play your favorite piece. Not a pianist? No problem! Stream performances by legends like Ludovico Einaudi\, Yiruma\, or Lang Lang. Many artists release special World Piano Day content—keep an ear out. \n2. Attend a Live Concert or Virtual Event\nCities worldwide host piano recitals\, masterclasses\, and flash mobs. Can’t find a local event? Tune into YouTube or Facebook livestreams featuring global artists. Some venues even offer free entry for the occasion. \n \n3. Learn a Fun Fact or Share One\nDid you know the world’s largest piano weighs 1.4 tons? Or that the most expensive piano sold for $3.22 million? Share quirky facts on social media using #WorldPianoDay to spark conversations. \n4. Try a Mini Piano Lesson\nAlways wanted to play? Apps like Simply Piano or Flowkey offer free trials. Even learning a simple melody like “Twinkle Twinkle Little Star” can be rewarding. \n5. Support Piano Education\nMany schools lack funding for music programs. Consider donating to organizations like Pianos for People or volunteering at local music workshops. \n \n6. Get Creative with Piano-Inspired Art\nPaint\, draw\, or write poetry inspired by piano music. Film yourself reacting to a powerful performance\, or compose a short digital track using piano samples. \n7. Visit a Piano Museum or Exhibit\nCities like Leipzig\, Germany\, and Ashburnham\, Massachusetts\, house fascinating piano museums. Explore the instrument’s evolution through rare and antique models. \n \nFinal Thoughts\nWorld Piano Day is more than just an appreciation of an instrument—it’s a celebration of human creativity. Whether you play\, listen\, or simply admire from afar\, take a moment to enjoy the piano’s timeless beauty. \nWhat’s your favorite piano piece or memory? Share below—we’d love to hear your stories! \n“Please note that some of the links in this blog post are affiliate links. This means that if you click on a link and make a purchase\, I may receive a commission. This helps support my blog and allows me to continue creating content for you. Thank you for your support!”  \nAll about March\nMarch Celebrations and Holidays
URL:https://celebratethis.holiday/event/world-piano-day/2027-03-29/
CATEGORIES:Arts and Music,Daily,EUE,International
ATTACH;FMTTYPE=image/jpeg:https://celebratethis.holiday/wp-content/uploads/2025/03/piano-5947813_1280.jpg
END:VEVENT
BEGIN:VEVENT
DTSTART;VALUE=DATE:20280329
DTEND;VALUE=DATE:20280330
DTSTAMP:20260419T095638
CREATED:20250329T130237Z
LAST-MODIFIED:20250329T140015Z
UID:10000259-1837900800-1837987199@celebratethis.holiday
SUMMARY:World Piano Day
DESCRIPTION:All about March\nMarch Celebrations and Holidays \nWorld Piano Day: History\, Meaning\, and Ways to Celebrate\nEvery year\, music lovers around the globe celebrate World Piano Day\, a tribute to one of the most beloved instruments in history. Whether you’re a pianist\, a casual listener\, or simply appreciate beautiful melodies\, this day invites everyone to enjoy the magic of the piano. Let’s explore its origins\, significance\, and fun ways to join the celebration. \nThe History of World Piano Day\nWorld Piano Day falls on March 29\, the 88th day of the year—a clever nod to the 88 keys on a standard piano. German musician\, Nils Frahm\, founded the event in 2015 to honor the instrument’s cultural impact. Since then\, pianists\, composers\, and music enthusiasts worldwide have embraced the occasion. \nThe piano itself has a rich history. Invented in 1700 by Bartolomeo Cristofori\, it revolutionized music by allowing dynamic volume control. Before then\, keyboards like the harpsichord couldn’t play soft or loud notes. Today\, the piano remains essential in classical\, jazz\, pop\, and even electronic music. \nAntique Harpsichord\nWhy the Piano Matters\nFew instruments match the piano’s versatility. It can convey deep emotion\, tell stories\, and bring people together. Unlike many instruments\, it works beautifully both as a solo act and an accompaniment. From Beethoven’s sonatas to modern film scores\, its influence is everywhere. \nAdditionally\, learning piano boosts creativity and brain function. Studies show it improves memory\, coordination\, and even math skills. Whether you’re a beginner or a seasoned player\, the piano offers endless opportunities for growth. \n \nHow to Celebrate World Piano Day\nYou don’t need to be a virtuoso to enjoy this day. Here are some inclusive and engaging ways to participate: \n1. Play or Listen to Piano Music\nIf you own a piano\, take time to play your favorite piece. Not a pianist? No problem! Stream performances by legends like Ludovico Einaudi\, Yiruma\, or Lang Lang. Many artists release special World Piano Day content—keep an ear out. \n2. Attend a Live Concert or Virtual Event\nCities worldwide host piano recitals\, masterclasses\, and flash mobs. Can’t find a local event? Tune into YouTube or Facebook livestreams featuring global artists. Some venues even offer free entry for the occasion. \n \n3. Learn a Fun Fact or Share One\nDid you know the world’s largest piano weighs 1.4 tons? Or that the most expensive piano sold for $3.22 million? Share quirky facts on social media using #WorldPianoDay to spark conversations. \n4. Try a Mini Piano Lesson\nAlways wanted to play? Apps like Simply Piano or Flowkey offer free trials. Even learning a simple melody like “Twinkle Twinkle Little Star” can be rewarding. \n5. Support Piano Education\nMany schools lack funding for music programs. Consider donating to organizations like Pianos for People or volunteering at local music workshops. \n \n6. Get Creative with Piano-Inspired Art\nPaint\, draw\, or write poetry inspired by piano music. Film yourself reacting to a powerful performance\, or compose a short digital track using piano samples. \n7. Visit a Piano Museum or Exhibit\nCities like Leipzig\, Germany\, and Ashburnham\, Massachusetts\, house fascinating piano museums. Explore the instrument’s evolution through rare and antique models. \n \nFinal Thoughts\nWorld Piano Day is more than just an appreciation of an instrument—it’s a celebration of human creativity. Whether you play\, listen\, or simply admire from afar\, take a moment to enjoy the piano’s timeless beauty. \nWhat’s your favorite piano piece or memory? Share below—we’d love to hear your stories! \n“Please note that some of the links in this blog post are affiliate links. This means that if you click on a link and make a purchase\, I may receive a commission. This helps support my blog and allows me to continue creating content for you. Thank you for your support!”  \nAll about March\nMarch Celebrations and Holidays
URL:https://celebratethis.holiday/event/world-piano-day/2028-03-29/
CATEGORIES:Arts and Music,Daily,EUE,International
ATTACH;FMTTYPE=image/jpeg:https://celebratethis.holiday/wp-content/uploads/2025/03/piano-5947813_1280.jpg
END:VEVENT
BEGIN:VEVENT
DTSTART;VALUE=DATE:20290329
DTEND;VALUE=DATE:20290330
DTSTAMP:20260419T095638
CREATED:20250329T130237Z
LAST-MODIFIED:20250329T140015Z
UID:10000260-1869436800-1869523199@celebratethis.holiday
SUMMARY:World Piano Day
DESCRIPTION:All about March\nMarch Celebrations and Holidays \nWorld Piano Day: History\, Meaning\, and Ways to Celebrate\nEvery year\, music lovers around the globe celebrate World Piano Day\, a tribute to one of the most beloved instruments in history. Whether you’re a pianist\, a casual listener\, or simply appreciate beautiful melodies\, this day invites everyone to enjoy the magic of the piano. Let’s explore its origins\, significance\, and fun ways to join the celebration. \nThe History of World Piano Day\nWorld Piano Day falls on March 29\, the 88th day of the year—a clever nod to the 88 keys on a standard piano. German musician\, Nils Frahm\, founded the event in 2015 to honor the instrument’s cultural impact. Since then\, pianists\, composers\, and music enthusiasts worldwide have embraced the occasion. \nThe piano itself has a rich history. Invented in 1700 by Bartolomeo Cristofori\, it revolutionized music by allowing dynamic volume control. Before then\, keyboards like the harpsichord couldn’t play soft or loud notes. Today\, the piano remains essential in classical\, jazz\, pop\, and even electronic music. \nAntique Harpsichord\nWhy the Piano Matters\nFew instruments match the piano’s versatility. It can convey deep emotion\, tell stories\, and bring people together. Unlike many instruments\, it works beautifully both as a solo act and an accompaniment. From Beethoven’s sonatas to modern film scores\, its influence is everywhere. \nAdditionally\, learning piano boosts creativity and brain function. Studies show it improves memory\, coordination\, and even math skills. Whether you’re a beginner or a seasoned player\, the piano offers endless opportunities for growth. \n \nHow to Celebrate World Piano Day\nYou don’t need to be a virtuoso to enjoy this day. Here are some inclusive and engaging ways to participate: \n1. Play or Listen to Piano Music\nIf you own a piano\, take time to play your favorite piece. Not a pianist? No problem! Stream performances by legends like Ludovico Einaudi\, Yiruma\, or Lang Lang. Many artists release special World Piano Day content—keep an ear out. \n2. Attend a Live Concert or Virtual Event\nCities worldwide host piano recitals\, masterclasses\, and flash mobs. Can’t find a local event? Tune into YouTube or Facebook livestreams featuring global artists. Some venues even offer free entry for the occasion. \n \n3. Learn a Fun Fact or Share One\nDid you know the world’s largest piano weighs 1.4 tons? Or that the most expensive piano sold for $3.22 million? Share quirky facts on social media using #WorldPianoDay to spark conversations. \n4. Try a Mini Piano Lesson\nAlways wanted to play? Apps like Simply Piano or Flowkey offer free trials. Even learning a simple melody like “Twinkle Twinkle Little Star” can be rewarding. \n5. Support Piano Education\nMany schools lack funding for music programs. Consider donating to organizations like Pianos for People or volunteering at local music workshops. \n \n6. Get Creative with Piano-Inspired Art\nPaint\, draw\, or write poetry inspired by piano music. Film yourself reacting to a powerful performance\, or compose a short digital track using piano samples. \n7. Visit a Piano Museum or Exhibit\nCities like Leipzig\, Germany\, and Ashburnham\, Massachusetts\, house fascinating piano museums. Explore the instrument’s evolution through rare and antique models. \n \nFinal Thoughts\nWorld Piano Day is more than just an appreciation of an instrument—it’s a celebration of human creativity. Whether you play\, listen\, or simply admire from afar\, take a moment to enjoy the piano’s timeless beauty. \nWhat’s your favorite piano piece or memory? Share below—we’d love to hear your stories! \n“Please note that some of the links in this blog post are affiliate links. This means that if you click on a link and make a purchase\, I may receive a commission. This helps support my blog and allows me to continue creating content for you. Thank you for your support!”  \nAll about March\nMarch Celebrations and Holidays
URL:https://celebratethis.holiday/event/world-piano-day/2029-03-29/
CATEGORIES:Arts and Music,Daily,EUE,International
ATTACH;FMTTYPE=image/jpeg:https://celebratethis.holiday/wp-content/uploads/2025/03/piano-5947813_1280.jpg
END:VEVENT
BEGIN:VEVENT
DTSTART;VALUE=DATE:20300329
DTEND;VALUE=DATE:20300330
DTSTAMP:20260419T095638
CREATED:20250329T130237Z
LAST-MODIFIED:20250329T140015Z
UID:10000261-1900972800-1901059199@celebratethis.holiday
SUMMARY:World Piano Day
DESCRIPTION:All about March\nMarch Celebrations and Holidays \nWorld Piano Day: History\, Meaning\, and Ways to Celebrate\nEvery year\, music lovers around the globe celebrate World Piano Day\, a tribute to one of the most beloved instruments in history. Whether you’re a pianist\, a casual listener\, or simply appreciate beautiful melodies\, this day invites everyone to enjoy the magic of the piano. Let’s explore its origins\, significance\, and fun ways to join the celebration. \nThe History of World Piano Day\nWorld Piano Day falls on March 29\, the 88th day of the year—a clever nod to the 88 keys on a standard piano. German musician\, Nils Frahm\, founded the event in 2015 to honor the instrument’s cultural impact. Since then\, pianists\, composers\, and music enthusiasts worldwide have embraced the occasion. \nThe piano itself has a rich history. Invented in 1700 by Bartolomeo Cristofori\, it revolutionized music by allowing dynamic volume control. Before then\, keyboards like the harpsichord couldn’t play soft or loud notes. Today\, the piano remains essential in classical\, jazz\, pop\, and even electronic music. \nAntique Harpsichord\nWhy the Piano Matters\nFew instruments match the piano’s versatility. It can convey deep emotion\, tell stories\, and bring people together. Unlike many instruments\, it works beautifully both as a solo act and an accompaniment. From Beethoven’s sonatas to modern film scores\, its influence is everywhere. \nAdditionally\, learning piano boosts creativity and brain function. Studies show it improves memory\, coordination\, and even math skills. Whether you’re a beginner or a seasoned player\, the piano offers endless opportunities for growth. \n \nHow to Celebrate World Piano Day\nYou don’t need to be a virtuoso to enjoy this day. Here are some inclusive and engaging ways to participate: \n1. Play or Listen to Piano Music\nIf you own a piano\, take time to play your favorite piece. Not a pianist? No problem! Stream performances by legends like Ludovico Einaudi\, Yiruma\, or Lang Lang. Many artists release special World Piano Day content—keep an ear out. \n2. Attend a Live Concert or Virtual Event\nCities worldwide host piano recitals\, masterclasses\, and flash mobs. Can’t find a local event? Tune into YouTube or Facebook livestreams featuring global artists. Some venues even offer free entry for the occasion. \n \n3. Learn a Fun Fact or Share One\nDid you know the world’s largest piano weighs 1.4 tons? Or that the most expensive piano sold for $3.22 million? Share quirky facts on social media using #WorldPianoDay to spark conversations. \n4. Try a Mini Piano Lesson\nAlways wanted to play? Apps like Simply Piano or Flowkey offer free trials. Even learning a simple melody like “Twinkle Twinkle Little Star” can be rewarding. \n5. Support Piano Education\nMany schools lack funding for music programs. Consider donating to organizations like Pianos for People or volunteering at local music workshops. \n \n6. Get Creative with Piano-Inspired Art\nPaint\, draw\, or write poetry inspired by piano music. Film yourself reacting to a powerful performance\, or compose a short digital track using piano samples. \n7. Visit a Piano Museum or Exhibit\nCities like Leipzig\, Germany\, and Ashburnham\, Massachusetts\, house fascinating piano museums. Explore the instrument’s evolution through rare and antique models. \n \nFinal Thoughts\nWorld Piano Day is more than just an appreciation of an instrument—it’s a celebration of human creativity. Whether you play\, listen\, or simply admire from afar\, take a moment to enjoy the piano’s timeless beauty. \nWhat’s your favorite piano piece or memory? Share below—we’d love to hear your stories! \n“Please note that some of the links in this blog post are affiliate links. This means that if you click on a link and make a purchase\, I may receive a commission. This helps support my blog and allows me to continue creating content for you. Thank you for your support!”  \nAll about March\nMarch Celebrations and Holidays
URL:https://celebratethis.holiday/event/world-piano-day/2030-03-29/
CATEGORIES:Arts and Music,Daily,EUE,International
ATTACH;FMTTYPE=image/jpeg:https://celebratethis.holiday/wp-content/uploads/2025/03/piano-5947813_1280.jpg
END:VEVENT
END:VCALENDAR