BEGIN:VCALENDAR
VERSION:2.0
PRODID:-//Celebrate This! - ECPv6.15.20//NONSGML v1.0//EN
CALSCALE:GREGORIAN
METHOD:PUBLISH
X-ORIGINAL-URL:https://celebratethis.holiday
X-WR-CALDESC:Events for Celebrate This!
REFRESH-INTERVAL;VALUE=DURATION:PT1H
X-Robots-Tag:noindex
X-PUBLISHED-TTL:PT1H
BEGIN:VTIMEZONE
TZID:America/New_York
BEGIN:DAYLIGHT
TZOFFSETFROM:-0500
TZOFFSETTO:-0400
TZNAME:EDT
DTSTART:20240310T070000
END:DAYLIGHT
BEGIN:STANDARD
TZOFFSETFROM:-0400
TZOFFSETTO:-0500
TZNAME:EST
DTSTART:20241103T060000
END:STANDARD
BEGIN:DAYLIGHT
TZOFFSETFROM:-0500
TZOFFSETTO:-0400
TZNAME:EDT
DTSTART:20250309T070000
END:DAYLIGHT
BEGIN:STANDARD
TZOFFSETFROM:-0400
TZOFFSETTO:-0500
TZNAME:EST
DTSTART:20251102T060000
END:STANDARD
BEGIN:DAYLIGHT
TZOFFSETFROM:-0500
TZOFFSETTO:-0400
TZNAME:EDT
DTSTART:20260308T070000
END:DAYLIGHT
BEGIN:STANDARD
TZOFFSETFROM:-0400
TZOFFSETTO:-0500
TZNAME:EST
DTSTART:20261101T060000
END:STANDARD
BEGIN:DAYLIGHT
TZOFFSETFROM:-0500
TZOFFSETTO:-0400
TZNAME:EDT
DTSTART:20270314T070000
END:DAYLIGHT
BEGIN:STANDARD
TZOFFSETFROM:-0400
TZOFFSETTO:-0500
TZNAME:EST
DTSTART:20271107T060000
END:STANDARD
END:VTIMEZONE
BEGIN:VEVENT
DTSTART;VALUE=DATE:20260324
DTEND;VALUE=DATE:20260325
DTSTAMP:20260423T012449
CREATED:20250324T062707Z
LAST-MODIFIED:20250324T154257Z
UID:10000219-1774310400-1774396799@celebratethis.holiday
SUMMARY:National Cocktail Day
DESCRIPTION:All about March\nMarch Celebrations and Holidays \nCelebrate Cocktail Day: A Toast to History\, Culture & Creativity\nNational Cocktail Day is the perfect excuse to shake up something special. Whether you’re a mixology pro or a casual drink enthusiast\, this holiday celebrates the art\, history\, and joy of cocktails. But when did cocktails become a global phenomenon? Why do we celebrate them? And how can you join the fun? Let’s dive into the spirited world of Cocktail Day. \n  \n \nThe Origins of Cocktail Day\nCocktails have a rich and colorful history. The term “cocktail” first appeared in print in 1806\, defined as a mix of spirits\, sugar\, water\, and bitters. Early cocktails were often medicinal\, blending alcohol with herbs and spices. By the 19th century\, they became symbols of sophistication and social connection. \nCocktail Day itself doesn’t have one clear origin. Some believe it started as a marketing push by bars and distilleries. Others see it as a natural celebration of mixology’s creativity. Regardless\, it’s now observed globally on March 24th\, giving everyone a reason to raise a glass. \n \nWhy Cocktails Matter\nCocktails are more than just drinks—they’re cultural icons. From the Martini’s elegance to the Margarita’s zest\, each tells a story. They’ve shaped social gatherings\, inspired art\, and even influenced politics (think Prohibition-era speakeasies). \nThey also bring people together. A well-crafted cocktail can turn strangers into friends and meals into celebrations. Plus\, modern mixology embraces inclusivity\, with zero-proof options ensuring everyone can join the toast. \n \nHow to Celebrate Cocktail Day\nReady to stir up some fun? Here are five ways to celebrate Cocktail Day in style: \n1. Mix a Classic Cocktail\nTry your hand at timeless recipes like the Old Fashioned\, Mojito\, or Negroni. Use quality ingredients\, and don’t forget the garnish—a citrus twist or fresh herb sprig makes all the difference. \n2. Invent Your Own Signature Drink\nGet creative! Experiment with flavors like spicy jalapeño\, floral lavender\, or tropical fruit. Name your creation after yourself or a loved one for extra personal flair. \n \n3. Host a Cocktail Tasting Party\nInvite friends over for a DIY tasting. Set up a bar cart with spirits\, mixers\, and garnishes. Challenge guests to craft their best concoction and vote for a winner. \n4. Explore Zero-Proof Mixology\nNot drinking alcohol? No problem. Craft sophisticated mocktails using ingredients like Seedlip\, kombucha\, or house-made syrups. A Rosemary Grapefruit Spritz or Cucumber Mint Cooler can be just as festive. \n5. Support Local Bars and Bartenders\nVisit your favorite neighborhood bar or try a new spot. Chat with bartenders about their craft—they’re often full of fascinating stories and tips. \n \nA Toast to Creativity and Connection\nCocktail Day isn’t just about the drinks—it’s about the moments they create. Whether you’re sipping a classic Manhattan or a bespoke mocktail\, the celebration is in creativity and camaraderie. \nWhat’s your all-time favorite cocktail? Are you a purist or an adventurous mixer? Share your go-to recipe in the comments! \n“Please note that some of the links in this blog post are affiliate links. This means that if you click on a link and make a purchase\, I may receive a commission. This helps support my blog and allows me to continue creating content for you. Thank you for your support!”  \nAll about March\nMarch Celebrations and Holidays
URL:https://celebratethis.holiday/event/national-cocktail-day/2026-03-24/
CATEGORIES:Daily,Food and Drink,Fun,National
ATTACH;FMTTYPE=image/jpeg:https://celebratethis.holiday/wp-content/uploads/2025/03/d6es71qO2hdoD67NyY5r-0-mdmrr.jpg
END:VEVENT
BEGIN:VEVENT
DTSTART;VALUE=DATE:20260305
DTEND;VALUE=DATE:20260306
DTSTAMP:20260423T012449
CREATED:20250305T063548Z
LAST-MODIFIED:20250321T193738Z
UID:10000075-1772668800-1772755199@celebratethis.holiday
SUMMARY:National Absinthe Day
DESCRIPTION:Absinthe Day: A Toast to the Green Fairy\nEvery year\, enthusiasts around the world raise their glasses to celebrate Absinthe Day\, a day dedicated to the mysterious and iconic spirit known as the “Green Fairy.” This unique holiday honors the history\, artistry\, and cultural significance of absinthe. Whether you’re a seasoned connoisseur or a curious newcomer\, Absinthe Day offers a chance to explore this fascinating drink. Let’s dive into its history\, meaning\, and ways to celebrate. \n \nThe History of Absinthe\nAbsinthe has a rich and storied past. It originated in Switzerland in the late 18th century as a medicinal elixir. Dr. Pierre Ordinaire\, a French doctor\, is often credited with creating the first recipe. By the 19th century\, absinthe had become a popular drink in France\, especially among artists and writers. \nThe drink’s signature green color comes from herbs like wormwood\, anise\, and fennel. Wormwood contains thujone\, a compound that was once believed to cause hallucinations. This myth\, along with its association with bohemian culture\, led to absinthe being banned in many countries in the early 20th century. \nThankfully\, the ban was lifted in the 1990s\, and absinthe made a triumphant return. Today\, it’s enjoyed by people worldwide who appreciate its complex flavors and cultural legacy. \n \nThe Meaning of Absinthe Day\nAbsinthe Day is more than just a celebration of a drink. It’s a tribute to creativity\, history\, and the art of distillation. The day invites us to explore the myths and realities surrounding absinthe. It also encourages us to appreciate the craftsmanship that goes into making this unique spirit. \nThis holiday is also about community. Absinthe has a devoted following of enthusiasts who share a passion for its history and flavor. Absinthe Day brings these people together to celebrate their love for the Green Fairy. \n  \n \nWhy Absinthe Day Matters\nAbsinthe Day matters because it keeps the spirit’s legacy alive. It reminds us of the cultural and artistic movements that absinthe inspired. From the works of Vincent van Gogh to the writings of Oscar Wilde\, absinthe has left its mark on history. \nThe day also challenges misconceptions. For years\, absinthe was shrouded in mystery and misinformation. Absinthe Day provides an opportunity to educate people about the drink’s true nature and dispel lingering myths. \nFinally\, Absinthe Day celebrates the art of savoring. In a world of fast-paced living\, this holiday encourages us to slow down and appreciate the finer things in life. \nOscar wilde 1882\nWays to Celebrate Absinthe Day\nThere are countless ways to celebrate Absinthe Day. Whether you’re hosting a party or enjoying a quiet moment\, here are some ideas to make the most of this special day: \n1. Learn About Absinthe’s History\nStart your celebration by diving into the history of absinthe. Read books\, watch documentaries\, or explore online resources. Understanding the drink’s origins and cultural impact can deepen your appreciation. \n2. Try a Classic Absinthe Preparation\nAbsinthe is traditionally prepared using the “louche” method. Place a sugar cube on an absinthe spoon\, pour cold water over it\, and watch as the drink turns cloudy. This ritual is as much about the experience as it is about the taste. \n \n3. Host an Absinthe Tasting\nGather friends and family for an absinthe tasting. Sample different brands and styles to explore the range of flavors. Pair the drinks with light snacks like cheese\, olives\, or dark chocolate. \nMake some Absinthe Recipes\nAbsinthe is a versatile ingredient in cocktails. Try classic recipes like the Sazerac or the Corpse Reviver. Or\, get creative and invent your own signature drink. \n5. Visit an Absinthe Bar or Distillery\nIf you’re lucky enough to live near an absinthe bar or distillery\, pay it a visit. Many establishments offer tours\, tastings\, and special events for Absinthe Day. \n \n6. Create Absinthe-Inspired Art\nChannel your inner artist and create something inspired by absinthe. Paint\, write\, or compose music in honor of the Green Fairy. Share your work with others to spread the spirit of creativity. \n7. Explore Absinthe’s Cultural Impact\nDive into the art and literature that absinthe has inspired. Read works by authors like Ernest Hemingway or Edgar Allan Poe. Study paintings by artists like Henri de Toulouse-Lautrec. \n8. Share Your Experience on Social Media\nJoin the global celebration by sharing your Absinthe Day experience online. Use hashtags like #AbsintheDay and #GreenFairy to connect with other enthusiasts. \nThe Ritual of Absinthe\nOne of the most captivating aspects of absinthe is its preparation ritual. The louche method is a sensory experience that engages sight\, smell\, and taste. Watching the drink transform from clear to cloudy is mesmerizing. The aroma of herbs fills the air\, and the first sip reveals layers of flavor. \nThis ritual is a reminder to slow down and savor the moment. In a world that often feels rushed\, Absinthe Day encourages us to pause and appreciate the artistry of the drink. \n \nAbsinthe in Popular Culture\nAbsinthe has long been associated with creativity and rebellion. It was a favorite among artists\, writers\, and thinkers in the 19th century. Vincent van Gogh\, Pablo Picasso\, and Oscar Wilde were all known to enjoy the Green Fairy. \nToday\, absinthe continues to inspire. It appears in movies\, music\, and literature as a symbol of mystery and sophistication. Absinthe Day is a chance to explore these cultural connections and celebrate the drink’s enduring influence. \n \nThe Global Absinthe Community\nAbsinthe Day brings together a diverse community of enthusiasts. From historians and distillers to artists and casual drinkers\, people from all walks of life share a love for this unique spirit. \nOnline forums\, social media groups\, and local events provide opportunities to connect with others. Sharing stories\, recipes\, and experiences helps keep the spirit of absinthe alive. \nMaking Absinthe Day Your Own\nAbsinthe Day is a flexible holiday. You can celebrate it in a way that suits your interests and lifestyle. Whether you’re hosting a grand party or enjoying a quiet moment with a glass of absinthe\, the day is yours to make special. \nTake this opportunity to explore\, learn\, and connect. Absinthe Day is a celebration of history\, culture\, and the joy of discovery. \n \nJoin the Celebration\nAbsinthe Day is more than just a holiday—namely it’s a celebration of a legendary spirit and the culture it has inspired. It’s a day to raise a glass\, share stories\, and honor the Green Fairy. \nSo\, this Absinthe Day\, pour yourself a drink\, gather your around your friends\, and toast to the magic of Absinthe. Whether you’re a longtime fan or a curious newcomer\, there’s no better time to explore the world of the Green Fairy. Cheers! \nMarch\nDaily Holidays for March\nWeekly Holidays for March\nMonthly Holidays for March \n“Please note that some of the links in this blog post are affiliate links. This means that if you click on a link and make a purchase\, I may receive a commission. This helps support my blog and allows me to continue creating content for you. Thank you for your support!”
URL:https://celebratethis.holiday/event/national-absinthe-day-march-5/2026-03-05/
CATEGORIES:Food and Drink
ATTACH;FMTTYPE=image/jpeg:https://celebratethis.holiday/wp-content/uploads/2025/02/hdljzItaKxnPXndBtM72-2-mhv1f.jpg
END:VEVENT
BEGIN:VEVENT
DTSTART;VALUE=DATE:20250719
DTEND;VALUE=DATE:20250720
DTSTAMP:20260423T012449
CREATED:20250719T051650Z
LAST-MODIFIED:20250715T184951Z
UID:10000492-1752883200-1752969599@celebratethis.holiday
SUMMARY:Celebrate National Daiquiri Day: A Toast to the Classic Cocktail
DESCRIPTION:All about July\nWhat Is National Daiquiri Day?\nEvery July 19\, cocktail lovers raise their glasses for National Daiquiri Day. This refreshing holiday honors one of the most iconic rum-based drinks—the daiquiri. Whether you prefer it frozen\, fruity\, or classic\, this day invites everyone to enjoy its crisp\, citrusy flavors. \nBartenders and home mixologists alike celebrate by crafting creative variations. From beachside bars to backyard parties\, the daiquiri brings people together. It’s a perfect excuse to sip something delicious while appreciating cocktail history. \n \nThe History of the Daiquiri\nThe Daiquiri’s Humble Beginnings in Cuba\nThe classic daiquiri was born in 1898 near a small Cuban mining town called Daiquirí. American engineer Jennings Cox reportedly created the drink when he ran out of gin while entertaining guests. Using locally available ingredients—Cuban rum\, fresh lime\, and sugar—he mixed the first version of this now-famous cocktail. Workers at the iron mines quickly adopted the refreshing drink to beat the tropical heat. \nFrom Mining Camps to World Fame\nBy the early 1900s\, the daiquiri spread to Havana‘s glamorous bars. Bartender Constantino Ribalaigua Vert at El Floridita refined the recipe\, popularizing the frozen version. Famous writer Ernest Hemingway became a regular\, inspiring his namesake “Papa Doble” variation with grapefruit and maraschino liqueur. American tourists and prohibition-era travelers brought the cocktail back home\, cementing its international appeal. \n \nThe Daiquiri’s Lasting Legacy\nDespite evolving cocktail trends\, the daiquiri never lost its charm. It became a Prohibition-era staple when Americans flocked to Cuba for legal drinks. Later\, tiki culture embraced fruity frozen versions in the 1950s. Today\, craft cocktail bars honor its roots while experimenting with modern twists. This simple three-ingredient drink remains a global symbol of Cuban mixology and rum culture. \nWhy the Daiquiri Deserves Its Own Day\nFew cocktails balance simplicity and sophistication like the daiquiri. Its three-ingredient recipe proves that great drinks don’t need complexity. The mix of tart lime\, sweet sugar\, and smooth rum creates a perfectly balanced sip. \nUnlike many sugary cocktails\, a well-made daiquiri highlights quality ingredients. Bartenders often use aged rum for depth or fresh-squeezed citrus for brightness. This drink also adapts easily—frozen\, fruity\, or boozy—making it universally appealing. \nNational Daiquiri Day recognizes its cultural impact. From Cuban roots to tiki bar fame\, this cocktail has stood the test of time. \nHow to Celebrate National Daiquiri Day\nWhether you’re a cocktail enthusiast or a casual sipper\, there are endless ways to enjoy this holiday. Here are some fun ideas: \n\n1. Make a Classic Daiquiri\nStart with the original recipe: \n\n2 oz white rum\n1 oz fresh lime juice\n¾ oz simple syrup\nShake with ice\, strain into a chilled glass\, and garnish with a lime wheel.\n\n2. Try a Frozen Variation\nBlend the classic ingredients with ice for a frosty treat. Add strawberries\, kiwi\, mango\, or pineapple for a fruity twist. \n \n3. Visit a Legendary Bar\nSeek out bars known for their daiquiris. \nEl Floridita (Havana\, Cuba) – The “Cradle of the Daiquiri\,” this historic bar perfected the frozen version in the 1920s. Bartender Constantino Ribalaigua Vert crafted Hemingway’s favorite\, the Papa Doble\, a grapefruit-forward twist still served today amid vintage glamour and live music. \nDeath & Co (New York City\, USA) – This award-winning cocktail bar elevates the classic daiquiri with precision\, using premium rums and house-made syrups. Their menu often features inventive riffs like the Division Bell (mezcal-infused) in a moody\, speakeasy setting. \nLa Factoria (San Juan\, Puerto Rico) – A Caribbean gem known for muddled-fresh-fruit daiquiris\, like their Guava & Basil variation. The rustic-chic space and skilled bartenders make it a must-visit for rum enthusiasts. \nThe Clumsy Clam (Tulum\, Mexico) – This beachfront bar serves Instagram-worthy frozen daiquiris in hollowed-out pineapples and coconuts. Their Spicy Mango Daiquiri\, rimmed with tajín\, pairs perfectly with ocean views. \nSmuggler’s Cove (San Francisco\, USA) – A tiki paradise with over 200 rums\, their daiquiris range from traditional to exotic. Try the 1934 Zombie Daiquiri\, a potent blend of aged rums and tropical flavors\, served in vintage glassware. \nBar La Florida (Madrid\, Spain) – A tribute to El Floridita\, this sleek spot serves Spanish-inspired daiquiris like the Sherry Cobbler Daiquiri\, blending fino sherry with rum for a nutty twist. \n  \n \n4. Host a Daiquiri Tasting Party\nInvite friends to sample different versions: \n\nHemingway Daiquiri (with grapefruit and maraschino liqueur)\nSpiced Rum Daiquiri (for a warmer flavor)\nCoconut Daiquiri (tropical and creamy)\n\n5. Experiment with Homemade Syrups\nElevate your drink with infused syrups. Try ginger\, basil\, or hibiscus for a personalized touch. \n6. Learn About Rum\nSince rum is the star\, explore different types: \n\nLight rum (clean and crisp)\nAged rum (rich and caramel-like)\nOverproof rum (bold and intense)\n\n7. Share Your Creations Online\nPost your best daiquiri photos with #NationalDaiquiriDay. Challenge friends to make their own and compare recipes. \nThe Future of the Daiquiri\nModern mixologists keep reinventing this classic. Some use fat-washed rums for texture\, while others add herbal liqueurs for complexity. The zero-proof movement has even spawned spirit-free versions with rum alternatives. \nCocktail trends come and go\, but the daiquiri remains timeless. Its refreshing taste and storied history ensure it will stay beloved for generations. \n \nRaise Your Glass on July 19\nNational Daiquiri Day is more than just a drinking holiday—it’s a celebration of craft\, culture\, and connection. Whether you stick to tradition or get creative\, take a moment to enjoy this legendary cocktail. \nWhat’s your favorite daiquiri variation? Share your go-to recipe in the comments! \n“Please note that some of the links in this blog post are affiliate links. This means that if you click on a link and make a purchase\, I may receive a commission. This helps support my blog and allows me to continue creating content for you. Thank you for your support!”  \n  \n 
URL:https://celebratethis.holiday/event/celebrate-national-daiquiri-day-a-toast-to-the-classic-cocktail/2025-07-19/
CATEGORIES:Daily,EUE,Food and Drink,Fun,National
ATTACH;FMTTYPE=image/jpeg:https://celebratethis.holiday/wp-content/uploads/2025/07/gZEx50WcfFYFtcfEwUCX-3-8mjs6.jpg
END:VEVENT
END:VCALENDAR