BEGIN:VCALENDAR
VERSION:2.0
PRODID:-//Celebrate This! - ECPv6.15.20//NONSGML v1.0//EN
CALSCALE:GREGORIAN
METHOD:PUBLISH
X-WR-CALNAME:Celebrate This!
X-ORIGINAL-URL:https://celebratethis.holiday
X-WR-CALDESC:Events for Celebrate This!
REFRESH-INTERVAL;VALUE=DURATION:PT1H
X-Robots-Tag:noindex
X-PUBLISHED-TTL:PT1H
BEGIN:VTIMEZONE
TZID:America/New_York
BEGIN:DAYLIGHT
TZOFFSETFROM:-0500
TZOFFSETTO:-0400
TZNAME:EDT
DTSTART:20250309T070000
END:DAYLIGHT
BEGIN:STANDARD
TZOFFSETFROM:-0400
TZOFFSETTO:-0500
TZNAME:EST
DTSTART:20251102T060000
END:STANDARD
BEGIN:DAYLIGHT
TZOFFSETFROM:-0500
TZOFFSETTO:-0400
TZNAME:EDT
DTSTART:20260308T070000
END:DAYLIGHT
BEGIN:STANDARD
TZOFFSETFROM:-0400
TZOFFSETTO:-0500
TZNAME:EST
DTSTART:20261101T060000
END:STANDARD
BEGIN:DAYLIGHT
TZOFFSETFROM:-0500
TZOFFSETTO:-0400
TZNAME:EDT
DTSTART:20270314T070000
END:DAYLIGHT
BEGIN:STANDARD
TZOFFSETFROM:-0400
TZOFFSETTO:-0500
TZNAME:EST
DTSTART:20271107T060000
END:STANDARD
END:VTIMEZONE
BEGIN:VEVENT
DTSTART;VALUE=DATE:20260710
DTEND;VALUE=DATE:20260711
DTSTAMP:20260422T204821
CREATED:20250711T152824Z
LAST-MODIFIED:20250711T152824Z
UID:10000436-1783641600-1783727999@celebratethis.holiday
SUMMARY:Paws and Celebrate: The Ultimate Guide to National Kitten Day
DESCRIPTION:All about July\nJuly Celebrations and Holidays\nEvery year on July 10\, cat lovers unite to celebrate National Kitten Day—a day dedicated to the tiny\, whiskered bundles of joy that steal our hearts. Whether you’re a lifelong cat enthusiast or a new kitten parent\, this day is all about showering love on these playful\, purring companions. \nFrom their mischievous antics to their heart-melting cuddles\, kittens bring endless happiness. But this holiday isn’t just about cuteness overload—it’s also a chance to advocate for kitten welfare\, promote adoptions\, and educate others on responsible pet care. \nReady to dive into the world of kitten appreciation? Let’s explore the history of this special day\, fun ways to celebrate\, and how you can make a difference in a kitten’s life. \nThe History of National Kitten Day\nNational Kitten Day was founded in 2012 by animal advocate Colleen Paige\, who also created other pet-centric holidays like National Dog Day and National Cat Day. Her goal? To raise awareness about the millions of kittens in shelters needing forever homes—and to celebrate the joy they bring to our lives. \nKittens have been beloved companions for centuries. Ancient Egyptians revered cats\, and sailors kept them on ships to control pests. Today\, they’re internet superstars\, therapy animals\, and cherished family members. This holiday reminds us that behind every viral kitten video is a real-life feline deserving love\, safety\, and care. \nWhy Kittens Deserve Their Own Day\nKittens aren’t just adorable—they’re also vulnerable. Many end up in shelters due to unplanned litters\, abandonment\, or rescue situations. National Kitten Day highlights: \n\nThe importance of adoption – Shelters overflow with kittens needing homes.\nSpay/neuter awareness – Preventing overpopulation saves lives.\nThe healing power of kittens – Their playfulness reduces stress and boosts mental health.\n\nPlus\, who can resist those tiny paws\, curious eyes\, and endless energy? Celebrating them is a no-brainer! \n10 Ways to Celebrate National Kitten Day\n1. Adopt or Foster a Kitten\nVisit a local shelter or rescue group. If you’re not ready for a lifelong commitment\, consider fostering—it’s a lifesaving temporary gig! \n2. Donate to Kitten Causes\nSupport organizations like Kitten Lady\, ASPCA\, or local shelters. Even small donations fund food\, vaccines\, and medical care. \n3. Volunteer at a Shelter\nPlay with kittens\, clean cages\, or help with social media. Shelters always need extra hands during “kitten season” (spring/summer). \n4. Spoil Your Own Kitten\nBreak out new toys\, bake cat-safe treats\, or set up a DIY cardboard castle. Even a simple feather wand session will thrill them. \n5. Share the Love Online\nPost photos of your kitten with #NationalKittenDay. Tag adoption agencies to help kitties go viral—and get adopted! \n6. Educate Others\nTeach friends about spaying/neutering\, kitten care basics\, or how to spot a stray in need. Knowledge saves lives. \n7. Throw a Kitten Party\nInvite fellow cat lovers for a themed gathering. Serve cat-shaped cookies\, watch kitten documentaries (“Kedi” is purr-fect)\, or host a toy-making craft station. \n8. Support TNR Programs\nTrap-Neuter-Return (TNR) helps community cats. Donate supplies or volunteer with local groups. \n9. Watch Kitten Livestreams\nCan’t adopt? Tune into shelters’ live cams or YouTube channels like The Kitten Lady for fuzzy serotonin boosts. \n10. Advocate for Kitten-Friendly Policies\nPush for pet-friendly housing laws or workplace policies that support adopters. Every voice helps! \nKitten Care 101: Tips for New Owners\nIf you’re celebrating by bringing home a new furball\, keep these tips in mind: \n\nVet visits first – Schedule vaccinations\, deworming\, and a health check.\nKitten-proof your home – Hide cords\, toxic plants\, and small objects they might swallow.\nStick to kitten food – They need nutrient-rich meals for growth.\nSocialize early – Gentle handling and play build confidence.\nPatience is key – Litter training takes time—stay consistent!\n\nThe Impact of Celebrating Responsibly\nNational Kitten Day isn’t just about cute photos—it’s a movement. By adopting\, donating\, or educating\, you’re helping reduce euthanasia rates and creating happier futures for kittens. Even small actions\, like sharing an adoption post\, can connect a kitten with their perfect family. \nFinal Thought: What’s Your Kitten Story?\nWhether you’re snuggling a foster fail\, reminiscing about your first childhood cat\, or daydreaming about adopting\, kittens leave paw prints on our hearts. This July 10\, take a moment to celebrate their magic—and consider how you can make a difference. \nHow will YOU celebrate National Kitten Day? Share your favorite kitten memories\, photos\, or adoption stories below!  \n“Please note that some of the links in this blog post are affiliate links. This means that if you click on a link and make a purchase\, I may receive a commission. This helps support my blog and allows me to continue creating content for you. Thank you for your support!”  \nAll about July\nJuly Celebrations and Holidays
URL:https://celebratethis.holiday/event/national-kitten-day/2026-07-10/
ATTACH;FMTTYPE=image/jpeg:https://celebratethis.holiday/wp-content/uploads/2025/07/cats-1209743_1280-e1752247673237.jpg
END:VEVENT
END:VCALENDAR