BEGIN:VCALENDAR
VERSION:2.0
PRODID:-//Celebrate This! - ECPv6.15.20//NONSGML v1.0//EN
CALSCALE:GREGORIAN
METHOD:PUBLISH
X-WR-CALNAME:Celebrate This!
X-ORIGINAL-URL:https://celebratethis.holiday
X-WR-CALDESC:Events for Celebrate This!
REFRESH-INTERVAL;VALUE=DURATION:PT1H
X-Robots-Tag:noindex
X-PUBLISHED-TTL:PT1H
BEGIN:VTIMEZONE
TZID:America/New_York
BEGIN:DAYLIGHT
TZOFFSETFROM:-0500
TZOFFSETTO:-0400
TZNAME:EDT
DTSTART:20250309T070000
END:DAYLIGHT
BEGIN:STANDARD
TZOFFSETFROM:-0400
TZOFFSETTO:-0500
TZNAME:EST
DTSTART:20251102T060000
END:STANDARD
BEGIN:DAYLIGHT
TZOFFSETFROM:-0500
TZOFFSETTO:-0400
TZNAME:EDT
DTSTART:20260308T070000
END:DAYLIGHT
BEGIN:STANDARD
TZOFFSETFROM:-0400
TZOFFSETTO:-0500
TZNAME:EST
DTSTART:20261101T060000
END:STANDARD
BEGIN:DAYLIGHT
TZOFFSETFROM:-0500
TZOFFSETTO:-0400
TZNAME:EDT
DTSTART:20270314T070000
END:DAYLIGHT
BEGIN:STANDARD
TZOFFSETFROM:-0400
TZOFFSETTO:-0500
TZNAME:EST
DTSTART:20271107T060000
END:STANDARD
BEGIN:DAYLIGHT
TZOFFSETFROM:-0500
TZOFFSETTO:-0400
TZNAME:EDT
DTSTART:20280312T070000
END:DAYLIGHT
BEGIN:STANDARD
TZOFFSETFROM:-0400
TZOFFSETTO:-0500
TZNAME:EST
DTSTART:20281105T060000
END:STANDARD
END:VTIMEZONE
BEGIN:VEVENT
DTSTART;VALUE=DATE:20260610
DTEND;VALUE=DATE:20260611
DTSTAMP:20260422T175651
CREATED:20250610T065515Z
LAST-MODIFIED:20250610T193342Z
UID:10000332-1781049600-1781135999@celebratethis.holiday
SUMMARY:National Ball Point Pen Day
DESCRIPTION:National Ball Point Pen Day: History\, Meaning\, and Fun Ways to Celebrate\nAll about June\nJune Celebrations and Holidays\nEvery year\, people celebrate National Ball Point Pen Day on June 10th. This day honors the invention of the ballpoint pen\, a tool many use daily. Whether writing notes\, signing documents\, or doodling\, ballpoint pens make life easier. The day encourages appreciation for this simple yet revolutionary invention. \n \nThe History of the Ballpoint Pen\nBallpoint pens have a fascinating history. In 1888\, John J. Loud patented an early version. His design failed because the ink smudged or clogged. Decades later\, Hungarian journalist László Bíró improved the pen. \n \nFrustrated with fountain pens\, Bíró created a smoother\, quicker-drying ink. He paired it with a tiny ball bearing that rolled ink onto paper. In 1938\, he patented his design. By the 1940s\, ballpoint pens became popular worldwide. \nWho Was László Bíró?\nLászló Bíró was a Hungarian journalist and inventor. He changed writing forever with his ballpoint pen design. Frustrated by smudgy fountain pens\, he sought a better solution. In the 1930s\, he noticed newspaper ink dried quickly. This inspired his breakthrough idea. \nHow Did He Invent the Ballpoint Pen?\nBíró worked with his brother György\, a chemist\, to create the perfect ink. They developed a thicker\, fast-drying formula. Next\, they added a tiny rotating ball to distribute ink smoothly. By 1938\, they patented their invention. The design prevented leaks and smudges. Soon\, their pens gained popularity for reliability. \n \nWhat Was Bíró’s Legacy?\nThe ballpoint pen became a global success after World War II. Many countries still call it the “Biro” in his honor. His invention made writing easier for millions. Today\, we use his design in schools\, offices\, and homes worldwide. Bíró proved that simple ideas can change the world. \nThe British Royal Air Force loved them because they worked at high altitudes. Soon\, businesses and schools adopted them too. Today\, billions of ballpoint pens are used globally. \n \nWhy Celebrate National Ball Point Pen Day?\nThis day reminds us how small inventions change lives. Ballpoint pens made writing accessible and mess-free. They replaced messy fountain pens and unreliable pencils. \nCelebrating also sparks creativity. Writing by hand boosts memory and focus.  They are convenient\, portable\, and affordable.  They are easy to find and come in many colors and point sizes\, from ultra-fine point to bold point and everything in between. \n \nFun Ways to Celebrate\nAnyone can enjoy National Ball Point Pen Day. Here are some fun ideas: \n1. Write a Handwritten Letter\nEmails and texts are convenient\, but handwritten notes feel special. Grab a ballpoint pen and write to a friend\, family member\, or mentor. Your effort will brighten their day. \n2. Start a Journal\nJournaling helps organize thoughts and reduce stress. Use a ballpoint pen to jot down daily reflections\, goals\, or gratitude lists. The smooth writing experience makes it enjoyable. \n \n3. Doodle or Sketch\nBallpoint pens aren’t just for writing. Many artists create stunning sketches with them. Try shading\, cross-hatching\, or freehand drawing. You might discover a hidden talent! \n4. Test Different Pens\nNot all ballpoint pens are the same. Treat yourself to a few new ones. Compare ink flow\, grip comfort\, and line thickness. Find your favorite brand. \n \n5. Learn Pen Trivia\nShare fun facts about ballpoint pens with friends. Did you know the first ones sold for $12.50 in 1945? That’s over $200 today! Impress others with your knowledge. \n6. Donate Pens to Schools or Charities\nMany students and organizations need pens. Donate a pack to a local school\, library\, or shelter. Your small gesture can make a big difference. \n7. Host a Pen-Themed Party\nInvite friends over for a creative gathering. Provide pens\, paper\, and fun writing prompts. Play games like “finish the story” or “draw blindly.” Laughter and creativity will flow. \n \nThe Future of Ballpoint Pens\nEven in the digital age\, ballpoint pens remain relevant. They don’t need batteries or charging. Many people still prefer writing by hand for notes and signatures. \nEco-friendly options are rising too. Refillable pens reduce plastic waste. Some companies even make pens from recycled materials. The ballpoint pen continues to evolve. \nFinal Thoughts\nNational Ball Point Pen Day celebrates an invention we often take for granted. From its rocky start to global success\, the ballpoint pen shaped how we communicate. Whether writing\, drawing\, or donating\, there are countless ways to honor this handy tool. \nAll about June\nJune Celebrations and Holidays\n \n“Please note that some of the links in this blog post are affiliate links. This means that if you click on a link and make a purchase\, I may receive a commission. This helps support my blog and allows me to continue creating content for you. Thank you for your support!”
URL:https://celebratethis.holiday/event/national-ball-point-pen-day/2026-06-10/
CATEGORIES:Daily,Fun,National,Technology
ATTACH;FMTTYPE=image/png:https://celebratethis.holiday/wp-content/uploads/2025/06/Gold-and-black-ball-point-pen-1.png
END:VEVENT
BEGIN:VEVENT
DTSTART;VALUE=DATE:20261212
DTEND;VALUE=DATE:20261213
DTSTAMP:20260422T175651
CREATED:20241214T153624Z
LAST-MODIFIED:20241214T154342Z
UID:10000045-1797033600-1797119999@celebratethis.holiday
SUMMARY:International Shareware Day ~ December 14
DESCRIPTION:Understanding Shareware Day\nShareware Day celebrates the innovative software distribution model that revolutionized the tech world. This day acknowledges how shareware gave users a chance to try software before purchasing. It also highlights the contributions of developers who introduced this concept. Shareware Day is an opportunity to learn about its history\, uses\, benefits\, and challenges. \n  \nThe Background of Shareware\nShareware emerged in the 1980s as a unique way to distribute software. Before the internet\, software was often expensive and hard to access. Developers needed a method to reach a broader audience without physical retail stores. Shareware became a solution. It allowed users to download or receive a free copy of a program and try it out. If they liked it\, they could pay for the full version or extra features. \n \nThe term “shareware” was coined by Bob Wallace\, a programmer who also created the popular PC software “PC-Write.” Wallace’s idea was simple. He wanted users to share his software with others while encouraging them to pay for it if they found it valuable. This approach quickly gained popularity\, especially among small developers. The rise of personal computers\, such as the IBM PC\, provided the perfect platform for shareware to thrive. \nHow Shareware Works\nShareware is often distributed through free trials or limited versions of software. Users get access to a basic or full-featured program for a limited time. After the trial\, they may need to purchase the software to continue using it. Some shareware programs offer only basic functionality in the free version. To unlock advanced features\, users need to pay. \nDevelopers often use shareware to showcase their work. They rely on users to share the program with friends or colleagues. This “try-before-you-buy” approach creates a sense of trust and transparency. It also helps small developers compete with larger companies. Today\, this model is still relevant in app stores and online platforms. \n \nUses of Shareware\nShareware has various applications across industries. Many developers use it to introduce new products to the market. It’s especially useful for small businesses and independent creators. By offering a free version\, they can attract a larger audience. \nEducational tools often use the shareware model. Teachers and students can try software to determine its usefulness. This ensures that schools invest in the right tools. Gaming is another area where shareware has made an impact. Popular games like Doom and Quake started as shareware. They allowed players to try the first levels for free\, creating excitement for the full version. \nShareware also benefits professional tools. Software for graphic design\, video editing\, and productivity often comes with a free trial. This lets users explore features before committing to a purchase. In many cases\, shareware helps bridge the gap between developers and users by creating accessible software options. \n \nPros of Shareware\nShareware offers many advantages to both developers and users. For users\, it eliminates the risk of buying software without knowing its value. They can test features\, evaluate performance\, and decide if it meets their needs. This makes shareware a cost-effective solution for individuals and businesses. \nFor developers\, shareware provides an easy way to distribute software. It reduces the need for expensive advertising and retail partnerships. Instead\, users act as marketers by sharing the software. This approach builds trust and helps establish a loyal customer base. Additionally\, shareware gives developers valuable feedback. Users often report bugs or suggest improvements\, which helps create better products. \nThe shareware model also encourages innovation. Developers can experiment with new ideas and release updates based on user feedback. This flexibility fosters creativity and competition in the software industry. Shareware has also made technology more accessible\, especially for small businesses and independent creators. \n \nCons of Shareware\nDespite its benefits\, shareware has some challenges. One major issue is piracy. Users may share software without paying for it. This reduces revenue for developers and discourages them from creating new products. Piracy also raises ethical concerns about the fairness of the shareware model. \nAnother problem is the limited functionality of some shareware programs. Users may feel frustrated if the free version lacks essential features. This can lead to negative impressions of the software. Additionally\, some shareware programs include intrusive advertisements or frequent reminders to upgrade. These interruptions can annoy users and reduce their satisfaction. \nFor developers\, the shareware model can be financially risky. Not all users will pay for the software\, which affects revenue. Small developers may struggle to compete with larger companies that offer similar products. Marketing and distributing shareware also require effort and resources\, which may not always lead to success. \n \nThe Future of Shareware\nThe shareware model continues to evolve. In the digital age\, it’s often referred to as “freemium.” This approach offers basic features for free while charging for premium options. Mobile apps and subscription-based services commonly use this model. It allows developers to reach a global audience while generating revenue. \nThe rise of app stores has made shareware more accessible than ever. Platforms like Google Play and the Apple App Store offer free trials for many apps. This creates opportunities for small developers to showcase their work. Cloud-based software is also transforming shareware. Users can access programs online without downloading them\, making it easier to try and buy software. \nArtificial intelligence and machine learning are likely to shape the future of shareware. These technologies can personalize user experiences and recommend software based on preferences. Developers can use AI to analyze user feedback and improve their products. This innovation ensures that shareware remains relevant in a competitive market. \n \nWhy Shareware Day Matters\nShareware Day is more than a celebration of software. It’s a tribute to creativity\, accessibility\, and innovation. This day recognizes the contributions of developers who pioneered a new way to distribute software. It also reminds us of the importance of supporting independent creators. \nOn Shareware Day\, users can explore new programs\, learn about the history of shareware\, and support developers by purchasing their products. Developers can use this day to showcase their work\, connect with users\, and gather feedback. Shareware Day inspires collaboration and highlights the value of sharing technology. \n \nConclusion\nShareware has transformed the software industry by making technology more accessible and user-friendly. Its “try-before-you-buy” approach benefits both developers and users. While challenges like piracy remain\, the shareware model continues to evolve. As we celebrate Shareware Day\, let’s remember the innovative spirit that made it possible. Support developers\, explore new programs\, and embrace the future of shareware.
URL:https://celebratethis.holiday/event/international-shareware-day-december-14/2026-12-12/
CATEGORIES:International,Technology
ATTACH;FMTTYPE=image/jpeg:https://celebratethis.holiday/wp-content/uploads/2024/12/laptop-and-tablet.jpg
END:VEVENT
BEGIN:VEVENT
DTSTART;VALUE=DATE:20270310
DTEND;VALUE=DATE:20270311
DTSTAMP:20260422T175651
CREATED:20250310T060102Z
LAST-MODIFIED:20250321T194014Z
UID:10000100-1804636800-1804723199@celebratethis.holiday
SUMMARY:International Find a Phone Booth Day
DESCRIPTION:International Find a Phone Booth Day: A Nostalgic Celebration\nEvery year on March 10\, people around the world celebrate International Find a Phone Booth Day. This quirky holiday invites us to step back in time and appreciate the humble phone booth\, a once-ubiquitous symbol of communication. While phone booths may seem like relics of the past\, they hold a rich history and cultural significance. Let’s explore the origins of this day\, the meaning behind it\, and fun ways to celebrate. \n \nThe History of Phone Booths\nPhone booths first appeared in the late 19th century. They were invented to provide private\, accessible communication for the public. The first phone booth was introduced in 1889 in Hartford\, Connecticut. It was a simple wooden structure with a door and a payphone inside. \nBy the mid-20th century\, phone booths became a global phenomenon. They were everywhere—on street corners\, in train stations\, and even in rural areas. For decades\, they were the primary way people made calls when away from home. \nThe iconic red phone booths of the UK are perhaps the most recognizable. Designed by Sir Giles Gilbert Scott in the 1920s\, they became a symbol of British culture. In the U.S.\, phone booths were often associated with Superman\, who famously used them to change into his superhero outfit. \nHowever\, with the rise of mobile phones in the 1990s and 2000s\, phone booths began to disappear. Today\, they are rare\, but they remain a nostalgic reminder of a bygone era. \n \nThe Meaning Behind International Find a Phone Booth Day\nInternational Find a Phone Booth Day is more than just a celebration of a physical object. It’s about remembering how communication has evolved. Phone booths were more than just places to make calls. They were spaces where people shared important news\, made life-changing decisions\, and connected with loved ones. \nThis day also encourages us to reflect on the pace of technological change. In just a few decades\, we’ve gone from relying on public payphones to carrying powerful computers in our pockets. While this progress is exciting\, it’s important to honor the tools that paved the way. \nFinally\, International Find a Phone Booth Day is a call to explore our surroundings. In a world where we often rush from place to place\, this holiday invites us to slow down and notice the remnants of the past that still exist in our communities. \n \nHow to Celebrate International Find a Phone Booth Day\nCelebrating International Find a Phone Booth Day can be both fun and meaningful. Here are some creative ways to mark the occasion: \n1. Go on a Phone Booth Scavenger Hunt\nGrab your friends or family and head out to find a phone booth. Use online maps or local knowledge to locate one near you. Take photos and share them on social media with the hashtag #FindAPhoneBoothDay. \n2. Learn About Phone Booth History\nSpend some time researching the history of phone booths. Watch documentaries\, read articles\, or visit a museum that features communication technology. You might be surprised by how much there is to learn! \n \n3. Create Phone Booth Art\nIf you’re feeling creative\, make art inspired by phone booths. Paint a picture\, write a poem\, or build a miniature model. Share your creations online to inspire others. \n4. Share Your Memories\nDo you remember using a phone booth? Share your stories with friends\, family\, or on social media. Ask older relatives about their experiences too. You’ll likely hear some fascinating tales! \n5. Preserve a Phone Booth\nIf you’re passionate about history\, consider advocating for the preservation of phone booths in your area. Some communities have turned old phone booths into mini libraries\, art installations\, or Wi-Fi hotspots. \n6. Host a Retro Movie Night\nWatch movies or TV shows that feature phone booths. Classics like *Superman*\, *Bill & Ted’s Excellent Adventure*\, or *Doctor Who* are great options. Don’t forget the popcorn! \n7. Make a Call from a Phone Booth\nIf you’re lucky enough to find a working phone booth\, try making a call. It’s a unique experience that will transport you back in time. \n \nWhy Phone Booths Still Matter\nEven though phone booths are no longer essential\, they still matter. They remind us of a time when communication required effort and intention. In today’s fast-paced world\, that’s a valuable lesson. \nPhone booths also represent innovation. They were cutting-edge technology in their time\, just as smartphones are today. By celebrating them\, we honor the spirit of progress and creativity. \nFinally\, phone booths are a part of our shared cultural heritage. They appear in countless movies\, books\, and photographs. They connect us to the past and to each other. \n \nConclusion: Embrace the Nostalgia\nInternational Find a Phone Booth Day is a chance to slow down and appreciate the simple things. It’s a reminder that even the most ordinary objects can have extraordinary stories. \nSo\, on March 10\, take a moment to look for a phone booth. Whether you find one or not\, you’ll be participating in a global celebration of history\, innovation\, and human connection. \nHappy International Find a Phone Booth Day! Let’s keep the spirit of the phone booth alive for generations to come. \n“Please note that some of the links in this blog post are affiliate links. This means that if you click on a link and make a purchase\, I may receive a commission. This helps support my blog and allows me to continue creating content for you. Thank you for your support!”  \nMarch\nDaily Holidays ~ March\nWeekly Holidays~ March\nMonthly Holidays ~ March \n \n \n \n  \n 
URL:https://celebratethis.holiday/event/international-find-a-phone-booth-day-march-10/2027-03-10/
CATEGORIES:Daily,Fun,International,National,Technology
ATTACH;FMTTYPE=image/jpeg:https://celebratethis.holiday/wp-content/uploads/2025/03/telephone-booth-7458438_1280.jpg
END:VEVENT
END:VCALENDAR