BEGIN:VCALENDAR
VERSION:2.0
PRODID:-//Celebrate This! - ECPv6.15.20//NONSGML v1.0//EN
CALSCALE:GREGORIAN
METHOD:PUBLISH
X-WR-CALNAME:Celebrate This!
X-ORIGINAL-URL:https://celebratethis.holiday
X-WR-CALDESC:Events for Celebrate This!
REFRESH-INTERVAL;VALUE=DURATION:PT1H
X-Robots-Tag:noindex
X-PUBLISHED-TTL:PT1H
BEGIN:VTIMEZONE
TZID:America/New_York
BEGIN:DAYLIGHT
TZOFFSETFROM:-0500
TZOFFSETTO:-0400
TZNAME:EDT
DTSTART:20240310T070000
END:DAYLIGHT
BEGIN:STANDARD
TZOFFSETFROM:-0400
TZOFFSETTO:-0500
TZNAME:EST
DTSTART:20241103T060000
END:STANDARD
BEGIN:DAYLIGHT
TZOFFSETFROM:-0500
TZOFFSETTO:-0400
TZNAME:EDT
DTSTART:20250309T070000
END:DAYLIGHT
BEGIN:STANDARD
TZOFFSETFROM:-0400
TZOFFSETTO:-0500
TZNAME:EST
DTSTART:20251102T060000
END:STANDARD
BEGIN:DAYLIGHT
TZOFFSETFROM:-0500
TZOFFSETTO:-0400
TZNAME:EDT
DTSTART:20260308T070000
END:DAYLIGHT
BEGIN:STANDARD
TZOFFSETFROM:-0400
TZOFFSETTO:-0500
TZNAME:EST
DTSTART:20261101T060000
END:STANDARD
END:VTIMEZONE
BEGIN:VEVENT
DTSTART;TZID=America/New_York:20250515T080000
DTEND;TZID=America/New_York:20250515T170000
DTSTAMP:20260419T212541
CREATED:20250515T113302Z
LAST-MODIFIED:20250515T131107Z
UID:10000328-1747296000-1747328400@celebratethis.holiday
SUMMARY:National Boone Day
DESCRIPTION:All about June\nJune Celebrations and Holidays \nJune 7th is National Boone Day is a special occasion that honors the legacy\, contributions\, and cultural significance of the Boone name. Whether you have the Boone surname\, admire historical figures like Daniel Boone\, or simply enjoy celebrating unique holidays\, this day offers something for everyone. Below\, we explore the history\, meaning\, and fun ways to celebrate National Boone Day. \n \nThe History of National Boone Day\nThe exact origins of National Boone Day remain unclear. However\, many connect it to the famous American pioneer Daniel Boone. Born on November 2\, 1734\, Boone was a frontiersman who explored and settled Kentucky. His adventures made him a folk hero. \nSome believe National Boone Day started as a way to honor his legacy. Others think it celebrates all people with the Boone surname. Over time\, the day grew into a broader celebration of resilience\, exploration\, and family heritage. \n\n			\n				\n			\n				\n				Daniel Boone Half Dollar front\n				\n			\n				\n			\n				\n				Daniel Boone half dollar back\n				\n		\n\nThe Meaning Behind National Boone Day\nThis holiday carries different meanings for different people. For some\, it’s about remembering historical figures like Daniel Boone. For others\, it’s a chance to celebrate their family name. The day also highlights themes of adventure\, courage\, and perseverance. \nNational Boone Day encourages people to embrace their roots. It reminds us to appreciate those who paved the way before us. Whether through genealogy\, storytelling\, or community events\, the day fosters connection and pride. \n \nWays to Celebrate National Boone Day\nLooking for fun ways to mark the occasion? Here are some inclusive and engaging ideas: \n1. Learn About the Boone Legacy\nDive into history by reading about Daniel Boone or other notable Boones. Visit a local museum or watch a documentary. Share interesting facts with friends and family. \n2. Explore the Outdoors\nDaniel Boone loved nature. Honor his spirit by hiking\, camping\, or taking a scenic walk. If you’re feeling adventurous\, try something new like kayaking or birdwatching. \n \n3. Host a Boone-Themed Gathering\nInvite loved ones for a Boone-inspired party. Serve frontier-style food like cornbread\, stew\, or grilled meats. Play traditional folk music or share stories around a fire pit. \n4. Research Your Family Tree\nIf your last name is Boone\, dig into your ancestry. Websites like Ancestry.com can help. Even if you’re not a Boone\, researching family history can be a rewarding experience. \n5. Support Local History\nDonate to a historical society or volunteer at a heritage site. Many small museums rely on community support to preserve stories like Boone’s. \n \n6. Share on Social Media\nPost about National Boone Day with fun facts\, photos\, or personal stories. Use hashtags like #NationalBooneDay to connect with others celebrating. \nWhy National Boone Day Matters\nThis holiday isn’t just about one person or family. It’s a celebration of exploration\, bravery\, and connection. In a fast-paced world\, taking time to reflect on history brings people together. \nNational Boone Day also reminds us to appreciate the past while making new memories. Whether you’re honoring ancestors or simply enjoying the outdoors\, the day offers something meaningful for everyone. \nFinal Thoughts\nNational Boone Day is a unique opportunity to celebrate history\, family\, and adventure. From learning about pioneers to spending time in nature\, there are countless ways to participate. \nHow will you celebrate National Boone Day this year? Share your favorite ideas in the comments below! \nAll about June\nJune Celebrations and Holidays \n“Please note that some of the links in this blog post are affiliate links. This means that if you click on a link and make a purchase\, I may receive a commission. This helps support my blog and allows me to continue creating content for you. Thank you for your support!” 
URL:https://celebratethis.holiday/event/national-boone-day/
CATEGORIES:Daily,National,People
ATTACH;FMTTYPE=image/png:https://celebratethis.holiday/wp-content/uploads/2025/05/Screenshot-2025-05-15-075115.png
END:VEVENT
BEGIN:VEVENT
DTSTART;TZID=America/New_York:20250516T080000
DTEND;TZID=America/New_York:20250516T170000
DTSTAMP:20260419T212541
CREATED:20250516T154510Z
LAST-MODIFIED:20250517T194951Z
UID:10000329-1747382400-1747414800@celebratethis.holiday
SUMMARY:Ghostbusters Day
DESCRIPTION:Ghostbusters Day: A Spooktacular Celebration of the Beloved Franchise\nAll about June\nJune Celebrations and Holidays\nGhostbusters Day is a thrilling event for fans of the iconic supernatural comedy series. Celebrated every year on June 8\, this day honors the release of the original 1984 film and the entire Ghostbusters universe. Whether you’re a die-hard fan or new to the franchise\, there’s something fun for everyone. \nFrom movie marathons to cosplay\, Ghostbusters Day brings people together. Below\, we’ll explore the history\, ways to celebrate\, and fascinating facts about the films. Let’s dive in! \nWinter Con 2015 Ghostbusters Cosplayers\nThe History of Ghostbusters Day\nSony Pictures officially declared June 8 as Ghostbusters Day in 2016. The date marks the anniversary of the original movie’s premiere. Fans worldwide embraced the idea\, turning it into an annual celebration. \nThe franchise began with Ivan Reitman’s 1984 classic\, starring Bill Murray\, Dan Aykroyd\, Harold Ramis\, and Ernie Hudson. Its success led to sequels\, animated series\, video games\, and a 2016 reboot. The latest installment\, Ghostbusters: Afterlife (2021)\, reignited love for the series. \nGhostbusters Day isn’t just about nostalgia—it’s a chance to welcome new fans. The blend of comedy\, sci-fi\, and supernatural action keeps the fandom alive. \n \nHow to Celebrate Ghostbusters Day\nWant to join the fun? Here’s a list of exciting ways to celebrate: \n1. Host a Ghostbusters Movie Marathon\nGather friends and family for a bingewatch session. Start with the original\, then follow up with Ghostbusters II (1989)\, the 2016 reboot\, and Ghostbusters: Afterlife. Don’t forget the animated The Real Ghostbusters series for extra nostalgia. \n2. Dress Up as Your Favorite Character\nCosplay is a huge part of Ghostbusters fandom. Wear a proton pack\, jumpsuit\, or even a Stay-Puft Marshmallow Man costume. Get creative—even pets can join in! \n \n3. Play Ghostbusters Video Games\nThe 2009 video game (featuring the original cast’s voices) is a must-play. Newer games like *Ghostbusters: Spirits Unleashed* let you hunt ghosts in multiplayer mode. \n4. Make Ghost-Themed Treats\nBake marshmallow-filled snacks in honor of Stay-Puft. Try Ecto-Cooler cocktails or Slimer-green cupcakes for a festive touch. \n5. Visit Ghostbusters Filming Locations\nIf you’re in New York\, check out the **Firehouse\, Hook & Ladder 8**—the real-life Ghostbusters HQ. Other spots include the New York Public Library and Dana’s apartment building. \n6. Share Your Love Online\nPost favorite quotes\, memes\, or fan art with #GhostbustersDay. Join virtual watch parties or trivia contests. \n7. Support Ghostbusters Merchandise\nFrom Funko Pops to LEGO sets\, there’s plenty of collectibles. Buying official merch helps keep the franchise alive. \n8. Have a Proton Pack Nerf Battle\nDIY proton packs with cardboard and pool noodles for a fun\, family-friendly ghost hunt. \n9. Listen to the Soundtrack\nRay Parker Jr.’s iconic theme song is a must-play. The soundtrack also includes eerie yet catchy background scores. \n10. Introduce Someone to Ghostbusters\nShare the movies with a friend who’s never seen them. Their reactions to Slimer or the Stay-Puft showdown will be priceless. \n  \nGhostbusters Movie References & Fun Facts\nThe films are packed with hidden details and behind-the-scenes trivia. Here are some fascinating tidings: \n– **”Who You Gonna Call?” Was Almost Different**\nThe famous line was almost\, *”Who ya gonna call? Ghost Chasers!”* Thankfully\, they stuck with Ghostbusters. \n– **Slimer Was Inspired by John Belushi**\nDan Aykroyd based Slimer’s gluttonous behavior on his late *Blues Brothers* co-star. \n– **The Proton Packs Were Heavy**\nThe props weighed about 30 pounds each. Actors had to wear them for hours during filming. \n– **The Ecto-1 Was a Real Ambulance**\nThe iconic car was a repurposed 1959 Cadillac Miller-Meteor. It’s now a prized collector’s item. \n– **Ghostbusters Almost Had a Different Ending**\nThe original script included a giant *Godzilla*-style battle with Stay-Puft. They scaled it down for budget reasons. \n– **The Library Ghost Was Scarier Than Planned**\nThe levitating librarian scene frightened test audiences so much that they toned down other ghosts. \n— \n## **Why Ghostbusters Still Matters** \nDecades later\, Ghostbusters remains a cultural phenomenon. Its mix of humor\, adventure\, and supernatural thrills appeals to all ages. The franchise also promotes teamwork and facing fears—great lessons for fans. \nWith new movies and shows in development\, the Ghostbusters universe keeps expanding. Whether through nostalgia or fresh stories\, there’s always something exciting happening. \n— \n## **Final Thoughts: Who You Gonna Celebrate With?** \nGhostbusters Day is the perfect excuse to revisit a beloved series. Whether you’re watching the films\, dressing up\, or hunting ghosts in a video game\, the fun never ends. \n**What’s your favorite Ghostbusters memory?** Share your stories\, costumes\, or movie rankings in the comments below! Let’s keep the spirit of Ghostbusters alive together. \nAll about June\nJune Celebrations and Holidays\n“Please note that some of the links in this blog post are affiliate links. This means that if you click on a link and make a purchase\, I may receive a commission. This helps support my blog and allows me to continue creating content for you. Thank you for your support!” 
URL:https://celebratethis.holiday/event/ghostbusters-day/
CATEGORIES:Arts and Music,Daily,Fun
ATTACH;FMTTYPE=image/jpeg:https://celebratethis.holiday/wp-content/uploads/2025/05/ghostbusters-1515152_1280.jpg
END:VEVENT
END:VCALENDAR