BEGIN:VCALENDAR
VERSION:2.0
PRODID:-//Celebrate This! - ECPv6.15.20//NONSGML v1.0//EN
CALSCALE:GREGORIAN
METHOD:PUBLISH
X-WR-CALNAME:Celebrate This!
X-ORIGINAL-URL:https://celebratethis.holiday
X-WR-CALDESC:Events for Celebrate This!
REFRESH-INTERVAL;VALUE=DURATION:PT1H
X-Robots-Tag:noindex
X-PUBLISHED-TTL:PT1H
BEGIN:VTIMEZONE
TZID:America/New_York
BEGIN:DAYLIGHT
TZOFFSETFROM:-0500
TZOFFSETTO:-0400
TZNAME:EDT
DTSTART:20270314T070000
END:DAYLIGHT
BEGIN:STANDARD
TZOFFSETFROM:-0400
TZOFFSETTO:-0500
TZNAME:EST
DTSTART:20271107T060000
END:STANDARD
BEGIN:DAYLIGHT
TZOFFSETFROM:-0500
TZOFFSETTO:-0400
TZNAME:EDT
DTSTART:20280312T070000
END:DAYLIGHT
BEGIN:STANDARD
TZOFFSETFROM:-0400
TZOFFSETTO:-0500
TZNAME:EST
DTSTART:20281105T060000
END:STANDARD
BEGIN:DAYLIGHT
TZOFFSETFROM:-0500
TZOFFSETTO:-0400
TZNAME:EDT
DTSTART:20290311T070000
END:DAYLIGHT
BEGIN:STANDARD
TZOFFSETFROM:-0400
TZOFFSETTO:-0500
TZNAME:EST
DTSTART:20291104T060000
END:STANDARD
END:VTIMEZONE
BEGIN:VEVENT
DTSTART;VALUE=DATE:20280605
DTEND;VALUE=DATE:20280606
DTSTAMP:20260420T163910
CREATED:20250513T111218Z
LAST-MODIFIED:20250513T125245Z
UID:10000310-1843776000-1843862399@celebratethis.holiday
SUMMARY:National Hot Air Balloon Day
DESCRIPTION:Celebrate National Hot Air Balloon Day with Sky-High Fun!\n \nAll about June\nJune Celebrations and Holidays \nJune 5th is National Hot Air Balloon Day\, a time to appreciate these colorful\, floating wonders. Hot air balloons have fascinated people for centuries. They combine science\, adventure\, and beauty. Whether you’ve ridden in one or just admired them from the ground\, this day is for you. \nLet’s explore the history\, science\, and fun behind hot air balloons. Plus\, we’ll share ways to celebrate. Ready to soar into the excitement? \n \nThe History of Hot Air Balloons\nThe history of hot air balloons begins in 1783. French brothers Joseph-Michel and Jacques-Étienne Montgolfier pioneered the first successful flight. They filled a large fabric balloon with hot air from a fire. On June 4\, 1783\, their uncrewed balloon soared over Annonay\, France. This experiment proved that heated air could lift objects into the sky. \nAnimals Take Flight Before Humans\nLater that year\, the Montgolfiers sent up their first living passengers. A sheep\, a duck\, and a rooster climbed aboard a tethered balloon. The animals landed safely after an eight-minute flight. Scientists wanted to ensure the air at higher altitudes was breathable. Soon after\, humans braved the skies too. \n \nThe First Crewed Balloon Journey\nOn November 21\, 1783\, two men made history. Pilâtre de Rozier and the Marquis d’Arlandes flew freely over Paris. Their balloon traveled five miles in 25 minutes. Crowds watched in amazement as they floated above rooftops. This milestone marked the birth of human aviation. \n \nBalloons Evolve Over Centuries\nEarly balloons were made of silk and powered by open flames. Later designs used stronger materials like nylon and propane burners. By the 1900s\, hot air balloons became popular for sport and recreation. Today\, they symbolize adventure and inspire festivals worldwide. Their legacy continues to soar. \nHow Do Hot Air Balloons Work?\nThe science behind hot air balloons is simple but brilliant. Here’s how they fly: \n– Hot air rises – A burner heats the air inside the balloon.\n– Lighter than cold air – The warm air makes the balloon buoyant.\n– Controlled by temperature – Pilots adjust heat to ascend or descend. \n \nBalloons don’t have engines or steering wheels. Instead\, they move with the wind. Skilled pilots change altitude to catch different wind currents. This lets them navigate with surprising precision. \nWhy We Love Hot Air Balloons\nThere’s something magical about hot air balloons. Here’s why people adore them: \n– They’re peaceful – Floating silently above the world is calming.\n– Stunning views – Riders see landscapes from a unique perspective.\n– Vibrant designs – Balloons come in all shapes\, from animals to cartoon characters. \nFestivals like the Albuquerque International Balloon Fiesta draw huge crowds. Watching hundreds of balloons fill the sky is unforgettable. \n \nWays to Celebrate National Hot Air Balloon Day\nYou don’t need to ride in a balloon to join the fun. Here are some great ways to celebrate: \n1. Attend a Balloon Festival\nMany cities host balloon events in early June. Check local listings for festivals near you. If you can’t find one\, watch videos of famous festivals online. \n2. Take a Sunrise or Sunset Ride\nIf you’ve ever wanted to fly in a balloon\, this is the perfect day to do it. Sunrise and sunset flights offer the best views. The golden light makes everything glow. \n \n3. Make Balloon-Themed Crafts\nGet creative with kids or friends crafting hot air balloons. Try making:\n– Paper hot air balloons\n– Painted balloon designs\n– Mini balloon models \n4. Learn About Famous Balloon Flights\nResearch record-breaking flights\, like Steve Fossett’s solo trip around the world. Or read about historic journeys that changed aviation. \n \n5. Share Your Balloon Photos or Stories\nPost your favorite balloon memories on social media. Use #NationalHotAirBalloonDay to join the conversation. \nFun Facts About Hot Air Balloons\n– The longest balloon flight lasted 19 days.\n– Some balloons are as tall as 10-story buildings.\n– The first female balloon pilot was Sophie Blanchard in 1804.\n– Modern balloons can reach speeds of 10-15 mph. \n \nSafety Tips for Hot Air Balloon Rides\nBallooning is very safe\, but it’s good to be prepared. Follow these tips: \n✔ Dress in layers – It can be chilly up high.\n✔ Listen to the pilot – They’ll explain safety rules before takeoff.\n✔ Check the weather – Flights may cancel if winds are too strong.\n✔ Hold on during landing – It can be bumpy\, but pilots aim for smooth touchdowns. \n  \n \nThe Future of Hot Air Ballooning\nTechnology keeps improving balloon design. Some companies are working on solar-powered balloons. Others explore high-altitude tourism. Imagine floating near the edge of space! \nBalloons also help in science and rescue missions. They’re used for weather research and even internet access in remote areas. \n \nFinal Thoughts: Look Up and Dream\nHot air balloons remind us to dream big. They show that even the simplest ideas—like hot air rising—can create something extraordinary. \nThis National Hot Air Balloon Day\, take a moment to appreciate these flying marvels. Whether you watch from below or ride in one\, let the wonder lift your spirits. \nWhat’s your favorite hot air balloon memory? Have you ever taken a ride or watched a festival? Share your stories below! \nAll about June\nJune Celebrations and Holidays \n“Please note that some of the links in this blog post are affiliate links. This means that if you click on a link and make a purchase\, I may receive a commission. This helps support my blog and allows me to continue creating content for you. Thank you for your support!” 
URL:https://celebratethis.holiday/event/national-hot-air-balloon-day/2028-06-05/
CATEGORIES:Daily,Fun,National
ATTACH;FMTTYPE=image/jpeg:https://celebratethis.holiday/wp-content/uploads/2025/05/lighthouse-hot-air-balloons.jpg
END:VEVENT
BEGIN:VEVENT
DTSTART;VALUE=DATE:20280606
DTEND;VALUE=DATE:20280607
DTSTAMP:20260420T163910
CREATED:20250513T171229Z
LAST-MODIFIED:20250513T192745Z
UID:10000326-1843862400-1843948799@celebratethis.holiday
SUMMARY:National Gardening Exercise Day
DESCRIPTION:Celebrate National Gardening Exercise Day: Where Fitness Meets Nature\n \nAll about June\nJune Celebrations and Holidays \nJune 6 brings us National Gardening Exercise Day\, a brilliant fusion of two life-enriching activities. This special occasion highlights how tending to plants can double as an effective workout routine. From digging flower beds to harvesting vegetables\, every gardening task engages your body in meaningful movement. \nGardening offers something for everyone – whether you maintain acres of land or a few balcony pots. Beyond growing beautiful blooms or tasty produce\, you’ll strengthen muscles\, boost endurance\, and reduce stress. Let’s explore how to maximize both your garden’s potential and your personal fitness through this rewarding activity. \n \nThe Surprising Workout in Your Backyard\nMany gardeners don’t realize they’re getting a full-body workout until they feel those pleasant muscle aches afterward. Just thirty minutes of active gardening can burn as many calories as a brisk walk. Digging works your arms and shoulders\, while squatting to plant seedlings strengthens your legs. Even simple tasks like raking leaves or pushing a wheelbarrow engage your core muscles. \nThe varied movements in gardening promote flexibility and coordination better than repetitive gym exercises. Unlike staring at a treadmill timer\, you’ll lose track of time while focused on nurturing your plants. This makes gardening one of the most enjoyable ways to stay active without feeling like you’re exercising. \n \nHealth Benefits That Grow Naturally\nGardening nurtures more than just plants – it cultivates wellness in multiple dimensions. The physical exertion improves cardiovascular health by getting your heart pumping during vigorous tasks. All that bending and lifting enhances joint mobility and builds bone density\, especially important as we age. \nMentally\, gardening works wonders for stress relief. The combination of fresh air\, sunlight\, and connection with nature creates a calming meditation in motion. Watching your plants thrive provides a deep sense of accomplishment that boosts mood and self-esteem. Many gardeners report better sleep after spending active hours outdoors among their plants. \n \nCreative Ways to Honor the Day\nCelebrating National Gardening Exercise Day can take many forms depending on your space and ability. Beginners might start with gentle stretching before tending to container plants on their patio. More experienced gardeners could challenge themselves by preparing new garden beds – an excellent full-body workout. \nCommunity gardens offer wonderful opportunities to socialize while staying active. You’ll meet like-minded neighbors while turning compost or harvesting communal crops. For tech enthusiasts\, wearing a fitness tracker reveals exactly how many steps and calories those gardening activities burn. \nConsider organizing a gardening fitness challenge with friends. See who can weed the straightest row or haul the most mulch while maintaining proper form. The friendly competition makes the work feel like play while keeping everyone motivated. \n \nMovement for Every Gardener\nThose new to physical activity can start with knee-friendly tasks like pruning shrubs from a stable stool. Light watering with a full can provides gentle arm toning without strain. As endurance builds\, progress to more demanding jobs like turning compost piles or planting in raised beds. \nIntermediate gardeners might challenge themselves with sustained raking or digging sessions. Carrying bags of soil using proper lifting technique develops functional strength for daily life. Advanced green thumbs can tackle major projects like double-digging new beds or moving large potted plants – nature’s version of weight training. \n \nGrowing Safely and Strongly\nProtecting your body ensures many happy years of gardening ahead. Always bend at the knees rather than the waist when lifting anything heavy. Switch between different types of tasks to avoid overusing specific muscle groups. Keep water nearby and take regular breaks in the shade during hot weather. \nWearing supportive footwear prevents slips and reduces back strain. Quality gloves protect hands while improving your grip on tools. Listen to your body’s signals – some muscle burn means you’re getting stronger\, but sharp pains mean it’s time to rest. \n \nMaking Fitness Fun in the Garden\nTurn routine chores into enjoyable exercise by adding playful elements. Put on upbeat music and dance between garden rows while watering plants. Set a timer for friendly weeding races with household members. Practice balance by standing on one leg while pruning shrubs. \nHost a “fitness gardening” party where friends rotate through different activity stations. One area could focus on squat-planting flowers\, another on wheelbarrow relays. End with stretching and a harvest-themed foods to celebrate your accomplishments. \n \nA Healthier Life\, One Plant at a Time\nNational Gardening Exercise Day reminds us that fitness can grow organically from activities we love. Unlike gym memberships that go unused\, gardening provides ongoing motivation through visible results – both in our bodies and our outdoor spaces. The seasonality of gardening ensures varied challenges throughout the year. \nThis June 6\, grab your trowel and experience how nurturing plants can nurture your health. Your muscles might protest the next day\, but your plants – and your body – will thank you. \nWhat gardening activity gives you the best workout? Share your favorite way to combine plants and exercise in the comments below! \nAll about June\nJune Celebrations and Holidays \n“Please note that some of the links in this blog post are affiliate links. This means that if you click on a link and make a purchase\, I may receive a commission. This helps support my blog and allows me to continue creating content for you. Thank you for your support!” 
URL:https://celebratethis.holiday/event/national-gardening-exercise-day/2028-06-06/
CATEGORIES:Daily,Fun,Hobby,National,Nature
ATTACH;FMTTYPE=image/jpeg:https://celebratethis.holiday/wp-content/uploads/2025/05/garden-tools-long.jpg
END:VEVENT
BEGIN:VEVENT
DTSTART;VALUE=DATE:20280610
DTEND;VALUE=DATE:20280611
DTSTAMP:20260420T163910
CREATED:20250610T065515Z
LAST-MODIFIED:20250610T193342Z
UID:10000334-1844208000-1844294399@celebratethis.holiday
SUMMARY:National Ball Point Pen Day
DESCRIPTION:National Ball Point Pen Day: History\, Meaning\, and Fun Ways to Celebrate\nAll about June\nJune Celebrations and Holidays\nEvery year\, people celebrate National Ball Point Pen Day on June 10th. This day honors the invention of the ballpoint pen\, a tool many use daily. Whether writing notes\, signing documents\, or doodling\, ballpoint pens make life easier. The day encourages appreciation for this simple yet revolutionary invention. \n \nThe History of the Ballpoint Pen\nBallpoint pens have a fascinating history. In 1888\, John J. Loud patented an early version. His design failed because the ink smudged or clogged. Decades later\, Hungarian journalist László Bíró improved the pen. \n \nFrustrated with fountain pens\, Bíró created a smoother\, quicker-drying ink. He paired it with a tiny ball bearing that rolled ink onto paper. In 1938\, he patented his design. By the 1940s\, ballpoint pens became popular worldwide. \nWho Was László Bíró?\nLászló Bíró was a Hungarian journalist and inventor. He changed writing forever with his ballpoint pen design. Frustrated by smudgy fountain pens\, he sought a better solution. In the 1930s\, he noticed newspaper ink dried quickly. This inspired his breakthrough idea. \nHow Did He Invent the Ballpoint Pen?\nBíró worked with his brother György\, a chemist\, to create the perfect ink. They developed a thicker\, fast-drying formula. Next\, they added a tiny rotating ball to distribute ink smoothly. By 1938\, they patented their invention. The design prevented leaks and smudges. Soon\, their pens gained popularity for reliability. \n \nWhat Was Bíró’s Legacy?\nThe ballpoint pen became a global success after World War II. Many countries still call it the “Biro” in his honor. His invention made writing easier for millions. Today\, we use his design in schools\, offices\, and homes worldwide. Bíró proved that simple ideas can change the world. \nThe British Royal Air Force loved them because they worked at high altitudes. Soon\, businesses and schools adopted them too. Today\, billions of ballpoint pens are used globally. \n \nWhy Celebrate National Ball Point Pen Day?\nThis day reminds us how small inventions change lives. Ballpoint pens made writing accessible and mess-free. They replaced messy fountain pens and unreliable pencils. \nCelebrating also sparks creativity. Writing by hand boosts memory and focus.  They are convenient\, portable\, and affordable.  They are easy to find and come in many colors and point sizes\, from ultra-fine point to bold point and everything in between. \n \nFun Ways to Celebrate\nAnyone can enjoy National Ball Point Pen Day. Here are some fun ideas: \n1. Write a Handwritten Letter\nEmails and texts are convenient\, but handwritten notes feel special. Grab a ballpoint pen and write to a friend\, family member\, or mentor. Your effort will brighten their day. \n2. Start a Journal\nJournaling helps organize thoughts and reduce stress. Use a ballpoint pen to jot down daily reflections\, goals\, or gratitude lists. The smooth writing experience makes it enjoyable. \n \n3. Doodle or Sketch\nBallpoint pens aren’t just for writing. Many artists create stunning sketches with them. Try shading\, cross-hatching\, or freehand drawing. You might discover a hidden talent! \n4. Test Different Pens\nNot all ballpoint pens are the same. Treat yourself to a few new ones. Compare ink flow\, grip comfort\, and line thickness. Find your favorite brand. \n \n5. Learn Pen Trivia\nShare fun facts about ballpoint pens with friends. Did you know the first ones sold for $12.50 in 1945? That’s over $200 today! Impress others with your knowledge. \n6. Donate Pens to Schools or Charities\nMany students and organizations need pens. Donate a pack to a local school\, library\, or shelter. Your small gesture can make a big difference. \n7. Host a Pen-Themed Party\nInvite friends over for a creative gathering. Provide pens\, paper\, and fun writing prompts. Play games like “finish the story” or “draw blindly.” Laughter and creativity will flow. \n \nThe Future of Ballpoint Pens\nEven in the digital age\, ballpoint pens remain relevant. They don’t need batteries or charging. Many people still prefer writing by hand for notes and signatures. \nEco-friendly options are rising too. Refillable pens reduce plastic waste. Some companies even make pens from recycled materials. The ballpoint pen continues to evolve. \nFinal Thoughts\nNational Ball Point Pen Day celebrates an invention we often take for granted. From its rocky start to global success\, the ballpoint pen shaped how we communicate. Whether writing\, drawing\, or donating\, there are countless ways to honor this handy tool. \nAll about June\nJune Celebrations and Holidays\n \n“Please note that some of the links in this blog post are affiliate links. This means that if you click on a link and make a purchase\, I may receive a commission. This helps support my blog and allows me to continue creating content for you. Thank you for your support!”
URL:https://celebratethis.holiday/event/national-ball-point-pen-day/2028-06-10/
CATEGORIES:Daily,Fun,National,Technology
ATTACH;FMTTYPE=image/png:https://celebratethis.holiday/wp-content/uploads/2025/06/Gold-and-black-ball-point-pen-1.png
END:VEVENT
BEGIN:VEVENT
DTSTART;VALUE=DATE:20280611
DTEND;VALUE=DATE:20280612
DTSTAMP:20260420T163910
CREATED:20250611T054408Z
LAST-MODIFIED:20250612T143711Z
UID:10000341-1844294400-1844380799@celebratethis.holiday
SUMMARY:National Corn on the Cob Day
DESCRIPTION:Celebrate National Corn on the Cob Day: A Sweet & Buttery Guide\nAll about June\nJune Celebrations and Holidays\nFew foods scream “summer” quite like corn on the cob. Every year on June 11\, National Corn on the Cob Day gives us the perfect excuse to enjoy this golden\, buttery delight. Whether you grill it\, boil it\, or slather it with toppings\, corn on the cob is a crowd-pleaser. \nLet’s explore the history of corn\, fun ways to celebrate\, and even some surprising health benefits. Let’s dig in! \n \nThe History of Corn on the Cob\nCorn has been a staple food for thousands of years. Indigenous peoples in Mesoamerica first cultivated it around 10\,000 years ago. They called it maize and used it in everything from bread to ceremonial dishes. \nWhen European settlers arrived in the Americas\, they quickly adopted corn into their diets. By the 18th century\, it became a key crop in the U.S. Today\, corn on the cob remains a summer BBQ essential and a favorite at fairs and festivals. \n \nWhy We Love Corn on the Cob\nThere’s something special about biting into a juicy\, buttery ear of corn. Here’s why people can’t get enough: \n– It’s versatile – Grill it\, boil it\, or even air-fry it.\n– It’s nostalgic – Many of us have fond memories of eating corn at family cookouts.\n– It’s delicious – Sweet\, crunchy\, and perfect with endless toppings. \nPlus\, it’s a great way to bring people together. Few foods are as fun (and messy!) to eat. \n \nHow to Celebrate National Corn on the Cob Day\nReady to enjoy this tasty holiday? Here are some fun and delicious ways to celebrate: \n1. Host a Corn-Themed Cookout\nInvite friends over for a corn feast. Serve classic buttered corn\, Mexican street corn (elote)\, and even corn salads. Don’t forget cornbread! \n \n2. Try a New Recipe\nSwitch things up with creative recipes like:\n– Cheesy grilled corn (Parmesan + chili powder)\n– Honey-lime corn (sweet and tangy)\n– Spicy buffalo corn (hot sauce + blue cheese) \n3. Visit a Farmers Market\nFresh\, locally grown corn tastes 10 times better. Support local farmers and get the sweetest ears possible. \n \n4. Make It a Family Activity\nKids love shucking corn! Turn it into a game—see who can peel the husks the fastest. \n5. Enter a Corn Eating Contest\nSome festivals host corn-eating challenges. Can you finish an entire dozen? \n \nHealth Benefits of Corn on the Cob\nYes\, corn is delicious—but is it healthy? Absolutely! Here’s why: \n– High in fiber – Good for digestion.\n– Packed with vitamins – Contains B vitamins\, magnesium\, and antioxidants.\n– Naturally gluten-free – A great option for gluten-sensitive folks. \nJust go easy on the butter and salt if you’re watching calories. \n \n  \nFun Corn Facts You Didn’t Know\n– There are over 3\,500 uses for corn (including fuel\, plastic\, and even crayons!).\n– An average ear of corn has about 800 kernels.\n– Corn comes in more colors than just yellow—try blue\, red\, or even rainbow corn! \n \nFinal Thoughts\nNational Corn on the Cob Day is the perfect excuse to enjoy this iconic summer treat. Whether you like it classic or loaded with toppings\, there’s no wrong way to eat it. \nSo grab some ears\, fire up the grill\, and celebrate! \nWhat’s your favorite way to eat corn on the cob? Share your best recipes or memories below! \nAll about June\nJune Celebrations and Holidays\n“Please note that some of the links in this blog post are affiliate links. This means that if you click on a link and make a purchase\, I may receive a commission. This helps support my blog and allows me to continue creating content for you. Thank you for your support!”
URL:https://celebratethis.holiday/event/national-corn-on-the-cob-day/2028-06-11/
CATEGORIES:Daily,Food and Drink,National
ATTACH;FMTTYPE=image/jpeg:https://celebratethis.holiday/wp-content/uploads/2025/06/bCuIL3ehkLZkgT81tR5g-0-b55o0.jpg
END:VEVENT
END:VCALENDAR