BEGIN:VCALENDAR
VERSION:2.0
PRODID:-//Celebrate This! - ECPv6.15.20//NONSGML v1.0//EN
CALSCALE:GREGORIAN
METHOD:PUBLISH
X-WR-CALNAME:Celebrate This!
X-ORIGINAL-URL:https://celebratethis.holiday
X-WR-CALDESC:Events for Celebrate This!
REFRESH-INTERVAL;VALUE=DURATION:PT1H
X-Robots-Tag:noindex
X-PUBLISHED-TTL:PT1H
BEGIN:VTIMEZONE
TZID:America/New_York
BEGIN:DAYLIGHT
TZOFFSETFROM:-0500
TZOFFSETTO:-0400
TZNAME:EDT
DTSTART:20270314T070000
END:DAYLIGHT
BEGIN:STANDARD
TZOFFSETFROM:-0400
TZOFFSETTO:-0500
TZNAME:EST
DTSTART:20271107T060000
END:STANDARD
BEGIN:DAYLIGHT
TZOFFSETFROM:-0500
TZOFFSETTO:-0400
TZNAME:EDT
DTSTART:20280312T070000
END:DAYLIGHT
BEGIN:STANDARD
TZOFFSETFROM:-0400
TZOFFSETTO:-0500
TZNAME:EST
DTSTART:20281105T060000
END:STANDARD
BEGIN:DAYLIGHT
TZOFFSETFROM:-0500
TZOFFSETTO:-0400
TZNAME:EDT
DTSTART:20290311T070000
END:DAYLIGHT
BEGIN:STANDARD
TZOFFSETFROM:-0400
TZOFFSETTO:-0500
TZNAME:EST
DTSTART:20291104T060000
END:STANDARD
END:VTIMEZONE
BEGIN:VEVENT
DTSTART;VALUE=DATE:20280701
DTEND;VALUE=DATE:20280702
DTSTAMP:20260420T192451
CREATED:20250701T055542Z
LAST-MODIFIED:20250630T194247Z
UID:10000367-1846022400-1846108799@celebratethis.holiday
SUMMARY:National Creative Ice Cream Flavors Day
DESCRIPTION:All about July\nJuly Celebrations and Holidays\nCelebrate National Creative Ice Cream Flavors Day with Bold & Tasty Treats!\nCreative Ice Cream Flavors Day happens every July 1st. It’s a day to ditch plain vanilla and explore wild\, inventive ice cream combinations. Whether you love sweet\, savory\, or spicy\, this holiday encourages everyone to think outside the pint. \nFrom bacon-infused scoops to a bowl of lavender honey bliss\, the possibilities are endless. This day isn’t just about eating ice cream—it’s about celebrating culinary creativity. \n \nWhy We Love Unusual Ice Cream Flavors\nPeople crave novelty. That’s why chefs and home cooks keep pushing boundaries with unexpected ingredients. Unique flavors spark joy and conversation. They also challenge our taste buds in fun ways. \nSome flavors become instant hits\, while others are just for the brave. Either way\, trying something new makes dessert exciting. Plus\, unusual ice cream can reflect cultural traditions\, seasonal produce\, or even nostalgic snacks. \n \nWild & Wonderful Flavor Ideas to Try\nWant to celebrate Creative Ice Cream Flavors Day right? Here are some bold ideas to inspire you: \nSweet & Savory Mashups\n\n\nMaple Bacon – Smoky\, salty\, and sweet. \n\n\nBlue Cheese & Honey – A tangy twist for adventurous eaters. \n\n\nOlive Oil & Sea Salt – Rich\, smooth\, and slightly savory. \n\n\n \nHerbal & Floral Delights\n\n\nLavender Honey – Fragrant and soothing. \n\n\nRosemary Lemon – Bright and herby. \n\n\nBasil Strawberry – Fresh and fruity. \n\n\n \nSpicy & Bold Creations\n\n\nChili Chocolate – Sweet heat in every bite. \n\n\nWasabi Pea – A punchy surprise. \n\n\nCinnamon Fireball – Warm and tingly. \n\n\n \nBreakfast-Inspired Scoops\n\n\nCereal Milk – Like drinking the leftover milk from your favorite cereal. \n\n\nPancake & Syrup – Breakfast in dessert form. \n\n\nCoffee & Donut – A caffeine-kissed treat. \n\n\n \nGlobal Flavor Adventures\n\n\nMatcha Green Tea – Earthy and vibrant. \n\n\nBlack Sesame – Nutty and rich. \n\n\nMango Sticky Rice – A Thai-inspired favorite. \n\n\n \nHow to Celebrate Creative Ice Cream Flavors Day\nYou don’t need to be a chef to join in. Here are easy ways to enjoy the holiday: \nVisit a Local Ice Cream Shop\nMany artisan creameries feature rotating experimental flavors. Support small businesses and try something new. \n \nHost a DIY Ice Cream Tasting\nInvite friends over with a few unusual pints. Rate flavors and see which ones win. \nMake Your Own Weird Flavor\nMix-ins like potato chips\, balsamic glaze\, or fresh herbs can transform plain ice cream. \nShare Your Creations Online\nSnap a pic of your wildest scoop and tag #CreativeIceCreamDay. Who knows? You might start a trend. \n \nThe Future of Ice Cream Innovation\nFood science keeps evolving. Chefs experiment with liquid nitrogen\, vegan bases\, and even 3D-printed designs. Sustainability also plays a role—think upcycled ingredients or climate-friendly dairy alternatives. \nOne thing’s for sure: ice cream will keep getting more creative. Maybe one day\, we’ll see flavors like “Campfire S’mores with Charcoal Swirl” or “Pickle & Peanut Butter.” \n \nWhat’s the Most Creative Flavor You’ve Tried?\nNational Creative Ice Cream Flavors Day is all about fun and exploration. Whether you stick to classics or dive into daring combos\, there’s no wrong way to celebrate. \nSo tell us—what’s the wildest ice cream flavor you’ve ever tasted? Would you try something like garlic ice cream or avocado lime? \n“Please note that some of the links in this blog post are affiliate links. This means that if you click on a link and make a purchase\, I may receive a commission. This helps support my blog and allows me to continue creating content for you. Thank you for your support!”  \nAll about July\nJuly Celebrations and Holidays\n \n \n \n \n \n \n 
URL:https://celebratethis.holiday/event/creative-ice-cream-flavors-day/2028-07-01/
CATEGORIES:Daily,Food and Drink,Fun,National
ATTACH;FMTTYPE=image/jpeg:https://celebratethis.holiday/wp-content/uploads/2025/07/ice-cream-5928080_1280.jpg
END:VEVENT
BEGIN:VEVENT
DTSTART;VALUE=DATE:20280702
DTEND;VALUE=DATE:20280703
DTSTAMP:20260420T192451
CREATED:20250702T054316Z
LAST-MODIFIED:20250701T225307Z
UID:10000373-1846108800-1846195199@celebratethis.holiday
SUMMARY:World UFO Day
DESCRIPTION:World UFO Day: Celebrating the Mysteries of the Cosmos\nAll about July\nJuly Celebrations and Holidays\nEvery year on July 2\, people around the globe celebrate World UFO Day. This event honors unidentified flying objects (UFOs)\, frequently referred to as unidentified Aerial Phenomena (UAP)\, and encourages open discussions about extraterrestrial life. The date commemorates the famous 1947 Roswell incident\, where an alleged UFO crashed in New Mexico. \nEnthusiasts\, skeptics\, and scientists alike use this day to share theories\, evidence\, and personal experiences. Whether you believe in aliens or just love a good mystery\, World UFO Day invites everyone to look up and wonder. \n \nWhy Do We Celebrate UFOs?\nUFOs have fascinated humanity for centuries. From ancient cave paintings to modern-day military sightings\, unexplained aerial phenomena spark curiosity. Governments have even declassified UFO files\, adding fuel to the debate. \nWorld UFO Day promotes scientific inquiry\, open-mindedness\, and global unity. It reminds us that the universe is vast\, and we might not be alone. \nFamous UFO Sightings & Encounters\nUnidentified Flying Objects (UFOs) have captivated humanity for centuries. From ancient cave paintings to modern military encounters\, sightings of mysterious aerial phenomena persist across cultures. While some dismiss them as hoaxes or misidentifications\, others believe they are evidence of extraterrestrial visitors. \nThis article explores the history of UFO sightings and delves into some of the most chilling\, well-documented alien abduction cases in history. \n\nA Brief History of UFO Sightings\nAncient UFOs: Myths & Legends\nLong before the term “UFO” existed\, people recorded strange skyward phenomena: \n\n\nAncient Egypt (c. 1480 BC) – Pharaoh Thutmose III’s scribes described “fiery disks” brighter than the sun. \n\n\nNuremberg\, Germany (1561) – Townsfolk witnessed a “celestial battle” with spheres and crosses in the sky. \n\n\nFatima\, Portugal (1917) – Thousands reported a “dancing sun” that some believe was a UFO. \n\n\nNuremberg UFOs April 14\, 1561\nThe Modern UFO Era Begins (1940s-1950s)\nThe term “flying saucer” entered public consciousness after pilot Kenneth Arnold’s 1947 sighting of nine high-speed objects near Mount Rainier. Weeks later\, the infamous Roswell incident made headlines when the U.S. military recovered mysterious debris in New Mexico\, sparking conspiracy theories of a crashed alien craft. \n \nGovernment Investigations & Cover-Ups\n\n\nProject Blue Book (1952-1969) – The U.S. Air Force’s official UFO study examined over 12\,000 sightings. Most were debunked\, but 701 remained unexplained. \n\n\nThe Condon Report (1968) – A controversial study dismissed UFOs as non-threatening\, leading to reduced government interest. \n\n\nRecent Disclosures (2017-Present) – The Pentagon confirmed leaked Navy UFO videos as authentic\, reigniting public debate. \n\n\n  \n \nUFOs in the 21st Century\nIn 2020\, the U.S. Department of Defense established the Unidentified Aerial Phenomena (UAP) Task Force. A 2021 report admitted that 143 out of 144 military UFO encounters defied conventional explanations. \nSome UFO reports have become legendary. Here are a few that continue to intrigue: \n– The Roswell Incident (1947) – A rancher found strange debris in New Mexico\, sparking claims of a crashed alien spacecraft. The U.S. military called it a weather balloon\, but many remain skeptical.\n– The Phoenix Lights (1997) – Thousands in Arizona witnessed a massive V-shaped object silently gliding across the sky. Officials later called them military flares\, but witnesses disagree.\n– The Tic-Tac UFO (2004) – U.S. Navy pilots filmed a fast-moving\, wingless object off California. The Pentagon later confirmed the footage as “unidentified.”\n– The Belgian Wave (1989-1990) – Over 13\,000 people reported triangular UFOs hovering silently. Radar confirmed the objects\, but no official explanation was given. \nThese cases—and thousands more—keep the UFO conversation alive. \n \nNotable Alien Abduction Cases\nWhile UFO sightings are common\, abduction accounts are far more disturbing. These cases often involve missing time\, medical examinations\, and lifelong trauma. Below are some of the most credible\, well-documented abductions: \n1. The Betty & Barney Hill Abduction (1961)\n\n\nLocation: New Hampshire\, USA \n\n\nDetails: The Hills were driving home when they spotted a UFO. Under hypnosis\, they recalled being taken aboard\, examined by beings with large eyes\, and shown a star map. \n\n\nEvidence: Betty’s dress had unexplained tears\, and their watches stopped working. \n\n\nBetty and Barney Hill\n2. Travis Walton’s Disappearance (1975)\n\n\nLocation: Arizona\, USA \n\n\nDetails: Walton and his logging crew saw a glowing UFO. When he approached\, a beam struck him\, and he vanished for five days. He later recalled waking up aboard a ship. \n\n\nEvidence: Witnesses backed his story\, and he passed multiple lie detector tests. \n\n\nTravis Walton\n3. The Pascagoula Abduction (1973)\n\n\nLocation: Mississippi\, USA \n\n\nDetails: Fishermen Charles Hickson and Calvin Parker claimed gray\, robotic beings abducted them. They were floated aboard a craft and examined before being released. \n\n\nEvidence: Police confirmed they were genuinely terrified\, and their story never changed. \n\n\n \n4. The Allagash Abductions (1976)\n\n\nLocation: Maine\, USA \n\n\nDetails: Four artists camping near Allagash saw a UFO. Later\, under hypnosis\, they recalled being taken inside and subjected to medical tests. \n\n\nEvidence: All four had matching memories despite being interviewed separately. \n\n\n \n5. The Kelly Cahill Case (1993)\n\n\nLocation: Victoria\, Australia \n\n\nDetails: Cahill and her husband encountered a massive UFO with black-cloaked beings. She later found a triangular mark on her body and suffered health issues. \n\n\nEvidence: Another couple independently reported the same UFO that night. \n\n\n \n6. The Zimbabwe School Encounter (1994)\n\n\nLocation: Ruwa\, Zimbabwe \n\n\nDetails: Over 60 schoolchildren saw a silver craft land near their playground. Beings with large black eyes telepathically warned of environmental destruction. \n\n\nEvidence: The children’s drawings matched\, and psychologists ruled out mass hysteria. \n\n\n \n7. The Antonio Vilas Boas Abduction (1957)\n\n\nLocation: Brazil \n\n\nDetails: A farmer claimed aliens took him aboard their ship\, drew his blood\, and left him with chemical burns. Most shockingly\, he reported a forced encounter with a humanoid female. \n\n\nEvidence: Soil samples from the site showed radiation. \n\n\n \n8. The Linda Cortile Abduction (1989)\n\n\nLocation: New York City\, USA \n\n\nDetails: Cortile said she was levitated out of her apartment window into a UFO. Two security guards also reported seeing her floating in a beam of light. \n\n\nEvidence: Multiple witnesses\, including a UN official\, corroborated parts of her story. \n\n\n \nWhy Do Abductions Happen? Theories & Explanations\n\n\nScientific Experimentation – Some believe aliens study humans like lab subjects. \n\n\nHybrid Programs – Abductees often report being shown alien-human hybrid children. \n\n\nWarning Messages – Many experiencers receive apocalyptic visions about Earth’s future. \n\n\nPsychological Phenomena – Skeptics argue sleep paralysis or false memories explain the accounts. \n\n\n  \n \nHow to Celebrate World UFO Day\nYou don’t need to spot a flying saucer to join the fun. Here are exciting ways to participate: \n1. Host a UFO Movie Marathon\nGather friends for classic alien films like:\n– Close Encounters of the Third Kind (1977) – A man’s life changes after a UFO encounter.\n– The X-Files (1993-2018) – FBI agents investigate paranormal cases.\n– Arrival (2016) – Linguists attempt to communicate with mysterious visitors.\n– E.T. The Extra Terrestrial (1982) – An alien is stranded on Earth and befriends some children. \n \n2. Stargaze & Skywatch\nGrab binoculars or a telescope and scan the night sky. Even if you don’t see a UFO\, you might catch a meteor or satellite! \n3. Visit UFO Hotspots\nPlan a trip to famous locations like:\n– Roswell\, New Mexico – Home to UFO museums and annual festivals.\n– Area 51\, Nevada – A secretive military base linked to alien conspiracy theories.\n– Bonnybridge\, Scotland – Called the “UFO Capital of the World” due to frequent sightings. \n \n4. Share Your Own UFO Story\nHave you seen something unusual in the sky? Post about it online using #WorldUFODay. You might connect with others who had similar experiences. \n5. Read Declassified UFO Reports\nGovernments like the U.S. and U.K. have released official documents on UFOs. Dive into these files and form your own conclusions. \n \nThe Science Behind UFOs\nWhile some dismiss UFOs as hoaxes\, scientists take them seriously. In 2021\, the U.S. government released a report on UAPs (Unidentified Aerial Phenomena). They confirmed 144 sightings—most remained unexplained. \nPossible theories include:\n– Advanced Military Tech – Secret aircraft mistaken for alien craft.\n– Natural Phenomena – Rare atmospheric effects or optical illusions.\n– Extraterrestrial Visits – The most exciting (and debated) possibility. \nAstronomers like Dr. Avi Loeb argue we should study UFOs without stigma. After all\, the universe is unimaginably vast—why wouldn’t other life exist? \n \nUFOs in Pop Culture\nAliens and flying saucers dominate books\, movies\, and TV. Some iconic examples:\n– E.T. the Extra-Terrestrial (1982)– A heartwarming tale of a boy and his alien friend.\n– Independence Day (1996) – Humanity battles invading UFOs in this action-packed blockbuster.\n– Ancient Aliens (2009-present) – A documentary series exploring historical UFO connections. \nThese stories shape how we imagine extraterrestrials—from friendly visitors to cosmic threats. \nGiorgio Tsoukalos ~ Ancient Aliens\nThe Future of UFO Research\nGovernments now fund UFO investigations more openly. NASA has even launched studies on UAPs. With better technology\, we may soon solve these mysteries. \nKey developments to watch:\n– Improved Satellite Tracking – AI could detect unusual aerial movements.\n– Declassified Military Footage – More videos may surface.\n– International Collaboration – Scientists worldwide are sharing UFO data. \nOne day\, we might finally get answers. \n \nFinal Thoughts: Keep Looking Up\nWorld UFO Day celebrates curiosity. Whether you’re a believer\, skeptic\, or just love sci-fi\, this day unites us in wonder. The truth is out there—maybe we’ll find it together. \nWhat’s your take on UFOs? Have you ever seen something unexplainable in the sky? \nPlease note that some of the links in this blog post are affiliate links. This means that if you click on a link and make a purchase\, I may receive a commission. This helps support my blog and allows me to continue creating content for you. Thank you for your support! \nAll about July\nJuly Celebrations and Holidays\n \n \n \n \n \n \n \n \n 
URL:https://celebratethis.holiday/event/world-ufo-day/2028-07-02/
CATEGORIES:Daily,Fun,Global,Hobby,International,Technology,World
ATTACH;FMTTYPE=image/jpeg:https://celebratethis.holiday/wp-content/uploads/2025/07/eiffel-tower-ufo.jpg
END:VEVENT
BEGIN:VEVENT
DTSTART;VALUE=DATE:20280702
DTEND;VALUE=DATE:20280703
DTSTAMP:20260420T192451
CREATED:20250710T163900Z
LAST-MODIFIED:20250710T165354Z
UID:10000385-1846108800-1846195199@celebratethis.holiday
SUMMARY:National Build a Scarecrow Day
DESCRIPTION:All about July\nJuly Celebrations and Holidays\nNational Build a Scarecrow Day falls on the first Sunday in July every year. This quirky holiday encourages people to embrace their creativity. It’s a chance to craft a unique scarecrow. Whether you’re a gardening enthusiast or just love DIY projects\, this day is for you. \nScarecrows have been around for centuries. They protect crops from birds and pests. But they’re also symbols of harvest and rural life. Today\, they’re more than just farm tools—they’re works of art. \nReady to join the fun? Let’s explore how to celebrate this delightful day! \nWhy Build a Scarecrow?\nScarecrows serve many purposes. They’re practical\, artistic\, and nostalgic. Here’s why you should try making one: \n\n\nGarden Protection: A well-placed scarecrow keeps birds away from fruits and veggies. \n\n\nCreative Outlet: Designing a scarecrow lets you express your personality. \n\n\nFamily Bonding: It’s a fantastic activity for kids and adults alike. \n\n\nSeasonal Decor: A handmade scarecrow adds charm to your yard in summer and fall. \n\n\nPlus\, it’s a great excuse to spend time outdoors. \nHow to Build Your Own Scarecrow\nBuilding a scarecrow is easier than you think. You don’t need fancy materials. Most supplies can be found at home. Follow these simple steps to create your own: \n1. Gather Your Materials\nYou’ll need: \n\n\nA wooden pole or stake (for the body frame) \n\n\nOld clothes (flannel shirts and jeans work well) \n\n\nStraw\, hay\, or stuffing (for filling) \n\n\nString or rope (to tie everything together) \n\n\nA burlap sack or pillowcase (for the head) \n\n\nMarkers\, paint\, or buttons (for facial features) \n\n\nA hat and accessories (for extra personality) \n\n\n2. Assemble the Frame\nStart by forming a cross with two wooden poles. Secure them tightly with rope. This will be the skeleton of your scarecrow. \n3. Stuff and Dress Your Scarecrow\nSlide the shirt and pants onto the frame. Fill them with straw or old fabric. Tie the ends of the sleeves and pant legs to keep stuffing in place. \n4. Create the Head\nFill a burlap sack with straw. Shape it into a head and attach it to the frame. Draw or sew on a face. Get creative—add glasses\, a mustache\, or even wild yarn hair! \n5. Add Finishing Touches\nTop your scarecrow with a hat. Tie on gloves for hands. Prop it up in your garden or yard. For extra flair\, give it a fun name! \nFun Scarecrow Ideas to Try\nNot all scarecrows have to look traditional. Here are some unique twists to inspire you: \n\n\nSuperhero Scarecrow: Dress it in a cape and mask. \n\n\nCelebrity Lookalike: Make a scarecrow version of your favorite star. \n\n\nAnimal-Themed: Craft an owl or fox-shaped scarecrow. \n\n\nSeasonal Designs: Switch outfits for holidays like Halloween or Christmas. \n\n\nThe possibilities are endless. Let your imagination run wild! \nScarecrow Festivals Around the World\nDid you know some towns host scarecrow festivals? These events celebrate creativity and community spirit. Here are a few worth checking out: \n\n\nThe UK’s Kettlewell Scarecrow Festival (features hundreds of themed scarecrows) \n\n\nThe USA’s Cambria Scarecrow Festival (showcases whimsical designs in California) \n\n\nJapan’s Nagoro Village (filled with life-sized scarecrow “residents”) \n\n\nAttending one could spark new ideas for your own creation. \nEco-Friendly Scarecrow Tips\nWant to make your scarecrow sustainable? Try these eco-conscious ideas: \n\n\nUse recycled clothing instead of buying new. \n\n\nStuff with shredded paper if you don’t have straw. \n\n\nAvoid plastic decorations—opt for natural materials like twigs or flowers. \n\n\nEvery small choice helps the planet. \nShare Your Scarecrow with the World\nOnce your scarecrow is complete\, show it off! Here’s how: \n\n\nPost photos on social media with #BuildAScarecrowDay. \n\n\nEnter local contests if your community hosts any. \n\n\nInvite friends over for a scarecrow-building party. \n\n\nSharing your creation spreads joy and inspires others. \nFinal Thoughts\nNational Build a Scarecrow Day is all about fun\, creativity\, and tradition. Whether you make a classic farmer or a quirky character\, the process is rewarding. Plus\, it’s a great way to connect with nature and loved ones. \nSo\, grab some old clothes and get building! \n“Please note that some of the links in this blog post are affiliate links. This means that if you click on a link and make a purchase\, I may receive a commission. This helps support my blog and allows me to continue creating content for you. Thank you for your support!”  \nAll about July\nJuly Celebrations and Holidays
URL:https://celebratethis.holiday/event/build-a-scarecrow/2028-07-02/
CATEGORIES:Daily,EUE,Fun,National
ATTACH;FMTTYPE=image/jpeg:https://celebratethis.holiday/wp-content/uploads/2025/07/scarecrow-1714851_1280.jpg
END:VEVENT
END:VCALENDAR