BEGIN:VCALENDAR
VERSION:2.0
PRODID:-//Celebrate This! - ECPv6.15.20//NONSGML v1.0//EN
CALSCALE:GREGORIAN
METHOD:PUBLISH
X-WR-CALNAME:Celebrate This!
X-ORIGINAL-URL:https://celebratethis.holiday
X-WR-CALDESC:Events for Celebrate This!
REFRESH-INTERVAL;VALUE=DURATION:PT1H
X-Robots-Tag:noindex
X-PUBLISHED-TTL:PT1H
BEGIN:VTIMEZONE
TZID:America/New_York
BEGIN:DAYLIGHT
TZOFFSETFROM:-0500
TZOFFSETTO:-0400
TZNAME:EDT
DTSTART:20280312T070000
END:DAYLIGHT
BEGIN:STANDARD
TZOFFSETFROM:-0400
TZOFFSETTO:-0500
TZNAME:EST
DTSTART:20281105T060000
END:STANDARD
BEGIN:DAYLIGHT
TZOFFSETFROM:-0500
TZOFFSETTO:-0400
TZNAME:EDT
DTSTART:20290311T070000
END:DAYLIGHT
BEGIN:STANDARD
TZOFFSETFROM:-0400
TZOFFSETTO:-0500
TZNAME:EST
DTSTART:20291104T060000
END:STANDARD
BEGIN:DAYLIGHT
TZOFFSETFROM:-0500
TZOFFSETTO:-0400
TZNAME:EDT
DTSTART:20300310T070000
END:DAYLIGHT
BEGIN:STANDARD
TZOFFSETFROM:-0400
TZOFFSETTO:-0500
TZNAME:EST
DTSTART:20301103T060000
END:STANDARD
END:VTIMEZONE
BEGIN:VEVENT
DTSTART;VALUE=DATE:20291211
DTEND;VALUE=DATE:20291212
DTSTAMP:20260424T163413
CREATED:20241212T093437Z
LAST-MODIFIED:20241213T232319Z
UID:10000035-1891641600-1891727999@celebratethis.holiday
SUMMARY:Gingerbread House Day ~ December 12th
DESCRIPTION: Celebrating Gingerbread House Day: A Sweet Tradition of Creativity and Fun\nDecember 12th marks a delightful and festive occasion: Gingerbread House Day. This whimsical holiday invites people of all ages to embrace the art of gingerbread house construction\, combining culinary creativity\, family bonding\, and the spirit of the holiday season. Whether you’re a seasoned baker or a novice decorator\, building a gingerbread house offers the perfect opportunity to celebrate the warmth and magic of the season. \nThe History of Gingerbread Houses\nThe origins of gingerbread date back centuries\, with early recipes appearing in Europe during the Middle Ages. Ginger\, valued for its medicinal properties and rich flavor\, became a popular spice in festive baked goods. Over time\, gingerbread evolved from simple cookies to elaborate creations\, with Germany emerging as a hub for gingerbread artistry. \nThe tradition of gingerbread houses is believed to have gained popularity in the 19th century\, inspired by the Brothers Grimm fairy tale “Hansel and Gretel”. In the story\, two siblings stumble upon a witch’s house made entirely of sweets\, sparking imaginations and inspiring bakers to replicate the enchanting structure. Today\, gingerbread houses have become a beloved holiday custom\, blending storytelling\, craftsmanship\, and holiday cheer. \n \nWhy Celebrate Gingerbread House Day?\nGingerbread House Day is more than just an excuse to indulge in sugary treats; it’s an opportunity to: \n\nUnleash Creativity: Decorating a Gingerbread House allows you to experiment with colors\, textures\, and designs. From classic candy canes to shimmering gumdrops\, the possibilities are endless.\nStrengthen Bonds: Building gingerbread houses is a perfect group activity. Families\, friends\, and coworkers can come together\, fostering teamwork and shared memories\nEmbraceHoliday Traditions: The act of creating a gingerbread house embodies the joy and warmth of the holiday season\, making it an integral part of festive celebrations.\nPractice Mindfulness: The process of designing and assembling a gingerbread house can be a relaxing and meditative activity\, helping to reduce holiday stress.\n\nHow to Celebrate Gingerbread House Day\nWhether you’re a seasoned pro or tackling your first gingerbread project\, here are some tips and ideas to make the most of Gingerbread House Day: \n1. Gather Your Supplies\nYou’ll need a few key ingredients and tools to get started: \n\nGingerbread Panels: Pre-baked gingerbread sheets or store-bought kits make the process easier\, but adventurous bakers can make their own from scratch.\nRoyal Icing: This edible “glue” holds your house together and serves as a base for decorations.\nCandy Decorations: Think gumdrops\, peppermints\, chocolate buttons\, sprinkles\, and licorice.\nAdditional Tools: Piping bags\, spatulas\, and toothpicks can help with precision.\n\n2. Plan Your Design\nDecide on a theme or style for your gingerbread house. Will it be a traditional cottage with a snowy roof? A whimsical Candyland castle? Or perhaps a modern architectural masterpiece? Sketch your ideas to guide your construction. \n3. Build the Base\nAssemble the walls and roof using royal icing as your adhesive. Allow the structure to dry and set before adding decorations to ensure stability. A sturdy base\, such as a cake board or thick cardboard\, can provide extra support. \n4. Decorate with Flair\nLet your imagination run wild as you embellish your gingerbread house. Use candy canes for columns\, shredded coconut for snow\, and pretzel sticks for fences. Don’t forget to add personal touches like gingerbread figurines or a candy path leading to the front door. \n5. Share Your Creation\nOnce your gingerbread house is complete\, take photos to capture your masterpiece. Share it with friends and family\, or post it on social media using the hashtag #GingerbreadHouseDay. You could even organize a friendly competition to see whose design reigns supreme. \nFun Variations to Try\nIf you’re looking to put a unique spin on your gingerbread house\, consider these creative ideas: \n\nMiniature Villages: Create a collection of small gingerbread houses to form a festive village.\nThemed Designs: Reimagine your gingerbread house as a beach hut\, log cabin\, or even a replica of a famous landmark.\nEdible Gardens: Add trees made from upside-down ice cream cones\, candy flowerbeds\, or marshmallow snowmen.\nNon-Traditional Materials: Experiment with graham crackers\, cookies\, or rice cereal treats as building materials.\n\n \nThe Joy of Making Memories\nOne of the greatest joys of Gingerbread House Day is the memories it creates. For families\, it’s an opportunity to start a holiday tradition that children will cherish for years to come. It’s a chance to bond over laughter\, teamwork\, and a shared love of sweets with friends. For individuals\, it’s a moment of creative expression and personal satisfaction. \nThe process isn’t about perfection—it’s about the joy of building something with your own hands and sharing it with others. A crooked roof or a lopsided wall only adds character and charm to your creation. \nBeyond the Gingerbread House \nGingerbread House Day also highlights the rich culinary and cultural history of gingerbread. From spiced cookies to festive cakes\, gingerbread takes many forms around the world. Exploring these variations can deepen your appreciation for this beloved holiday staple. \nGingerbread Around the World\nAs well as gingerbread houses\, gingerbread takes center stage in many cultural traditions. In Germany\, for example\, lebkuchen is a popular holiday treat\, often shaped into hearts and decorated with icing. In Sweden\, pepparkakor are thin\, crispy ginger cookies enjoyed during festive gatherings. Meanwhile\, in the United Kingdom\, gingerbread is often baked into loaves or shaped into festive figurines. \nThese variations highlight the versatility and global appeal of gingerbread\, showcasing its ability to bring people together through shared culinary experiences. \n\nTips for Hosting a Gingerbread House Party\nWhy not take your Gingerbread House Day celebrations to the next level by hosting a gingerbread house decorating party? Here’s how to make it a memorable event: \n1. Set Up a Decorating Station: Provide pre-assembled gingerbread house kits or graham cracker alternatives\, along with bowls of assorted candies and sprinkles.\n2. Offer Refreshments: Serve hot cocoa\, mulled cider\, or festive punch to keep guests cozy and hydrated.\n3. Play Holiday Music: Create a cheerful ambiance with a playlist of holiday classics.\n4. Organize Contests: Encourage friendly competition with categories like “Most Creative\,” “Best Theme\,” or “Most Delicious-Looking.”\n5. Capture the Moment: Set up a photo booth with props to document the fun and creativity. \nGiving Back Through Gingerbread\nGingerbread House Day also presents an opportunity to give back to the community. Consider donating a portion of your supplies to a local shelter or organizing a charity event where participants decorate gingerbread houses to raise funds for a good cause. The holiday season is a time for generosity and compassion\, and this sweet tradition can help spread joy to those in need. \nGingerbread House Day is a celebration of imagination\, tradition\, and togetherness. Whether you’re crafting an elaborate masterpiece or simply sticking gumdrops on a graham cracker house\, the experience is filled with sweetness and cheer. So\, gather your loved ones\, roll up your sleeves\, and dive into the delightful world of gingerbread houses. After all\, there’s no better way to spread holiday magic than with a sprinkle of sugar\, a dollop of icing\, and a dash of creativity. By embracing this festive tradition\, you’re not only building a house—you’re building memories that will last a lifetime. \nDecember\nDaily Holidays – December\nWeekly Holidays – December\nMonthly Holidays – December
URL:https://celebratethis.holiday/event/gingerbread-house-day-december-12th/2029-12-11/
ATTACH;FMTTYPE=image/jpeg:https://celebratethis.holiday/wp-content/uploads/2024/12/2fxV4Vz9vlspW8bnJCMF-4-yrthe.jpg
END:VEVENT
BEGIN:VEVENT
DTSTART;VALUE=DATE:20291213
DTEND;VALUE=DATE:20291214
DTSTAMP:20260424T163413
CREATED:20241213T061829Z
LAST-MODIFIED:20241213T234115Z
UID:10000041-1891814400-1891900799@celebratethis.holiday
SUMMARY:National Horse Day ~ December 13
DESCRIPTION:Daily Holidays – December\nWeekly Holidays – December\nMonthly Holidays – December \nCelebrating National Horse Day\nNational Horse Day is a special occasion to honor horses and their incredible contributions to our world. This day reminds us of their grace\, strength\, and loyalty every year. Horses have been companions to humans for centuries\, helping in work\, travel\, and even healing. Celebrating this day is a way to recognize their value in our lives. \nThe History of National Horse Day\nThe history of National Horse Day dates back to 2004. Congress designated December 13 as a day to appreciate these animals. Horses have been essential in shaping history and culture. They pulled wagons\, tilled fields\, and carried messages across long distances. Today\, they continue to inspire awe and bring joy to millions of people worldwide. \n \n  \nWhy Horses Are Special\nHorses are intelligent and sensitive animals. They form deep connections with humans. Their ability to understand emotions and respond to them makes them unique. Horses thrive in various environments\, from farms to riding schools. Their adaptability and willingness to work make them indispensable. Many therapy programs now use horses to help people cope with physical and emotional challenges. These programs highlight the healing power of horses and their calming presence. \n \nWays to Celebrate National Horse Day\nThere are many ways to celebrate National Horse Day. You can visit a local stable or horse sanctuary. Spending time with horses helps you understand their needs and personalities. If you’ve never ridden a horse\, this is a perfect opportunity to take a riding lesson. Learning to ride helps you appreciate the bond between horse and rider. Another way to celebrate is by donating to equine charities\, such as The EQUUS Foundation. These organizations work tirelessly to protect and care for horses in need. Your support can provide food\, shelter\, and medical care to these animals. \nSpreading Awareness\nSocial media is a great platform to spread awareness about National Horse Day. Sharing photos\, stories\, or videos of horses can inspire others to join the celebration. Using hashtags like National Horse Day\, (#nationalhorseday) helps connect horse lovers around the world. It’s also a chance to educate people about the importance of horse welfare and conservation. \n \nHorses in Therapy\nHorses have played a crucial role in therapy programs. Equine-assisted therapy has proven to benefit people with autism\, PTSD\, anxiety\, and other conditions. Interacting with horses can boost confidence\, reduce stress\, and improve communication skills. These programs showcase the deep bond between humans and horses. They also emphasize the unique ability of horses to heal and inspire. \nCaring for Horses\nCaring for horses is a big responsibility. They need proper nutrition\, regular exercise\, and routine veterinary care. A balanced diet includes high-quality hay\, grains\, and fresh water. Daily movement keeps them fit and healthy. Regular checkups help prevent illnesses and ensure they live long\, happy lives. National Horse Day is a reminder to prioritize horse care and support efforts to improve their well-being. \n \nHorses in History and Pop Culture\nHorses have captured our imagination in history and pop culture. Seabiscuit\, for example\, was a racehorse that inspired a nation during the Great Depression. Trigger\, the golden palomino\, became famous as Roy Rogers’s companion in movies. Black Beauty\, a beloved literary character\, brought attention to animal welfare issues. These iconic horses demonstrate the lasting impact of their presence in our lives. \n \nFascinating Facts About Horses\nHorses are fascinating creatures with unique characteristics. They have nearly 360-degree vision\, which helps them detect danger. Unlike most animals\, they can sleep standing up or lying down. Their teeth can give clues about their age. The tallest horse in the world\, Big Jake\, stood over 20 hands tall. Horses communicate through body language and sounds. Learning about these traits can deepen your appreciation for them. \nThe Future of Horses\nHorses continue to play vital roles in modern society. Equestrian sports\, from dressage to show jumping\, keep the tradition alive. Horses are also integral to many cultural festivals and ceremonies around the world. Advances in veterinary medicine and care ensure they live healthier lives. National Horse Day inspires us to think about how we can protect and cherish these animals for generations to come. \n \nConclusion\nNational Horse Day is a time to reflect on the incredible bond between humans and horses. These majestic animals have shaped our history and enriched our lives. Whether through work\, companionship\, or therapy\, their contributions are invaluable. Celebrate this day by visiting a stable\, donating to equine charities\, or sharing their stories. Horses deserve recognition for all they have given us. Let’s honor them with gratitude and care. \nDaily Holidays – December\nWeekly Holidays – December\nMonthly Holidays – December \n \n 
URL:https://celebratethis.holiday/event/national-horse-day-december-12/2029-12-13/
CATEGORIES:Animals,Daily,National
ATTACH;FMTTYPE=image/jpeg:https://celebratethis.holiday/wp-content/uploads/2024/12/arab-1367173_640.jpg
END:VEVENT
END:VCALENDAR