BEGIN:VCALENDAR
VERSION:2.0
PRODID:-//Celebrate This! - ECPv6.15.20//NONSGML v1.0//EN
CALSCALE:GREGORIAN
METHOD:PUBLISH
X-ORIGINAL-URL:https://celebratethis.holiday
X-WR-CALDESC:Events for Celebrate This!
REFRESH-INTERVAL;VALUE=DURATION:PT1H
X-Robots-Tag:noindex
X-PUBLISHED-TTL:PT1H
BEGIN:VTIMEZONE
TZID:America/New_York
BEGIN:DAYLIGHT
TZOFFSETFROM:-0500
TZOFFSETTO:-0400
TZNAME:EDT
DTSTART:20290311T070000
END:DAYLIGHT
BEGIN:STANDARD
TZOFFSETFROM:-0400
TZOFFSETTO:-0500
TZNAME:EST
DTSTART:20291104T060000
END:STANDARD
BEGIN:DAYLIGHT
TZOFFSETFROM:-0500
TZOFFSETTO:-0400
TZNAME:EDT
DTSTART:20300310T070000
END:DAYLIGHT
BEGIN:STANDARD
TZOFFSETFROM:-0400
TZOFFSETTO:-0500
TZNAME:EST
DTSTART:20301103T060000
END:STANDARD
BEGIN:DAYLIGHT
TZOFFSETFROM:-0500
TZOFFSETTO:-0400
TZNAME:EDT
DTSTART:20310309T070000
END:DAYLIGHT
BEGIN:STANDARD
TZOFFSETFROM:-0400
TZOFFSETTO:-0500
TZNAME:EST
DTSTART:20311102T060000
END:STANDARD
END:VTIMEZONE
BEGIN:VEVENT
DTSTART;VALUE=DATE:20300325
DTEND;VALUE=DATE:20300326
DTSTAMP:20260425T071138
CREATED:20250325T065833Z
LAST-MODIFIED:20250325T104516Z
UID:10000230-1900627200-1900713599@celebratethis.holiday
SUMMARY:International Waffle Day
DESCRIPTION:All about March\nMarch Celebrations and Holidays \nInternational Waffle Day: A Global Celebration of Crispy Goodness\nFew foods unite people across cultures like waffles. Whether you enjoy them thin and crispy or thick and fluffy\, International Waffle Day is the perfect excuse to indulge. But why does this delicious holiday exist? How do different countries celebrate it? And what are the best ways to join the fun? Let’s explore! \n  \n \nThe Origins of International Waffle Day\nThis tasty holiday began in Sweden as Våffeldagen\, a celebration marking the start of spring. Over time\, it spread worldwide\, becoming a day to honor waffles in all their forms. The date coincides with the Annunciation Feast\, when Swedes traditionally switched from fasting to feasting—with waffles as the star. \nInterestingly\, Belgium and the U.S. have their own waffle days\, but March 25 is the global version. It’s a nod to Sweden’s influence and the universal love of golden\, grid-patterned treats. \n \nWhy Waffles Are Worth Celebrating\nWaffles are more than just breakfast—they’re a cultural phenomenon. Belgians swear by their Liege waffles\, studded with pearl sugar. Americans stack them high with syrup and butter. In Hong Kong\, egg waffles (gai daan jai) are street food staples. \nThey’re also incredibly versatile. Sweet or savory\, simple or gourmet\, waffles adapt to any flavor profile. Plus\, they’re a crowd-pleaser. Few foods bring families and friends together like a waffle feast. \n \nHow to Celebrate International Waffle Day\nReady to join the global waffle party? Here are five delicious ways to celebrate: \n1. Try a New Waffle Recipe\nStep outside your comfort zone! Make Swedish heart-shaped waffles\, Belgian Liege waffles\, or Norwegian krumkake. Experiment with gluten-free or vegan batters for inclusivity. \n2. Go Global with Toppings\nTake inspiration from around the world. Top waffles with lingonberry jam (Sweden)\, Nutella (Italy)\, red bean paste (Japan)\, or fried chicken (U.S.). \n \n3. Host a Waffle Potluck\nInvite friends to bring their favorite waffle creations. Set up a topping bar with fruits\, syrups\, whipped cream\, and savory options like cheese and herbs. \n4. Visit a Waffle Café or Food Truck\nNo time to cook? Support local businesses serving international waffle styles. Many offer specials for the holiday. \n5. Share the Joy Online\nPost your waffle creations with #InternationalWaffleDay. Challenge followers to show their favorite versions! \n \nA Holiday That Brings the World Together\nInternational Waffle Day is more than just an excuse to eat carbs—it’s a celebration of cultural diversity and shared joy. Whether you keep it traditional or get creative\, it’s a chance to connect over a beloved food. \nWhat’s your favorite international waffle style? Have you ever tried a waffle flavor that surprised you? Share your stories below! \n \n“Please note that some of the links in this blog post are affiliate links. This means that if you click on a link and make a purchase\, I may receive a commission. This helps support my blog and allows me to continue creating content for you. Thank you for your support!”  \nAll about March\nMarch Celebrations and Holidays
URL:https://celebratethis.holiday/event/international-waffle-day/2030-03-25/
CATEGORIES:Food and Drink,Fun,International
ATTACH;FMTTYPE=image/jpeg:https://celebratethis.holiday/wp-content/uploads/2025/03/zVv0XL2ufPsIZq0xRqjE-4-933vw.jpg
END:VEVENT
BEGIN:VEVENT
DTSTART;VALUE=DATE:20300329
DTEND;VALUE=DATE:20300330
DTSTAMP:20260425T071138
CREATED:20250329T130237Z
LAST-MODIFIED:20250329T140015Z
UID:10000261-1900972800-1901059199@celebratethis.holiday
SUMMARY:World Piano Day
DESCRIPTION:All about March\nMarch Celebrations and Holidays \nWorld Piano Day: History\, Meaning\, and Ways to Celebrate\nEvery year\, music lovers around the globe celebrate World Piano Day\, a tribute to one of the most beloved instruments in history. Whether you’re a pianist\, a casual listener\, or simply appreciate beautiful melodies\, this day invites everyone to enjoy the magic of the piano. Let’s explore its origins\, significance\, and fun ways to join the celebration. \nThe History of World Piano Day\nWorld Piano Day falls on March 29\, the 88th day of the year—a clever nod to the 88 keys on a standard piano. German musician\, Nils Frahm\, founded the event in 2015 to honor the instrument’s cultural impact. Since then\, pianists\, composers\, and music enthusiasts worldwide have embraced the occasion. \nThe piano itself has a rich history. Invented in 1700 by Bartolomeo Cristofori\, it revolutionized music by allowing dynamic volume control. Before then\, keyboards like the harpsichord couldn’t play soft or loud notes. Today\, the piano remains essential in classical\, jazz\, pop\, and even electronic music. \nAntique Harpsichord\nWhy the Piano Matters\nFew instruments match the piano’s versatility. It can convey deep emotion\, tell stories\, and bring people together. Unlike many instruments\, it works beautifully both as a solo act and an accompaniment. From Beethoven’s sonatas to modern film scores\, its influence is everywhere. \nAdditionally\, learning piano boosts creativity and brain function. Studies show it improves memory\, coordination\, and even math skills. Whether you’re a beginner or a seasoned player\, the piano offers endless opportunities for growth. \n \nHow to Celebrate World Piano Day\nYou don’t need to be a virtuoso to enjoy this day. Here are some inclusive and engaging ways to participate: \n1. Play or Listen to Piano Music\nIf you own a piano\, take time to play your favorite piece. Not a pianist? No problem! Stream performances by legends like Ludovico Einaudi\, Yiruma\, or Lang Lang. Many artists release special World Piano Day content—keep an ear out. \n2. Attend a Live Concert or Virtual Event\nCities worldwide host piano recitals\, masterclasses\, and flash mobs. Can’t find a local event? Tune into YouTube or Facebook livestreams featuring global artists. Some venues even offer free entry for the occasion. \n \n3. Learn a Fun Fact or Share One\nDid you know the world’s largest piano weighs 1.4 tons? Or that the most expensive piano sold for $3.22 million? Share quirky facts on social media using #WorldPianoDay to spark conversations. \n4. Try a Mini Piano Lesson\nAlways wanted to play? Apps like Simply Piano or Flowkey offer free trials. Even learning a simple melody like “Twinkle Twinkle Little Star” can be rewarding. \n5. Support Piano Education\nMany schools lack funding for music programs. Consider donating to organizations like Pianos for People or volunteering at local music workshops. \n \n6. Get Creative with Piano-Inspired Art\nPaint\, draw\, or write poetry inspired by piano music. Film yourself reacting to a powerful performance\, or compose a short digital track using piano samples. \n7. Visit a Piano Museum or Exhibit\nCities like Leipzig\, Germany\, and Ashburnham\, Massachusetts\, house fascinating piano museums. Explore the instrument’s evolution through rare and antique models. \n \nFinal Thoughts\nWorld Piano Day is more than just an appreciation of an instrument—it’s a celebration of human creativity. Whether you play\, listen\, or simply admire from afar\, take a moment to enjoy the piano’s timeless beauty. \nWhat’s your favorite piano piece or memory? Share below—we’d love to hear your stories! \n“Please note that some of the links in this blog post are affiliate links. This means that if you click on a link and make a purchase\, I may receive a commission. This helps support my blog and allows me to continue creating content for you. Thank you for your support!”  \nAll about March\nMarch Celebrations and Holidays
URL:https://celebratethis.holiday/event/world-piano-day/2030-03-29/
CATEGORIES:Arts and Music,Daily,EUE,International
ATTACH;FMTTYPE=image/jpeg:https://celebratethis.holiday/wp-content/uploads/2025/03/piano-5947813_1280.jpg
END:VEVENT
BEGIN:VEVENT
DTSTART;VALUE=DATE:20300330
DTEND;VALUE=DATE:20300331
DTSTAMP:20260425T071138
CREATED:20250330T060232Z
LAST-MODIFIED:20250331T003020Z
UID:10000268-1901059200-1901145599@celebratethis.holiday
SUMMARY:The Grass Is Always Browner on the Other Side of the Fence Day
DESCRIPTION:All about April\nApril Celebrations and Holidays \nWhat Is “The Grass Is Always Browner on the Other Side of the Fence Day”?\nThis quirky holiday flips the well-known saying\, “The grass is always greener on the other side of the fence.” Instead\, it humorously reminds us that sometimes\, the other side isn’t better—it’s just different (and maybe even worse!). Celebrated on March 30th\, this day encourages people to appreciate what they have rather than longing for what others possess. \n \nThe Origins of the Holiday\nThe exact origin of this day is unclear\, but it likely started as a playful twist on the old proverb. The original phrase dates back to the 1800s and warns against envy. Over time\, creative minds turned it into a lighthearted observance. Now\, it serves as a fun yet meaningful reminder to focus on gratitude. \nWhy This Day Matters\nIn today’s world\, comparison runs rampant. Social media often makes others’ lives seem perfect\, leading to feelings of inadequacy. This day challenges that mindset. It reminds us that everyone faces struggles—even if they aren’t visible. By embracing the idea that “the grass is browner\,” we shift our perspective toward contentment. \n \nWays to Celebrate\n1. Practice Gratitude\nStart a gratitude journal. Write down three things you love about your life. Recognizing your blessings helps combat envy. \n2. Limit Social Media Comparisons\nTake a break from scrolling. Remember\, people usually post highlights\, not struggles. \n3. Share the Humor\nPost a funny meme or story about a time when the “other side” wasn’t so great. Laughter helps keep things in perspective. \n4. Help Others See Their Own Strengths\nCompliment a friend or coworker on something they do well. Kindness fosters positivity. \n5. Reflect on Your Achievements\nMake a list of your recent wins—big or small. Celebrating your progress builds confidence. \n \nFinal Thoughts\nLife isn’t about having the greenest grass. It’s about nurturing your own patch. This March 30\, take a moment to appreciate what makes your life uniquely yours. \nWhat’s one thing in your life that you’re grateful for today? Share below! 🌱 \n“Please note that some of the links in this blog post are affiliate links. This means that if you click on a link and make a purchase\, I may receive a commission. This helps support my blog and allows me to continue creating content for you. Thank you for your support!”  \nAll about April\nApril Celebrations and Holidays
URL:https://celebratethis.holiday/event/the-grass-is-always-browner-on-the-other-side-of-the-fence-day/2030-03-30/
ATTACH;FMTTYPE=image/jpeg:https://celebratethis.holiday/wp-content/uploads/2025/03/elNOzLtiurkZoqbcOL9X-4-osro3.jpg
END:VEVENT
END:VCALENDAR