BEGIN:VCALENDAR
VERSION:2.0
PRODID:-//Celebrate This! - ECPv6.15.20//NONSGML v1.0//EN
CALSCALE:GREGORIAN
METHOD:PUBLISH
X-ORIGINAL-URL:https://celebratethis.holiday
X-WR-CALDESC:Events for Celebrate This!
REFRESH-INTERVAL;VALUE=DURATION:PT1H
X-Robots-Tag:noindex
X-PUBLISHED-TTL:PT1H
BEGIN:VTIMEZONE
TZID:America/New_York
BEGIN:DAYLIGHT
TZOFFSETFROM:-0500
TZOFFSETTO:-0400
TZNAME:EDT
DTSTART:20290311T070000
END:DAYLIGHT
BEGIN:STANDARD
TZOFFSETFROM:-0400
TZOFFSETTO:-0500
TZNAME:EST
DTSTART:20291104T060000
END:STANDARD
BEGIN:DAYLIGHT
TZOFFSETFROM:-0500
TZOFFSETTO:-0400
TZNAME:EDT
DTSTART:20300310T070000
END:DAYLIGHT
BEGIN:STANDARD
TZOFFSETFROM:-0400
TZOFFSETTO:-0500
TZNAME:EST
DTSTART:20301103T060000
END:STANDARD
BEGIN:DAYLIGHT
TZOFFSETFROM:-0500
TZOFFSETTO:-0400
TZNAME:EDT
DTSTART:20310309T070000
END:DAYLIGHT
BEGIN:STANDARD
TZOFFSETFROM:-0400
TZOFFSETTO:-0500
TZNAME:EST
DTSTART:20311102T060000
END:STANDARD
END:VTIMEZONE
BEGIN:VEVENT
DTSTART;VALUE=DATE:20300704
DTEND;VALUE=DATE:20300705
DTSTAMP:20260425T123951
CREATED:20250710T170843Z
LAST-MODIFIED:20250710T172139Z
UID:10000394-1909353600-1909439999@celebratethis.holiday
SUMMARY:Sidewalk Egg Frying Day: A Sizzling Celebration of Summer Heat
DESCRIPTION:All about July\nJuly Celebrations and Holidays\nEvery year on July 4th\, people celebrate Sidewalk Egg Frying Day—a quirky holiday dedicated to testing just how hot summer sidewalks can get. The challenge? Fry an egg on the pavement! \nThis fun\, science-meets-cooking experiment highlights extreme temperatures in a playful way. Whether you succeed or just end up with a gooey mess\, it’s a great excuse to enjoy the outdoors. \nReady to crack into the fun? Let’s explore the origins\, science\, and best ways to celebrate this sizzling holiday! \nWhat Is Sidewalk Egg Frying Day?\nSidewalk Egg Frying Day is all about embracing summer’s sweltering heat. The unofficial holiday encourages people to test if sidewalks get hot enough to cook an egg. Spoiler: In some places\, they do! \nThis tradition likely started in the Southwestern U.S.\, where summer temperatures often soar above 100°F (38°C). Over time\, it became a fun\, family-friendly activity that mixes science\, humor\, and a little bit of mess. \nThe Science Behind Frying Eggs on Sidewalks\nCan you really fry an egg on a sidewalk? The answer depends on a few key factors: \n1. Temperature Matters\nEggs need at least 158°F (70°C) to cook fully. Pavement can reach 140–160°F (60–71°C) on extremely hot days. However\, most sidewalks don’t stay hot enough long enough for a perfect sunny-side-up egg. \n2. Surface Type Plays a Role\n\n\nDark asphalt absorbs more heat than light concrete. \n\n\nMetal surfaces (like car hoods) get hotter faster. \n\n\nThin pans or foil can help conduct heat better. \n\n\n3. Humidity and Sun Exposure\nDry\, cloudless days work best. Humidity cools surfaces\, while direct sunlight maximizes heat absorption. \nHow to Celebrate Sidewalk Egg Frying Day\nWant to try this experiment yourself? Follow these steps for the best (and safest) results: \nWhat You’ll Need\n\n\nFresh eggs (older eggs spread too much) \n\n\nA hot\, sunny day (aim for 90°F+/32°C+) \n\n\nA dark pavement surface (asphalt works best) \n\n\nButter\, oil\, or cooking spray (helps prevent sticking) \n\n\nA spatula (for checking doneness) \n\n\nOptional: Aluminum foil or a small pan (traps heat better) \n\n\nStep-by-Step Instructions\n\n\nCheck the weather—pick the hottest part of the day (usually noon–3 PM). \n\n\nFind a dark\, flat sidewalk spot free from foot traffic. \n\n\nPrep the surface—lightly grease it to avoid a sticky mess. \n\n\nCrack the egg directly onto the pavement or foil. \n\n\nWait and watch—it may take 20+ minutes to see changes. \n\n\nTest for doneness—if the edges turn white\, it’s working! \n\n\nPro Tip: If your egg isn’t cooking\, try a car hood or blacktop for extra heat. \nFun Variations to Try\nNot all eggs have to hit the sidewalk! Mix it up with these creative twists: \n\n\nSolar Cooker Eggs – Use a reflective pan to speed up cooking. \n\n\nHot Car Challenge – Fry an egg on your car’s dashboard. \n\n\nEgg Art – Let kids “paint” with raw eggs on hot pavement. \n\n\nCompetitive Frying – Race friends to see whose egg cooks fastest. \n\n\nSafety Tips for Sidewalk Cooking\nWhile this experiment is fun\, stay safe with these precautions: \n\n\nAvoid burns – Pavement gets extremely hot. Wear shoes! \n\n\nWatch for bacteria – Don’t eat sidewalk-cooked eggs. \n\n\nStay hydrated – Heat exhaustion is real. Drink water! \n\n\nClean up afterward – Raw eggs can attract pests. \n\n\nThe Cultural Impact of Sidewalk Egg Frying Day\nThis holiday isn’t just about eggs—it’s a playful way to discuss climate change and extreme heat. Cities like Phoenix\, Arizona\, and Las Vegas\, Nevada\, often use it to highlight record-breaking temperatures. \nSome communities even turn it into a festival\, with egg-frying contests and STEM activities for kids. \nFinal Thoughts: Crack Into the Fun!\nSidewalk Egg Frying Day is a lighthearted way to celebrate (or complain about) summer heat. Whether you succeed or just make a sunny-day mess\, it’s a great excuse to get outside and experiment. \nSo grab some eggs\, pick a scorching spot\, and see if your sidewalk is hot enough to cook breakfast! \n“Please note that some of the links in this blog post are affiliate links. This means that if you click on a link and make a purchase\, I may receive a commission. This helps support my blog and allows me to continue creating content for you. Thank you for your support!”  \nAll about July\nJuly Celebrations and Holidays
URL:https://celebratethis.holiday/event/sidewalk-egg-frying-day-a-sizzling-celebration-of-summer-heat/2030-07-04/
CATEGORIES:Daily,EUE,Food and Drink,Fun
ATTACH;FMTTYPE=image/jpeg:https://celebratethis.holiday/wp-content/uploads/2025/07/EV85jFGUkCIZIWSKzxjm-3-pwjpg.jpg
END:VEVENT
BEGIN:VEVENT
DTSTART;VALUE=DATE:20300705
DTEND;VALUE=DATE:20300706
DTSTAMP:20260425T123951
CREATED:20250710T172942Z
LAST-MODIFIED:20250710T174944Z
UID:10000401-1909440000-1909526399@celebratethis.holiday
SUMMARY:National Bikini Day: A Tribute to Confidence\, History\, and Summer Fun
DESCRIPTION:All about July\nJuly Celebrations and Holidays\nEvery year on July 5th\, beach lovers and fashion enthusiasts celebrate National Bikini Day—a holiday dedicated to the iconic two-piece swimsuit. More than just a fashion statement\, this day honors body positivity\, summer vibes\, and the bold history behind the bikini. \nWhether you’re lounging by the pool\, hitting the beach\, or simply embracing self-love\, National Bikini Day is for everyone. Ready to dive into the story behind this stylish holiday? Let’s explore its origins\, cultural impact\, and fun ways to celebrate! \nThe Birth of the Bikini: A Fashion Revolution\nThe bikini made its explosive debut in 1946\, designed by French engineer Louis Réard. Named after Bikini Atoll (where atomic tests occurred)\, the daring swimwear symbolized a bombshell moment in fashion. \nBefore the bikini\, women wore modest one-pieces or high-waisted two-pieces. Réard’s scandalously small design was so controversial that he struggled to find a model willing to wear it. Eventually\, Micheline Bernardini\, a Parisian showgirl\, took the plunge—and history was made! \nWhy We Celebrate National Bikini Day\nThis holiday isn’t just about swimwear—it’s a celebration of confidence\, freedom\, and body positivity. Here’s why the bikini deserves its own day: \n\n\nA Symbol of Liberation: The bikini broke societal norms\, empowering women to embrace their bodies. \n\n\nSummer’s Ultimate Staple: It’s synonymous with beach trips\, pool parties\, and sunny adventures. \n\n\nInclusivity Matters: Modern bikinis come in all sizes\, styles\, and designs for every body type. \n\n\nFashion Evolution: From retro high-waists to sporty cuts\, bikinis reflect changing trends. \n\n\nHow to Celebrate National Bikini Day\nWhether you’re a bikini enthusiast or prefer a one-piece\, there are endless ways to enjoy this holiday: \n1. Rock Your Favorite Bikini\nWear it to the beach\, pool\, or even in your backyard. Confidence is key! \n2. Try a New Style\nExplore trends like: \n\n\nHigh-waisted bottoms (vintage vibes) \n\n\nSporty bikinis (great for swimming) \n\n\nCrochet or tie-dye designs (boho chic) \n\n\nSustainable options (eco-friendly fabrics) \n\n\n3. Host a Bikini Fashion Show\nGather friends for a fun\, body-positive photoshoot. \n4. Learn Bikini History\nWatch documentaries or read about its cultural impact. \n5. Support Body-Positive Brands\nShop from inclusive swimwear companies that celebrate all shapes. \nThe Bikini’s Cultural Impact\nFrom Bond girls to sports icons\, bikinis have shaped pop culture: \n\n\nMovie Moments: Ursula Andress in Dr. No (1962) made the white bikini legendary. \n\n\nMusic Videos: From Beyoncé to Madonna\, bikinis star in iconic visuals. \n\n\nSports Arena: Beach volleyball popularized athletic bikini designs. \n\n\nFashion Runways: Designers constantly reinvent bikini styles. \n\n\nDespite early backlash\, the bikini became a global phenomenon—symbolizing freedom and fun. \nBody Positivity & Modern Bikini Culture\nToday\, the bikini represents self-love and inclusivity. Movements like #LoveYourBody encourage people to wear what makes them happy—no matter their size. \nBrands now offer: \n\n\nExtended sizing (from XXS to 6XL) \n\n\nMastectomy-friendly designs \n\n\nGender-neutral swimwear \n\n\nAdaptive styles for disabilities \n\n\nThe message is clear: All bodies are bikini bodies. \nFun Bikini Facts You Didn’t Know\n\n\nThe first bikini was advertised as “smaller than the world’s smallest swimsuit.” \n\n\nSpain and Italy initially banned bikinis in public. \n\n\nThe Miss America pageant prohibited bikinis until 1997. \n\n\nRihanna’s Savage X Fenty shows revolutionized inclusive bikini fashion. \n\n\nEco-Friendly Bikini Options\nLove the ocean? Consider sustainable swimwear: \n\n\nRecycled nylon (made from fishing nets) \n\n\nOrganic cotton (chemical-free) \n\n\nPlant-based fabrics (like bamboo) \n\n\nVegan dyes (eco-conscious colors) \n\n\nProtecting the planet never looked so stylish! \nFinal Thoughts: Wear What Makes You Shine\nNational Bikini Day is about confidence\, history\, and summer joy. Whether you prefer a cheeky cut\, full coverage\, or a one-piece\, the best bikini is the one that makes you feel unstoppable. \nSo grab your favorite swimsuit\, slather on sunscreen\, and celebrate your way! \nWhat’s your all-time favorite bikini style? Share your go-to look in the comments! \n“Please note that some of the links in this blog post are affiliate links. This means that if you click on a link and make a purchase\, I may receive a commission. This helps support my blog and allows me to continue creating content for you. Thank you for your support!”  \nAll about July\nJuly Celebrations and Holidays
URL:https://celebratethis.holiday/event/bikini-day/2030-07-05/
CATEGORIES:Daily,EUE,Fun,National
ATTACH;FMTTYPE=image/jpeg:https://celebratethis.holiday/wp-content/uploads/2025/07/woman-4874687_1280.jpg
END:VEVENT
BEGIN:VEVENT
DTSTART;VALUE=DATE:20300706
DTEND;VALUE=DATE:20300707
DTSTAMP:20260425T123951
CREATED:20250710T175707Z
LAST-MODIFIED:20250710T181106Z
UID:10000408-1909526400-1909612799@celebratethis.holiday
SUMMARY:Celebrate National Fried Chicken Day: A Crispy\, Juicy Tradition
DESCRIPTION:All about July\nJuly Celebrations and Holidays\nEvery year on July 6th\, food lovers across the U.S. celebrate National Fried Chicken Day—a delicious tribute to one of America’s most beloved comfort foods. Golden\, crispy\, and irresistibly flavorful\, fried chicken holds a special place in culinary history. \nWhether you prefer it spicy\, buttermilk-soaked\, or extra crunchy\, this holiday is the perfect excuse to indulge. From its Southern roots to global fame\, fried chicken has a rich story to tell. \nReady to dig in? Let’s explore the origins\, best ways to celebrate\, and mouthwatering variations of this iconic dish! \n\nThe History of Fried Chicken: A Global Comfort Food\nFried chicken didn’t start in the U.S.—it has ancient roots. Scottish immigrants brought their tradition of pan-frying chicken in fat to the American South. Enslaved African cooks\, however\, perfected the method by seasoning it and deep-frying it to crispy perfection. \nBy the 19th century\, fried chicken became a Southern staple. Later\, restaurants like Kentucky Fried Chicken (KFC) turned it into a worldwide phenomenon. Today\, it’s a universal comfort food with countless regional twists. \n\nWhy We Love National Fried Chicken Day\nThis holiday isn’t just about eating—it’s about tradition\, creativity\, and community. Here’s why fried chicken deserves its own day: \n\n\nComfort Food at Its Best: Crispy skin and juicy meat make it irresistible. \n\n\nVersatile Flavors: From Nashville hot to Korean glazed\, there’s a style for everyone. \n\n\nCultural Icon: It’s a symbol of Southern hospitality and global fusion cuisine. \n\n\nShareable Joy: Fried chicken brings people together at picnics\, parties\, and family dinners. \n\n\n\nHow to Celebrate National Fried Chicken Day\nWhether you’re dining out or cooking at home\, here are delicious ways to enjoy the day: \n1. Visit a Legendary Fried Chicken Spot\nTry iconic restaurants like: \n\n\nGus’s World Famous Fried Chicken (Memphis-style spicy) \n\n\nWillie Mae’s Scotch House (New Orleans’ gold standard) \n\n\nHowlin’ Ray’s (Nashville hot chicken) \n\n\nJollibee (Filipino crispy joy) \n\n\n2. Host a Fried Chicken Feast\nPair it with classic sides like: \n\n\nFluffy buttermilk biscuits \n\n\nCreamy mac and cheese \n\n\nTangy coleslaw \n\n\nSweet honey butter \n\n\n3. Try a New Recipe\nExperiment with styles like: \n\n\nKorean fried chicken (double-fried with sticky glaze) \n\n\nJapanese karaage (marinated in soy and ginger) \n\n\nNashville hot (fiery cayenne coating) \n\n\nVegan “fried chicken” (made with mushrooms or tofu) \n\n\n4. Support Local Businesses\nOrder from a neighborhood joint or food truck. \n5. Share the Love\nPost your best #NationalFriedChickenDay pics—or deliver a bucket to a friend! \n\nGlobal Fried Chicken Variations\nFried chicken isn’t just Southern—it’s a world traveler. Try these international twists: \n\n\nKorean Yangnyeom Chicken: Crispy with sweet-spicy gochujang sauce. \n\n\nJapanese Karaage: Light\, juicy\, and soy-marinated. \n\n\nJamaican Jerk Fried Chicken: Spiced with Scotch bonnet peppers. \n\n\nSouth African Peri-Peri Chicken: Zesty with African bird’s eye chili. \n\n\nEach culture adds its own flair\, proving fried chicken is a universal language. \n\nFun Fried Chicken Facts\n\n\nThe biggest fried chicken dish weighed 6\,900 lbs (Guinness World Record). \n\n\nKFC sells over 2 billion pieces annually in 150+ countries. \n\n\nNational Fried Chicken Day was likely started by a food PR team—but we’re not complaining! \n\n\nThomas Jefferson helped popularize fried chicken in early America. \n\n\n\nDIY Fried Chicken Tips\nWant to make it at home? Follow these pro tips: \n\n\nBrining is key: Soak chicken in buttermilk or pickle juice overnight. \n\n\nDouble-dip: Flour\, egg wash\, then flour again for extra crunch. \n\n\nFry at 350°F: Too hot = burnt; too cool = greasy. \n\n\nDrain on a rack: Keeps it crispy (not soggy). \n\n\n\nFinal Thoughts: Pass the Chicken!\nNational Fried Chicken Day celebrates a dish that’s simple\, satisfying\, and deeply cultural. Whether you like it classic or adventurous\, today’s the day to savor every bite. \nSo grab a drumstick\, try a new recipe\, or share a bucket with friends. After all\, fried chicken tastes better together! \nWhat’s your all-time favorite fried chicken style? Share your top pick in the comments! \n“Please note that some of the links in this blog post are affiliate links. This means that if you click on a link and make a purchase\, I may receive a commission. This helps support my blog and allows me to continue creating content for you. Thank you for your support!”  \nAll about July\nJuly Celebrations and Holidays\n 
URL:https://celebratethis.holiday/event/national-fired-chicken-day/2030-07-06/
CATEGORIES:Daily,EUE,Food and Drink,Fun,National
ATTACH;FMTTYPE=image/jpeg:https://celebratethis.holiday/wp-content/uploads/2025/07/Fried-chicken.jpg
END:VEVENT
BEGIN:VEVENT
DTSTART;VALUE=DATE:20300707
DTEND;VALUE=DATE:20300708
DTSTAMP:20260425T123951
CREATED:20250710T163900Z
LAST-MODIFIED:20250710T165354Z
UID:10000387-1909612800-1909699199@celebratethis.holiday
SUMMARY:National Build a Scarecrow Day
DESCRIPTION:All about July\nJuly Celebrations and Holidays\nNational Build a Scarecrow Day falls on the first Sunday in July every year. This quirky holiday encourages people to embrace their creativity. It’s a chance to craft a unique scarecrow. Whether you’re a gardening enthusiast or just love DIY projects\, this day is for you. \nScarecrows have been around for centuries. They protect crops from birds and pests. But they’re also symbols of harvest and rural life. Today\, they’re more than just farm tools—they’re works of art. \nReady to join the fun? Let’s explore how to celebrate this delightful day! \nWhy Build a Scarecrow?\nScarecrows serve many purposes. They’re practical\, artistic\, and nostalgic. Here’s why you should try making one: \n\n\nGarden Protection: A well-placed scarecrow keeps birds away from fruits and veggies. \n\n\nCreative Outlet: Designing a scarecrow lets you express your personality. \n\n\nFamily Bonding: It’s a fantastic activity for kids and adults alike. \n\n\nSeasonal Decor: A handmade scarecrow adds charm to your yard in summer and fall. \n\n\nPlus\, it’s a great excuse to spend time outdoors. \nHow to Build Your Own Scarecrow\nBuilding a scarecrow is easier than you think. You don’t need fancy materials. Most supplies can be found at home. Follow these simple steps to create your own: \n1. Gather Your Materials\nYou’ll need: \n\n\nA wooden pole or stake (for the body frame) \n\n\nOld clothes (flannel shirts and jeans work well) \n\n\nStraw\, hay\, or stuffing (for filling) \n\n\nString or rope (to tie everything together) \n\n\nA burlap sack or pillowcase (for the head) \n\n\nMarkers\, paint\, or buttons (for facial features) \n\n\nA hat and accessories (for extra personality) \n\n\n2. Assemble the Frame\nStart by forming a cross with two wooden poles. Secure them tightly with rope. This will be the skeleton of your scarecrow. \n3. Stuff and Dress Your Scarecrow\nSlide the shirt and pants onto the frame. Fill them with straw or old fabric. Tie the ends of the sleeves and pant legs to keep stuffing in place. \n4. Create the Head\nFill a burlap sack with straw. Shape it into a head and attach it to the frame. Draw or sew on a face. Get creative—add glasses\, a mustache\, or even wild yarn hair! \n5. Add Finishing Touches\nTop your scarecrow with a hat. Tie on gloves for hands. Prop it up in your garden or yard. For extra flair\, give it a fun name! \nFun Scarecrow Ideas to Try\nNot all scarecrows have to look traditional. Here are some unique twists to inspire you: \n\n\nSuperhero Scarecrow: Dress it in a cape and mask. \n\n\nCelebrity Lookalike: Make a scarecrow version of your favorite star. \n\n\nAnimal-Themed: Craft an owl or fox-shaped scarecrow. \n\n\nSeasonal Designs: Switch outfits for holidays like Halloween or Christmas. \n\n\nThe possibilities are endless. Let your imagination run wild! \nScarecrow Festivals Around the World\nDid you know some towns host scarecrow festivals? These events celebrate creativity and community spirit. Here are a few worth checking out: \n\n\nThe UK’s Kettlewell Scarecrow Festival (features hundreds of themed scarecrows) \n\n\nThe USA’s Cambria Scarecrow Festival (showcases whimsical designs in California) \n\n\nJapan’s Nagoro Village (filled with life-sized scarecrow “residents”) \n\n\nAttending one could spark new ideas for your own creation. \nEco-Friendly Scarecrow Tips\nWant to make your scarecrow sustainable? Try these eco-conscious ideas: \n\n\nUse recycled clothing instead of buying new. \n\n\nStuff with shredded paper if you don’t have straw. \n\n\nAvoid plastic decorations—opt for natural materials like twigs or flowers. \n\n\nEvery small choice helps the planet. \nShare Your Scarecrow with the World\nOnce your scarecrow is complete\, show it off! Here’s how: \n\n\nPost photos on social media with #BuildAScarecrowDay. \n\n\nEnter local contests if your community hosts any. \n\n\nInvite friends over for a scarecrow-building party. \n\n\nSharing your creation spreads joy and inspires others. \nFinal Thoughts\nNational Build a Scarecrow Day is all about fun\, creativity\, and tradition. Whether you make a classic farmer or a quirky character\, the process is rewarding. Plus\, it’s a great way to connect with nature and loved ones. \nSo\, grab some old clothes and get building! \n“Please note that some of the links in this blog post are affiliate links. This means that if you click on a link and make a purchase\, I may receive a commission. This helps support my blog and allows me to continue creating content for you. Thank you for your support!”  \nAll about July\nJuly Celebrations and Holidays
URL:https://celebratethis.holiday/event/build-a-scarecrow/2030-07-07/
CATEGORIES:Daily,EUE,Fun,National
ATTACH;FMTTYPE=image/jpeg:https://celebratethis.holiday/wp-content/uploads/2025/07/scarecrow-1714851_1280.jpg
END:VEVENT
BEGIN:VEVENT
DTSTART;VALUE=DATE:20300707
DTEND;VALUE=DATE:20300708
DTSTAMP:20260425T123951
CREATED:20250710T183709Z
LAST-MODIFIED:20250711T115432Z
UID:10000415-1909612800-1909699199@celebratethis.holiday
SUMMARY:Global Forgiveness Day: Unlocking the Power of Second Chances
DESCRIPTION:All about July\nJuly Celebrations and Holidays\nEvery year on July 7th\, people worldwide observe Global Forgiveness Day—a day dedicated to healing wounds\, repairing relationships\, and fostering peace. This powerful occasion reminds us that forgiveness is not just a personal act but a global necessity. \nHolding onto resentment hurts us more than anyone else. Forgiveness\, however\, sets us free. It mends broken bonds\, reduces stress\, and creates space for new beginnings. \nWant to understand why this day matters? Let’s explore its history\, benefits\, and meaningful ways to participate. \nThe Origins of Global Forgiveness Day\nGlobal Forgiveness Day was established in 1994 by the Christian Embassy of Christ’s Ambassadors (CECA). Their goal was simple: promote reconciliation and unity worldwide. Over time\, the day grew beyond religious boundaries\, becoming a universal call for compassion. \nToday\, psychologists\, peace activists\, and everyday people embrace this day. From personal conflicts to international disputes\, forgiveness offers a path forward. \nWhy Forgiveness Is a Superpower\nForgiveness isn’t about forgetting or excusing harm. It’s about freeing yourself from the weight of anger. Here’s why it’s transformative: \n\nBoosts Mental Health: Letting go of grudges reduces anxiety and depression.\nStrengthens Relationships: It rebuilds trust and deepens connections.\nImproves Physical Health: Lower stress means better heart health and immunity.\nCreates Peace: Forgiveness can heal communities torn by conflict.\n\nWhen we forgive\, we choose growth over grievance. \nHow to Celebrate Global Forgiveness Day\nReady to participate? Here are meaningful ways to honor this day: \n1. Reflect on Your Grudges\nAsk yourself: \n\nWho am I still angry with?\nHow is this resentment affecting me?\n\n2. Write a Release Letter\nPour out your feelings on paper—then tear it up or burn it as a symbolic release. \n3. Forgive Yourself\nWe all make mistakes. Show yourself the same kindness you’d offer others. \n4. Reach Out to Someone\nIf safe and appropriate\, mend a broken relationship with an honest conversation. \n5. Practice Compassion Meditation\nTry loving-kindness meditation to cultivate forgiveness toward yourself and others. \n6. Teach Kids About Forgiveness\nUse stories or role-playing to help children understand conflict resolution. \nThe Science Behind Forgiveness\nResearch proves forgiveness has real health benefits: \n\nLowers Blood Pressure: Releasing anger reduces cardiovascular strain.\nReduces Chronic Pain: Emotional relief can ease physical tension.\nStrengthens Immunity: Less stress means a healthier immune system.\nExtends Lifespan: Studies link forgiveness to increased longevity.\n\nOur bodies thrive when we let go of bitterness. \nForgiveness Across Cultures\nDifferent cultures embrace forgiveness in unique ways: \n\nSouth Africa’s Truth & Reconciliation Commission: Used forgiveness to heal post-apartheid wounds.\nJapan’s “Mushin” Philosophy: Encourages letting go of attachments to anger.\nNative American Peacemaking Circles: Bring communities together to resolve conflicts.\nIslamic Teachings on “Afw”: Emphasizes pardoning others as a virtue.\n\nThese traditions show that forgiveness is a universal language of healing. \nInspiring Stories of Forgiveness\n\nImmaculée Ilibagiza: A Rwandan genocide survivor who forgave her family’s killers.\nThe Parents of Charleston Church Shooting Victims: Offered forgiveness to the shooter in court.\nMalala Yousafzai: Forgave the Taliban after they shot her for advocating girls’ education.\n\nThese stories prove that forgiveness can defy hatred and inspire hope. \nWhen Forgiveness Feels Impossible\nSome wounds cut deep. If you’re struggling: \n\nStart Small: Forgive minor hurts before tackling big ones.\nSeek Support: Therapists or support groups can guide you.\nSet Boundaries: Forgiveness doesn’t mean tolerating ongoing harm.\nBe Patient: Healing takes time—honor your pace.\n\nQuotes to Spark Forgiveness\n\n“Forgiveness does not change the past\, but it enlarges the future.” —Paul Boese\n“The first to apologize is the bravest. The first to forgive is the strongest.” —Unknown\n“Without forgiveness\, there’s no future.” —Desmond Tutu\n\nFinal Thoughts: Choose Freedom Over Resentment\nGlobal Forgiveness Day invites us to trade anger for peace. Whether forgiving a friend\, a stranger\, or yourself\, each act of grace makes the world softer. \nThis July 7th\, take one step toward release—you deserve the lightness it brings. \nWho has taught you the most about forgiveness? Share your story below! \n“Please note that some of the links in this blog post are affiliate links. This means that if you click on a link and make a purchase\, I may receive a commission. This helps support my blog and allows me to continue creating content for you. Thank you for your support!”  \nAll about July\nJuly Celebrations and Holidays
URL:https://celebratethis.holiday/event/global-forgiveness-day/2030-07-07/
CATEGORIES:Global,International,People,World
ATTACH;FMTTYPE=image/jpeg:https://celebratethis.holiday/wp-content/uploads/2025/07/hug-1315552_12801.jpg
END:VEVENT
END:VCALENDAR