BEGIN:VCALENDAR
VERSION:2.0
PRODID:-//Celebrate This! - ECPv6.15.20//NONSGML v1.0//EN
CALSCALE:GREGORIAN
METHOD:PUBLISH
X-ORIGINAL-URL:https://celebratethis.holiday
X-WR-CALDESC:Events for Celebrate This!
REFRESH-INTERVAL;VALUE=DURATION:PT1H
X-Robots-Tag:noindex
X-PUBLISHED-TTL:PT1H
BEGIN:VTIMEZONE
TZID:America/New_York
BEGIN:DAYLIGHT
TZOFFSETFROM:-0500
TZOFFSETTO:-0400
TZNAME:EDT
DTSTART:20290311T070000
END:DAYLIGHT
BEGIN:STANDARD
TZOFFSETFROM:-0400
TZOFFSETTO:-0500
TZNAME:EST
DTSTART:20291104T060000
END:STANDARD
BEGIN:DAYLIGHT
TZOFFSETFROM:-0500
TZOFFSETTO:-0400
TZNAME:EDT
DTSTART:20300310T070000
END:DAYLIGHT
BEGIN:STANDARD
TZOFFSETFROM:-0400
TZOFFSETTO:-0500
TZNAME:EST
DTSTART:20301103T060000
END:STANDARD
BEGIN:DAYLIGHT
TZOFFSETFROM:-0500
TZOFFSETTO:-0400
TZNAME:EDT
DTSTART:20310309T070000
END:DAYLIGHT
BEGIN:STANDARD
TZOFFSETFROM:-0400
TZOFFSETTO:-0500
TZNAME:EST
DTSTART:20311102T060000
END:STANDARD
END:VTIMEZONE
BEGIN:VEVENT
DTSTART;VALUE=DATE:20300708
DTEND;VALUE=DATE:20300709
DTSTAMP:20260425T124054
CREATED:20250710T194621Z
LAST-MODIFIED:20250711T121916Z
UID:10000422-1909699200-1909785599@celebratethis.holiday
SUMMARY:Celebrate National Video Game Day: A Pixelated Playground for Everyone
DESCRIPTION:All about July\nJuly Celebrations and Holidays\nEvery year on July 8th\, gamers around the world unite for National Video Game Day (one of several days dedicated to video games and gamers)—a celebration of interactive storytelling\, fierce competition\, and digital creativity. Whether you’re a casual mobile gamer or a hardcore console enthusiast\, this day honors the art\, culture\, and joy of gaming. \nVideo games have evolved far beyond simple entertainment. They build communities\, spark careers\, and even change lives. From nostalgic classics to cutting-edge VR\, gaming offers something for everyone. \nReady to power up? Let’s explore the history\, impact\, and best ways to celebrate this high-score-worthy holiday! \nThe Evolution of Video Games: From Pong to PlayStation\nVideo games began humbly. In 1958\, physicist William Higinbotham created Tennis for Two\, a simple oscilloscope game. The industry exploded with Atari’s Pong in 1972\, captivating arcades worldwide. \nThe 1980s brought iconic titles like Super Mario Bros. and The Legend of Zelda. By the 2000s\, online multiplayer games like World of Warcraft connected millions globally. Today\, games span genres—from relaxing sims (Animal Crossing) to cinematic epics (The Last of Us). \nGaming isn’t just for kids\, either. The average gamer is 34 years old\, proving it’s a lifelong passion. \nWhy Video Games Matter\nGaming is more than fun—it’s a cultural force. Here’s why it deserves celebration: \n\nCreativity Unleashed: Games blend art\, music\, and storytelling into immersive worlds.\nSocial Connection: Multiplayer games foster friendships across continents.\nCareer Opportunities: Esports\, streaming\, and game design are booming industries.\nMental Benefits: Puzzle games boost memory\, while RPGs improve problem-solving.\n\nGames also break barriers. Adaptive controllers and inclusive storytelling make gaming accessible to all. \nHow to Celebrate National Video Game Day\nWhether you game daily or haven’t picked up a controller in years\, here’s how to join the fun: \n1. Play Your All-Time Favorite\nRevisit classics like: \n\nTetris (timeless puzzle mastery)\nMinecraft (endless creative freedom)\nStreet Fighter (arcade-era nostalgia)\nZelda (this girl’s all-time favorite series)\n\n2. Try Something New\nExplore genres you’ve never played: \n\nCozy Games (Stardew Valley\, Coffee Talk)\nHorror (Resident Evil\, Phasmophobia)\nIndie Gems (Hades\, Celeste)\n\n3. Host a Gaming Marathon\nInvite friends for: \n\nTournaments (Mario Kart races\, Rocket League showdowns)\nCo-op Adventures (Overcooked chaos\, It Takes Two teamwork)\nRetro Nights (Dust off that N64 or Sega Genesis!)\n\n4. Support Game Developers\nBuy indie games or donate to charities like Games for Change. \n5. Share the Love Online\nPost your favorite gaming moments with #NationalVideoGameDay. \nGaming’s Positive Impact\nBeyond entertainment\, games: \n\nTeach Skills: Kerbal Space Program explains physics; Civilization covers history.\nBoost Mental Health: Games like Journey reduce anxiety.\nDrive Innovation: VR therapy helps PTSD patients; AR games like Pokémon GO encourage exercise.\n\nEven the World Health Organization recognizes gaming’s benefits when balanced responsibly. \nInclusivity in Gaming\nThe industry is evolving to welcome everyone: \n\nRepresentation: More LGBTQ+ and BIPOC protagonists (The Last of Us Part II\, Life is Strange).\nAccessibility: Customizable controls (The Last of Us Part I)\, colorblind modes (Sea of Thieves).\nDiverse Creators: Women and marginalized devs shaping hits (Hollow Knight\, Undertale).\n\nGaming is no longer a “boys’ club”—it’s a global community. \nFun Gaming Facts\n\nThe best-selling game ever isn’t GTA or Minecraft—it’s Tetris (520+ million copies).\nEsports prize pools can exceed $40 million (Dota 2’s The International).\nThe longest gaming marathon lasted 138 hours (Guinness World Record).\n“Speedrunning” turns games into Olympic-style challenges (beating Super Mario 64 in under 7 minutes!).\n\nResponsible Gaming Tips\nLove gaming? Keep it healthy with: \n\nScheduled Breaks: Follow the 20-20-20 rule (every 20 minutes\, look 20 feet away for 20 seconds).\nHydration: Keep water nearby during marathon sessions.\nSocial Balance: Game with friends IRL too!\n\nFinal Thoughts: Press Start to Joy\nNational Video Game Day celebrates a medium that entertains\, connects\, and inspires. Whether you’re battling dragons\, solving puzzles\, or building virtual cities\, gaming unlocks endless possibilities. \nSo grab your controller\, keyboard\, or phone—and play something that makes you smile! \nWhat’s the first video game you ever loved? Share your nostalgic pick in the comments! \n“Please note that some of the links in this blog post are affiliate links. This means that if you click on a link and make a purchase\, I may receive a commission. This helps support my blog and allows me to continue creating content for you. Thank you for your support!”  \nAll about July\nJuly Celebrations and Holidays
URL:https://celebratethis.holiday/event/national-video-game-day/2030-07-08/
CATEGORIES:Daily,EUE,Fun,National,Technology
ATTACH;FMTTYPE=image/jpeg:https://celebratethis.holiday/wp-content/uploads/2025/07/pink-xbox-controller.jpg
END:VEVENT
BEGIN:VEVENT
DTSTART;VALUE=DATE:20300709
DTEND;VALUE=DATE:20300710
DTSTAMP:20260425T124054
CREATED:20250711T142054Z
LAST-MODIFIED:20250711T150050Z
UID:10000434-1909785600-1909871999@celebratethis.holiday
SUMMARY:Call of the Horizon Day: Embrace Adventure and New Beginnings
DESCRIPTION:All about July\nJuly Celebrations and Holidays\nEvery year on July 9\, Call of the Horizon Day inspires people to chase dreams\, explore the unknown\, and embrace fresh possibilities. This unique celebration encourages stepping out of comfort zones and answering the “call” of distant places\, goals\, and experiences. \nWhether you crave travel\, personal growth\, or simply a change of scenery\, this day is your invitation to take that first step. Let’s dive into the meaning of this day\, ways to celebrate\, and how to keep the spirit alive year-round. \nWhat Is Call of the Horizon Day?\nCall of the Horizon Day (celebrated on July 9) symbolizes the magnetic pull of adventure. The “horizon” represents limitless potential—whether it’s a physical journey\, a career leap\, or an emotional breakthrough. \nUnlike traditional holidays\, this day isn’t about gifts or parties. Instead\, it’s a mindset shift. It’s a reminder that life’s greatest rewards often lie just beyond familiarity. \nWhy the Horizon Calls to Us\nHumans are wired for exploration. From ancient seafarers to modern-day nomads\, the urge to discover runs deep. Here’s why the horizon captivates us: \n\nFreedom & Possibility – The horizon symbolizes uncharted territory\, where anything is possible.\nPersonal Growth – Stepping into the unknown builds resilience and creativity.\nConnection to Nature – Vast landscapes remind us of the world’s beauty and our place within it.\n\nPsychologists even link novel experiences to increased happiness and mental clarity. So\, when the horizon calls\, answering it can be life-changing. \nHow to Celebrate Call of the Horizon Day\nYou don’t need a plane ticket or a radical life change to honor this day. Small\, intentional actions count just as much. \n1. Take a Spontaneous Trip\nDrive to a nearby town you’ve never visited. Hike a new trail. Or simply wander without a plan. Let curiosity guide you. \n2. Set a Bold Goal\nIs there a dream you’ve postponed? Today’s the day to outline one actionable step toward it—whether it’s writing a book\, learning a skill\, or starting a business. \n3. Try Something Unfamiliar\nOrder a dish you’ve never tasted. Attend a workshop outside your usual interests. Say “yes” to an unexpected opportunity. \n4. Reflect on Your “Horizons”\nGrab a journal and ask yourself: \n\nWhat excites me but feels out of reach?\nWhere do I see myself in five years?\nWhat’s one fear holding me back?\n\n5. Share the Spirit\nEncourage others to embrace adventure. Post an inspiring quote\, host a vision-board party\, or gift someone a “dream starter” (like a travel journal or class voucher). \nFamous Horizons in History & Culture\nThroughout time\, the horizon has motivated iconic journeys: \n\n\nExplorers – Magellan\, Amelia Earhart\, and Neil Armstrong all chased literal and figurative horizons. \n\n\nArtists – Van Gogh’s starry skies and Jack Kerouac’s On the Road capture the allure of the unknown. \n\n\nEveryday Heroes – Immigrants\, career changers\, and activists also follow their horizons in quieter but equally bold ways. \n\n\nTheir stories prove: the horizon isn’t just a place—it’s a calling. \nOvercoming the Fear of the Unknown\nIt’s normal to hesitate when facing new frontiers. Here’s how to push through: \n\n\nStart Small – Big leaps begin with tiny steps. Read a book on a new topic before enrolling in a course. \n\n\nReframe “Failure” – Missteps are data\, not defeat. Every explorer hits dead ends before finding their path. \n\n\nFind a Cheerleader – Share your plans with someone who’ll encourage you. \n\n\nRemember: Growth happens outside comfort zones. \nKeeping the Spirit Alive Beyond July 9\nDon’t let inspiration fade after one day. Try these habits: \n\n\nMonthly Challenges – Each month\, tackle one thing that scares or excites you. \n\n\nAdventure Fund – Set aside money for future travels or experiences. \n\n\nHorizon Reminders – Keep a quote or photo on your desk to stay motivated. \n\n\nFinal Thought: What’s Your Horizon?\nCall of the Horizon Day isn’t about drastic change—it’s about listening to that quiet tug toward something more. Whether your “horizon” is a mountain peak\, a creative project\, or inner peace\, today’s the day to lean in. \nWhat’s calling to you from the horizon? Share your dreams or upcoming adventures below—we’d love to cheer you on! \n“Please note that some of the links in this blog post are affiliate links. This means that if you click on a link and make a purchase\, I may receive a commission. This helps support my blog and allows me to continue creating content for you. Thank you for your support!”  \nAll about July\nJuly Celebrations and Holidays
URL:https://celebratethis.holiday/event/call-of-the-horizon-day/2030-07-09/
CATEGORIES:Daily,EUE,Fun,People
ATTACH;FMTTYPE=image/jpeg:https://celebratethis.holiday/wp-content/uploads/2025/07/alone-21842_1280.jpg
END:VEVENT
BEGIN:VEVENT
DTSTART;VALUE=DATE:20300710
DTEND;VALUE=DATE:20300711
DTSTAMP:20260425T124054
CREATED:20250711T152824Z
LAST-MODIFIED:20250711T152824Z
UID:10000440-1909872000-1909958399@celebratethis.holiday
SUMMARY:Paws and Celebrate: The Ultimate Guide to National Kitten Day
DESCRIPTION:All about July\nJuly Celebrations and Holidays\nEvery year on July 10\, cat lovers unite to celebrate National Kitten Day—a day dedicated to the tiny\, whiskered bundles of joy that steal our hearts. Whether you’re a lifelong cat enthusiast or a new kitten parent\, this day is all about showering love on these playful\, purring companions. \nFrom their mischievous antics to their heart-melting cuddles\, kittens bring endless happiness. But this holiday isn’t just about cuteness overload—it’s also a chance to advocate for kitten welfare\, promote adoptions\, and educate others on responsible pet care. \nReady to dive into the world of kitten appreciation? Let’s explore the history of this special day\, fun ways to celebrate\, and how you can make a difference in a kitten’s life. \nThe History of National Kitten Day\nNational Kitten Day was founded in 2012 by animal advocate Colleen Paige\, who also created other pet-centric holidays like National Dog Day and National Cat Day. Her goal? To raise awareness about the millions of kittens in shelters needing forever homes—and to celebrate the joy they bring to our lives. \nKittens have been beloved companions for centuries. Ancient Egyptians revered cats\, and sailors kept them on ships to control pests. Today\, they’re internet superstars\, therapy animals\, and cherished family members. This holiday reminds us that behind every viral kitten video is a real-life feline deserving love\, safety\, and care. \nWhy Kittens Deserve Their Own Day\nKittens aren’t just adorable—they’re also vulnerable. Many end up in shelters due to unplanned litters\, abandonment\, or rescue situations. National Kitten Day highlights: \n\nThe importance of adoption – Shelters overflow with kittens needing homes.\nSpay/neuter awareness – Preventing overpopulation saves lives.\nThe healing power of kittens – Their playfulness reduces stress and boosts mental health.\n\nPlus\, who can resist those tiny paws\, curious eyes\, and endless energy? Celebrating them is a no-brainer! \n10 Ways to Celebrate National Kitten Day\n1. Adopt or Foster a Kitten\nVisit a local shelter or rescue group. If you’re not ready for a lifelong commitment\, consider fostering—it’s a lifesaving temporary gig! \n2. Donate to Kitten Causes\nSupport organizations like Kitten Lady\, ASPCA\, or local shelters. Even small donations fund food\, vaccines\, and medical care. \n3. Volunteer at a Shelter\nPlay with kittens\, clean cages\, or help with social media. Shelters always need extra hands during “kitten season” (spring/summer). \n4. Spoil Your Own Kitten\nBreak out new toys\, bake cat-safe treats\, or set up a DIY cardboard castle. Even a simple feather wand session will thrill them. \n5. Share the Love Online\nPost photos of your kitten with #NationalKittenDay. Tag adoption agencies to help kitties go viral—and get adopted! \n6. Educate Others\nTeach friends about spaying/neutering\, kitten care basics\, or how to spot a stray in need. Knowledge saves lives. \n7. Throw a Kitten Party\nInvite fellow cat lovers for a themed gathering. Serve cat-shaped cookies\, watch kitten documentaries (“Kedi” is purr-fect)\, or host a toy-making craft station. \n8. Support TNR Programs\nTrap-Neuter-Return (TNR) helps community cats. Donate supplies or volunteer with local groups. \n9. Watch Kitten Livestreams\nCan’t adopt? Tune into shelters’ live cams or YouTube channels like The Kitten Lady for fuzzy serotonin boosts. \n10. Advocate for Kitten-Friendly Policies\nPush for pet-friendly housing laws or workplace policies that support adopters. Every voice helps! \nKitten Care 101: Tips for New Owners\nIf you’re celebrating by bringing home a new furball\, keep these tips in mind: \n\nVet visits first – Schedule vaccinations\, deworming\, and a health check.\nKitten-proof your home – Hide cords\, toxic plants\, and small objects they might swallow.\nStick to kitten food – They need nutrient-rich meals for growth.\nSocialize early – Gentle handling and play build confidence.\nPatience is key – Litter training takes time—stay consistent!\n\nThe Impact of Celebrating Responsibly\nNational Kitten Day isn’t just about cute photos—it’s a movement. By adopting\, donating\, or educating\, you’re helping reduce euthanasia rates and creating happier futures for kittens. Even small actions\, like sharing an adoption post\, can connect a kitten with their perfect family. \nFinal Thought: What’s Your Kitten Story?\nWhether you’re snuggling a foster fail\, reminiscing about your first childhood cat\, or daydreaming about adopting\, kittens leave paw prints on our hearts. This July 10\, take a moment to celebrate their magic—and consider how you can make a difference. \nHow will YOU celebrate National Kitten Day? Share your favorite kitten memories\, photos\, or adoption stories below!  \n“Please note that some of the links in this blog post are affiliate links. This means that if you click on a link and make a purchase\, I may receive a commission. This helps support my blog and allows me to continue creating content for you. Thank you for your support!”  \nAll about July\nJuly Celebrations and Holidays
URL:https://celebratethis.holiday/event/national-kitten-day/2030-07-10/
ATTACH;FMTTYPE=image/jpeg:https://celebratethis.holiday/wp-content/uploads/2025/07/cats-1209743_1280-e1752247673237.jpg
END:VEVENT
BEGIN:VEVENT
DTSTART;VALUE=DATE:20300711
DTEND;VALUE=DATE:20300712
DTSTAMP:20260425T124054
CREATED:20250711T154336Z
LAST-MODIFIED:20250711T160515Z
UID:10000447-1909958400-1910044799@celebratethis.holiday
SUMMARY:National Cheer Up the Lonely Day: Spread Joy and Connection
DESCRIPTION:All about July\nJuly Celebrations and Holidays\nEvery year on July 11\, Cheer Up the Lonely Day encourages us to reach out to those who feel isolated. In a world where loneliness affects millions\, this simple yet powerful holiday reminds us that small acts of kindness can brighten someone’s entire week. \nWhether it’s a friend going through a tough time\, an elderly neighbor\, or a stranger who seems withdrawn\, this day is about fostering connection. Let’s explore the history of this heartwarming observance\, why it matters\, and creative ways to make a difference. \nThe History of Cheer Up the Lonely Day\nThe origins of this day trace back to Francis Pesek\, a Michigan man known for his quiet generosity. Pesek\, who passed away in 1995\, believed in uplifting others through small\, thoughtful gestures. His daughter later championed the day to honor his legacy of compassion. \nLoneliness isn’t just emotional—it impacts physical health too. Studies link chronic loneliness to higher risks of heart disease\, depression\, and weakened immunity. Cheer Up the Lonely Day combats this by promoting intentional acts of connection. \nWhy This Day Matters More Than Ever\nModern life can be surprisingly isolating. Busy schedules\, digital overload\, and societal shifts mean many people feel disconnected—even in crowded rooms. Consider these eye-opening facts: \n\n\n1 in 3 adults worldwide report feeling lonely (WHO). \n\n\nSocial isolation increases mortality risk as much as smoking (CDC). \n\n\nYoung adults (18–22) are the loneliest demographic (Cigna Study). \n\n\nThis day isn’t just about cheering someone up—it’s about reminding them they’re valued. A quick call or handwritten note can be a lifeline. \n10 Meaningful Ways to Celebrate\n1. Reconnect with Someone\nText\, call\, or visit a friend or family member you haven’t spoken to in a while. Say\, “I’ve been thinking about you!” \n2. Surprise a Neighbor\nDrop off homemade cookies\, a book\, or a potted plant with a note. Small gestures spark big smiles. \n3. Volunteer Virtually or In-Person\nJoin organizations like The Friendship Bench or Meals on Wheels\, which combat loneliness in seniors. \n4. Write Encouraging Letters\nSend cards to nursing homes\, hospitals\, or military personnel via programs like Letters Against Isolation. \n5. Host a Low-Pressure Gathering\nInvite someone new for coffee\, a walk\, or a game night. Keep it casual—no pressure to “perform” socially. \n6. Compliment a Stranger\nTell a barista you love their laugh\, or thank a cashier for their patience. Kindness is contagious. \n7. Share Uplifting Content\nPost a positive story or meme on social media with #CheerUpTheLonelyDay. Tag someone who needs a boost. \n8. Visit Animal Shelters\nPlay with adoptable pets—their unconditional love comforts lonely hearts (including yours!). \n9. Donate Time to Youth Programs\nMany teens feel lonely. Mentor through Big Brothers Big Sisters or tutor at local schools. \n10. Practice Active Listening\nAsk open-ended questions like\, “What’s bringing you joy lately?” Sometimes\, people just need to be heard. \nCreative Ideas for Shy People\nNot everyone feels comfortable reaching out. Try these subtle yet impactful moves: \n\n\nLeave a positive review for a small business owner. \n\n\nPay for someone’s coffee anonymously. \n\n\nSmile and make eye contact—it signals warmth without words. \n\n\nThe Science Behind Connection\nHuman brains are wired for social bonds. When we connect: \n\n\nOxytocin (“the love hormone”) reduces stress. \n\n\nDopamine boosts mood and motivation. \n\n\nSerotonin promotes feelings of safety. \n\n\nEven brief interactions create ripple effects. Your kindness today could inspire someone to pay it forward tomorrow. \nOvercoming the “Awkwardness” Fear\nWorried about intruding? Remember: \n\n\nMost lonely people won’t ask for help but appreciate outreach. \n\n\nA simple “How are you\, really?” opens doors. \n\n\nIf they decline\, you’ve still shown you care. \n\n\nHow to Keep the Spirit Alive Year-Round\nTurn July 11 into a lifelong habit: \n\n\nSchedule monthly check-ins with distant friends. \n\n\nJoin community groups (hobby clubs\, volunteering). \n\n\nPractice gratitude—it makes you more attuned to others’ needs. \n\n\nFinal Thought: Who Will You Uplift Today?\nLoneliness thrives in silence. Cheer Up the Lonely Day is a nudge to disrupt that silence with warmth. Whether you send a meme\, share a meal\, or simply listen\, your action matters. \nWho’s someone in your life who’d love to hear from you today? Share your plans or past acts of kindness in the comments—let’s inspire each other! \n“Please note that some of the links in this blog post are affiliate links. This means that if you click on a link and make a purchase\, I may receive a commission. This helps support my blog and allows me to continue creating content for you. Thank you for your support!”  \nAll about July\nJuly Celebrations and Holidays
URL:https://celebratethis.holiday/event/cheer-up-the-lonely-day-spread-joy-and-connection/2030-07-11/
CATEGORIES:Daily,EUE,National,People
ATTACH;FMTTYPE=image/jpeg:https://celebratethis.holiday/wp-content/uploads/2025/07/heart-8390212_12801.jpg
END:VEVENT
END:VCALENDAR